BEGIN:VCALENDAR
VERSION:2.0
PRODID:-//QuickScores.com//BQ Dynamic iCal Creator//EN
METHOD:PUBLISH
X-WR-CALNAME:99 Problems & a Pitch Ain&#039;t One - Thursday D3 - 2023 Spring Softball
X-WR-CALDESC:QuickScores game calendar
X-PUBLISHED-TTL:PT24H
REFRESH-INTERVAL;VALUE=DURATION:PT24H
CALSCALE:GREGORIAN
BEGIN:VTIMEZONE
TZID:America/Los_Angeles
X-LIC-LOCATION:America/Los_Angeles
BEGIN:DAYLIGHT
TZNAME:PDT
TZOFFSETFROM:-0800
TZOFFSETTO:-0700
DTSTART:19700308T020000
RRULE:FREQ=YEARLY;BYMONTH=3;BYDAY=2SU
END:DAYLIGHT
BEGIN:STANDARD
TZNAME:PST
TZOFFSETFROM:-0700
TZOFFSETTO:-0800
DTSTART:19701101T020000
RRULE:FREQ=YEARLY;BYMONTH=11;BYDAY=1SU
END:STANDARD
END:VTIMEZONE
BEGIN:VEVENT
UID:crpd-57080688-20230406T184500@quickscores.com
DTSTAMP:20260423T152300Z
DTSTART;TZID=America/Los_Angeles:20230406T184500
DURATION:PT1H15M0S
SUMMARY:99 Problems & a Pitch Ain't One vs. Ding Bats
DESCRIPTION:Thursday D3 - Conejo Recreation and Park District
LOCATION:Pepper Tree Playfield #2
CATEGORIES:QuickScores, Softball - Adult Game
TRANSP:OPAQUE
BEGIN:VALARM
TRIGGER:-PT2H
ACTION:DISPLAY
DESCRIPTION:99 Problems & a Pitch Ain't One vs. Ding Bats
END:VALARM
END:VEVENT
BEGIN:VEVENT
UID:crpd-57080689-20230420T200000@quickscores.com
DTSTAMP:20260423T152300Z
DTSTART;TZID=America/Los_Angeles:20230420T200000
DURATION:PT1H15M0S
SUMMARY:99 Problems & a Pitch Ain't One vs. Inglorious Batters
DESCRIPTION:Thursday D3 - Conejo Recreation and Park District
LOCATION:Pepper Tree Playfield #2
CATEGORIES:QuickScores, Softball - Adult Game
TRANSP:OPAQUE
BEGIN:VALARM
TRIGGER:-PT2H
ACTION:DISPLAY
DESCRIPTION:99 Problems & a Pitch Ain't One vs. Inglorious Batters
END:VALARM
END:VEVENT
BEGIN:VEVENT
UID:crpd-57080692-20230427T184500@quickscores.com
DTSTAMP:20260423T152300Z
DTSTART;TZID=America/Los_Angeles:20230427T184500
DURATION:PT1H15M0S
SUMMARY:99 Problems & a Pitch Ain't One vs. Balls Deep
DESCRIPTION:Thursday D3 - Conejo Recreation and Park District
LOCATION:Pepper Tree Playfield #2
CATEGORIES:QuickScores, Softball - Adult Game
TRANSP:OPAQUE
BEGIN:VALARM
TRIGGER:-PT2H
ACTION:DISPLAY
DESCRIPTION:99 Problems & a Pitch Ain't One vs. Balls Deep
END:VALARM
END:VEVENT
BEGIN:VEVENT
UID:crpd-57080695-20230511T184500@quickscores.com
DTSTAMP:20260423T152300Z
DTSTART;TZID=America/Los_Angeles:20230511T184500
DURATION:PT1H15M0S
SUMMARY:Inglorious Batters vs. 99 Problems & a Pitch Ain't One
DESCRIPTION:Thursday D3 - Conejo Recreation and Park District
LOCATION:Pepper Tree Playfield #2
CATEGORIES:QuickScores, Softball - Adult Game
TRANSP:OPAQUE
BEGIN:VALARM
TRIGGER:-PT2H
ACTION:DISPLAY
DESCRIPTION:Inglorious Batters vs. 99 Problems & a Pitch Ain't One
END:VALARM
END:VEVENT
BEGIN:VEVENT
UID:crpd-57080698-20230518T184500@quickscores.com
DTSTAMP:20260423T152300Z
DTSTART;TZID=America/Los_Angeles:20230518T184500
DURATION:PT1H15M0S
SUMMARY:Balls Deep vs. 99 Problems & a Pitch Ain't One
DESCRIPTION:Thursday D3 - Conejo Recreation and Park District
LOCATION:Pepper Tree Playfield #2
CATEGORIES:QuickScores, Softball - Adult Game
TRANSP:OPAQUE
BEGIN:VALARM
TRIGGER:-PT2H
ACTION:DISPLAY
DESCRIPTION:Balls Deep vs. 99 Problems & a Pitch Ain't One
END:VALARM
END:VEVENT
BEGIN:VEVENT
UID:crpd-57080700-20230525T184500@quickscores.com
DTSTAMP:20260423T152300Z
DTSTART;TZID=America/Los_Angeles:20230525T184500
DURATION:PT1H15M0S
SUMMARY:99 Problems & a Pitch Ain't One vs. Ding Bats
DESCRIPTION:Thursday D3 - Conejo Recreation and Park District
LOCATION:Pepper Tree Playfield #2
CATEGORIES:QuickScores, Softball - Adult Game
TRANSP:OPAQUE
BEGIN:VALARM
TRIGGER:-PT2H
ACTION:DISPLAY
DESCRIPTION:99 Problems & a Pitch Ain't One vs. Ding Bats
END:VALARM
END:VEVENT
BEGIN:VEVENT
UID:crpd-57080701-20230601T184500@quickscores.com
DTSTAMP:20260423T152300Z
DTSTART;TZID=America/Los_Angeles:20230601T184500
DURATION:PT1H15M0S
SUMMARY:99 Problems & a Pitch Ain't One vs. Inglorious Batters
DESCRIPTION:Thursday D3 - Conejo Recreation and Park District
LOCATION:Pepper Tree Playfield #2
CATEGORIES:QuickScores, Softball - Adult Game
TRANSP:OPAQUE
BEGIN:VALARM
TRIGGER:-PT2H
ACTION:DISPLAY
DESCRIPTION:99 Problems & a Pitch Ain't One vs. Inglorious Batters
END:VALARM
END:VEVENT
BEGIN:VEVENT
UID:crpd-57080683-20230608T200000@quickscores.com
DTSTAMP:20260423T152300Z
DTSTART;TZID=America/Los_Angeles:20230608T200000
DURATION:PT1H15M0S
SUMMARY:Inglorious Batters vs. 99 Problems & a Pitch Ain't One
DESCRIPTION:Rescheduled Game From 3/23 --- Thursday D3 - Conejo Recreation and Park District
LOCATION:Pepper Tree Playfield #2
CATEGORIES:QuickScores, Softball - Adult Game
TRANSP:OPAQUE
BEGIN:VALARM
TRIGGER:-PT2H
ACTION:DISPLAY
DESCRIPTION:Inglorious Batters vs. 99 Problems & a Pitch Ain't One
END:VALARM
END:VEVENT
BEGIN:VEVENT
UID:crpd-57080686-20230615T200000@quickscores.com
DTSTAMP:20260423T152300Z
DTSTART;TZID=America/Los_Angeles:20230615T200000
DURATION:PT1H15M0S
SUMMARY:Balls Deep vs. 99 Problems & a Pitch Ain't One
DESCRIPTION:Rescheduled Game From 3/30 --- Thursday D3 - Conejo Recreation and Park District
LOCATION:Pepper Tree Playfield #2
CATEGORIES:QuickScores, Softball - Adult Game
TRANSP:OPAQUE
BEGIN:VALARM
TRIGGER:-PT2H
ACTION:DISPLAY
DESCRIPTION:Balls Deep vs. 99 Problems & a Pitch Ain't One
END:VALARM
END:VEVENT
BEGIN:VEVENT
UID:crpd-57080694-20230622T200000@quickscores.com
DTSTAMP:20260423T152300Z
DTSTART;TZID=America/Los_Angeles:20230622T200000
DURATION:PT1H15M0S
SUMMARY:Ding Bats vs. 99 Problems & a Pitch Ain't One
DESCRIPTION:Rescheduled Game From 5/4 --- Thursday D3 - Conejo Recreation and Park District
LOCATION:Pepper Tree Playfield #2
CATEGORIES:QuickScores, Softball - Adult Game
TRANSP:OPAQUE
BEGIN:VALARM
TRIGGER:-PT2H
ACTION:DISPLAY
DESCRIPTION:Ding Bats vs. 99 Problems & a Pitch Ain't One
END:VALARM
END:VEVENT
BEGIN:VEVENT
UID:crpd-58389395-20230629T200000@quickscores.com
DTSTAMP:20260423T152300Z
DTSTART;TZID=America/Los_Angeles:20230629T200000
DURATION:PT1H15M0S
SUMMARY:[2] Inglorious Batters vs. [3] 99 Problems & a Pitch Ain't One
DESCRIPTION:Thursday D3 - Conejo Recreation and Park District
LOCATION:Pepper Tree Playfield #2
CATEGORIES:QuickScores, Softball - Adult Game
TRANSP:OPAQUE
BEGIN:VALARM
TRIGGER:-PT2H
ACTION:DISPLAY
DESCRIPTION:[2] Inglorious Batters vs. [3] 99 Problems & a Pitch Ain't One
END:VALARM
END:VEVENT
BEGIN:VEVENT
UID:crpd-58389396-20230706T200000@quickscores.com
DTSTAMP:20260423T152300Z
DTSTART;TZID=America/Los_Angeles:20230706T200000
DURATION:PT1H15M0S
SUMMARY:[1] Ding Bats vs. [3] 99 Problems & a Pitch Ain't One
DESCRIPTION:Thursday D3 - Conejo Recreation and Park District
LOCATION:Borchard Park Field #3
CATEGORIES:QuickScores, Softball - Adult Game
TRANSP:OPAQUE
BEGIN:VALARM
TRIGGER:-PT2H
ACTION:DISPLAY
DESCRIPTION:[1] Ding Bats vs. [3] 99 Problems & a Pitch Ain't One
END:VALARM
END:VEVENT
END:VCALENDAR
