BEGIN:VCALENDAR
VERSION:2.0
PRODID:-//QuickScores.com//BQ Dynamic iCal Creator//EN
METHOD:PUBLISH
X-WR-CALNAME:Beer Sox - Wednesday Men&#039;s - 2023 Spring Softball
X-WR-CALDESC:QuickScores game calendar
X-PUBLISHED-TTL:PT24H
REFRESH-INTERVAL;VALUE=DURATION:PT24H
CALSCALE:GREGORIAN
BEGIN:VTIMEZONE
TZID:America/Los_Angeles
X-LIC-LOCATION:America/Los_Angeles
BEGIN:DAYLIGHT
TZNAME:PDT
TZOFFSETFROM:-0800
TZOFFSETTO:-0700
DTSTART:19700308T020000
RRULE:FREQ=YEARLY;BYMONTH=3;BYDAY=2SU
END:DAYLIGHT
BEGIN:STANDARD
TZNAME:PST
TZOFFSETFROM:-0700
TZOFFSETTO:-0800
DTSTART:19701101T020000
RRULE:FREQ=YEARLY;BYMONTH=11;BYDAY=1SU
END:STANDARD
END:VTIMEZONE
BEGIN:VEVENT
UID:crpd-56596589-20230222T194500@quickscores.com
DTSTAMP:20260423T105100Z
DTSTART;TZID=America/Los_Angeles:20230222T194500
DURATION:PT1H15M0S
SUMMARY:NARDOGs vs. Beer Sox
DESCRIPTION:Wednesday Men's - Conejo Recreation and Park District
LOCATION:Borchard Park Field #3
CATEGORIES:QuickScores, Softball - Adult Game
TRANSP:OPAQUE
BEGIN:VALARM
TRIGGER:-PT2H
ACTION:DISPLAY
DESCRIPTION:NARDOGs vs. Beer Sox
END:VALARM
END:VEVENT
BEGIN:VEVENT
UID:crpd-56596595-20230308T183000@quickscores.com
DTSTAMP:20260423T105100Z
DTSTART;TZID=America/Los_Angeles:20230308T183000
DURATION:PT1H15M0S
SUMMARY:Beer Sox vs. In-Laws & Outlaws
DESCRIPTION:Wednesday Men's - Conejo Recreation and Park District
LOCATION:Borchard Park Field #3
CATEGORIES:QuickScores, Softball - Adult Game
TRANSP:OPAQUE
BEGIN:VALARM
TRIGGER:-PT2H
ACTION:DISPLAY
DESCRIPTION:Beer Sox vs. In-Laws & Outlaws
END:VALARM
END:VEVENT
BEGIN:VEVENT
UID:crpd-56596606-20230405T183000@quickscores.com
DTSTAMP:20260423T105100Z
DTSTART;TZID=America/Los_Angeles:20230405T183000
DURATION:PT1H15M0S
SUMMARY:Wednesday Warriors vs. Beer Sox
DESCRIPTION:Wednesday Men's - Conejo Recreation and Park District
LOCATION:Borchard Park Field #3
CATEGORIES:QuickScores, Softball - Adult Game
TRANSP:OPAQUE
BEGIN:VALARM
TRIGGER:-PT2H
ACTION:DISPLAY
DESCRIPTION:Wednesday Warriors vs. Beer Sox
END:VALARM
END:VEVENT
BEGIN:VEVENT
UID:crpd-56596610-20230419T194500@quickscores.com
DTSTAMP:20260423T105100Z
DTSTART;TZID=America/Los_Angeles:20230419T194500
DURATION:PT1H15M0S
SUMMARY:Beer Sox vs. NARDOGs
DESCRIPTION:Wednesday Men's - Conejo Recreation and Park District
LOCATION:Borchard Park Field #3
CATEGORIES:QuickScores, Softball - Adult Game
TRANSP:OPAQUE
BEGIN:VALARM
TRIGGER:-PT2H
ACTION:DISPLAY
DESCRIPTION:Beer Sox vs. NARDOGs
END:VALARM
END:VEVENT
BEGIN:VEVENT
UID:crpd-56596594-20230426T194500@quickscores.com
DTSTAMP:20260423T105100Z
DTSTART;TZID=America/Los_Angeles:20230426T194500
DURATION:PT1H15M0S
SUMMARY:In-Laws & Outlaws vs. Beer Sox
DESCRIPTION:Rescheduled Games From 3/1 --- Wednesday Men's - Conejo Recreation and Park District
LOCATION:Borchard Park Field #3
CATEGORIES:QuickScores, Softball - Adult Game
TRANSP:OPAQUE
BEGIN:VALARM
TRIGGER:-PT2H
ACTION:DISPLAY
DESCRIPTION:In-Laws & Outlaws vs. Beer Sox
END:VALARM
END:VEVENT
BEGIN:VEVENT
UID:crpd-56596592-20230426T210000@quickscores.com
DTSTAMP:20260423T105100Z
DTSTART;TZID=America/Los_Angeles:20230426T210000
DURATION:PT1H15M0S
SUMMARY:Beer Sox vs. NARDOGs
DESCRIPTION:Rescheduled Games From 3/1 --- Wednesday Men's - Conejo Recreation and Park District
LOCATION:Borchard Park Field #3
CATEGORIES:QuickScores, Softball - Adult Game
TRANSP:OPAQUE
BEGIN:VALARM
TRIGGER:-PT2H
ACTION:DISPLAY
DESCRIPTION:Beer Sox vs. NARDOGs
END:VALARM
END:VEVENT
BEGIN:VEVENT
UID:crpd-56596600-20230503T210000@quickscores.com
DTSTAMP:20260423T105100Z
DTSTART;TZID=America/Los_Angeles:20230503T210000
DURATION:PT1H15M0S
SUMMARY:Beer Sox vs. Head First
DESCRIPTION:Rescheduled Games From 3/15 --- Wednesday Men's - Conejo Recreation and Park District
LOCATION:Borchard Park Field #3
CATEGORIES:QuickScores, Softball - Adult Game
TRANSP:OPAQUE
BEGIN:VALARM
TRIGGER:-PT2H
ACTION:DISPLAY
DESCRIPTION:Beer Sox vs. Head First
END:VALARM
END:VEVENT
BEGIN:VEVENT
UID:crpd-56596603-20230517T183000@quickscores.com
DTSTAMP:20260423T105100Z
DTSTART;TZID=America/Los_Angeles:20230517T183000
DURATION:PT1H15M0S
SUMMARY:Beer Sox vs. Wednesday Warriors
DESCRIPTION:Rescheduled Games From 3/22 --- Wednesday Men's - Conejo Recreation and Park District
LOCATION:Borchard Park Field #3
CATEGORIES:QuickScores, Softball - Adult Game
TRANSP:OPAQUE
BEGIN:VALARM
TRIGGER:-PT2H
ACTION:DISPLAY
DESCRIPTION:Beer Sox vs. Wednesday Warriors
END:VALARM
END:VEVENT
BEGIN:VEVENT
UID:crpd-56596609-20230524T210000@quickscores.com
DTSTAMP:20260423T105100Z
DTSTART;TZID=America/Los_Angeles:20230524T210000
DURATION:PT1H15M0S
SUMMARY:Head First vs. Beer Sox
DESCRIPTION:Rescheduled Games From 3/29 --- Wednesday Men's - Conejo Recreation and Park District
LOCATION:Borchard Park Field #3
CATEGORIES:QuickScores, Softball - Adult Game
TRANSP:OPAQUE
BEGIN:VALARM
TRIGGER:-PT2H
ACTION:DISPLAY
DESCRIPTION:Head First vs. Beer Sox
END:VALARM
END:VEVENT
BEGIN:VEVENT
UID:crpd-56596613-20230531T184500@quickscores.com
DTSTAMP:20260423T105100Z
DTSTART;TZID=America/Los_Angeles:20230531T184500
DURATION:PT1H15M0S
SUMMARY:In-Laws & Outlaws vs. Beer Sox
DESCRIPTION:Wednesday Men's - Conejo Recreation and Park District
LOCATION:Borchard Park Field #3
CATEGORIES:QuickScores, Softball - Adult Game
TRANSP:OPAQUE
BEGIN:VALARM
TRIGGER:-PT2H
ACTION:DISPLAY
DESCRIPTION:In-Laws & Outlaws vs. Beer Sox
END:VALARM
END:VEVENT
BEGIN:VEVENT
UID:crpd-58333260-20230607T184500@quickscores.com
DTSTAMP:20260423T105100Z
DTSTART;TZID=America/Los_Angeles:20230607T184500
DURATION:PT1H15M0S
SUMMARY:[2] Beer Sox vs. [3] Wednesday Warriors
DESCRIPTION:Wednesday Men's - Conejo Recreation and Park District
LOCATION:Borchard Park Field #3
CATEGORIES:QuickScores, Softball - Adult Game
TRANSP:OPAQUE
BEGIN:VALARM
TRIGGER:-PT2H
ACTION:DISPLAY
DESCRIPTION:[2] Beer Sox vs. [3] Wednesday Warriors
END:VALARM
END:VEVENT
BEGIN:VEVENT
UID:crpd-58333262-20230614T194500@quickscores.com
DTSTAMP:20260423T105100Z
DTSTART;TZID=America/Los_Angeles:20230614T194500
DURATION:PT1H15M0S
SUMMARY:[2] Beer Sox vs. [1] NARDOGs
DESCRIPTION:Wednesday Men's - Conejo Recreation and Park District
LOCATION:Borchard Park Field #3
CATEGORIES:QuickScores, Softball - Adult Game
TRANSP:OPAQUE
BEGIN:VALARM
TRIGGER:-PT2H
ACTION:DISPLAY
DESCRIPTION:[2] Beer Sox vs. [1] NARDOGs
END:VALARM
END:VEVENT
END:VCALENDAR
