BEGIN:VCALENDAR
VERSION:2.0
PRODID:-//QuickScores.com//BQ Dynamic iCal Creator//EN
METHOD:PUBLISH
X-WR-CALNAME:No Mercy - Wednesday Coed - 2023 Spring Softball
X-WR-CALDESC:QuickScores game calendar
X-PUBLISHED-TTL:PT24H
REFRESH-INTERVAL;VALUE=DURATION:PT24H
CALSCALE:GREGORIAN
BEGIN:VTIMEZONE
TZID:America/Los_Angeles
X-LIC-LOCATION:America/Los_Angeles
BEGIN:DAYLIGHT
TZNAME:PDT
TZOFFSETFROM:-0800
TZOFFSETTO:-0700
DTSTART:19700308T020000
RRULE:FREQ=YEARLY;BYMONTH=3;BYDAY=2SU
END:DAYLIGHT
BEGIN:STANDARD
TZNAME:PST
TZOFFSETFROM:-0700
TZOFFSETTO:-0800
DTSTART:19701101T020000
RRULE:FREQ=YEARLY;BYMONTH=11;BYDAY=1SU
END:STANDARD
END:VTIMEZONE
BEGIN:VEVENT
UID:crpd-56594151-20230222T184500@quickscores.com
DTSTAMP:20260421T034200Z
DTSTART;TZID=America/Los_Angeles:20230222T184500
DURATION:PT1H15M0S
SUMMARY:No Mercy vs. Lombardi Party
DESCRIPTION:Wednesday Coed - Conejo Recreation and Park District
LOCATION:Borchard Park Field #1
CATEGORIES:QuickScores, Softball - Adult Game
TRANSP:OPAQUE
BEGIN:VALARM
TRIGGER:-PT2H
ACTION:DISPLAY
DESCRIPTION:No Mercy vs. Lombardi Party
END:VALARM
END:VEVENT
BEGIN:VEVENT
UID:crpd-56594133-20230308T184500@quickscores.com
DTSTAMP:20260421T034200Z
DTSTART;TZID=America/Los_Angeles:20230308T184500
DURATION:PT1H15M0S
SUMMARY:NP Brew Crew vs. No Mercy
DESCRIPTION:Wednesday Coed - Conejo Recreation and Park District
LOCATION:Borchard Park Field #1
CATEGORIES:QuickScores, Softball - Adult Game
TRANSP:OPAQUE
BEGIN:VALARM
TRIGGER:-PT2H
ACTION:DISPLAY
DESCRIPTION:NP Brew Crew vs. No Mercy
END:VALARM
END:VEVENT
BEGIN:VEVENT
UID:crpd-56594165-20230405T200000@quickscores.com
DTSTAMP:20260421T034200Z
DTSTART;TZID=America/Los_Angeles:20230405T200000
DURATION:PT1H15M0S
SUMMARY:Make it a Double vs. No Mercy
DESCRIPTION:Wednesday Coed - Conejo Recreation and Park District
LOCATION:Borchard Park Field #1
CATEGORIES:QuickScores, Softball - Adult Game
TRANSP:OPAQUE
BEGIN:VALARM
TRIGGER:-PT2H
ACTION:DISPLAY
DESCRIPTION:Make it a Double vs. No Mercy
END:VALARM
END:VEVENT
BEGIN:VEVENT
UID:crpd-56594156-20230419T200000@quickscores.com
DTSTAMP:20260421T034200Z
DTSTART;TZID=America/Los_Angeles:20230419T200000
DURATION:PT1H15M0S
SUMMARY:No Mercy vs. Hanson Lab Rats
DESCRIPTION:Wednesday Coed - Conejo Recreation and Park District
LOCATION:Borchard Park Field #1
CATEGORIES:QuickScores, Softball - Adult Game
TRANSP:OPAQUE
BEGIN:VALARM
TRIGGER:-PT2H
ACTION:DISPLAY
DESCRIPTION:No Mercy vs. Hanson Lab Rats
END:VALARM
END:VEVENT
BEGIN:VEVENT
UID:crpd-56594161-20230426T184500@quickscores.com
DTSTAMP:20260421T034200Z
DTSTART;TZID=America/Los_Angeles:20230426T184500
DURATION:PT1H15M0S
SUMMARY:No Mercy vs. NP Brew Crew
DESCRIPTION:Wednesday Coed - Conejo Recreation and Park District
LOCATION:Borchard Park Field #2
CATEGORIES:QuickScores, Softball - Adult Game
TRANSP:OPAQUE
BEGIN:VALARM
TRIGGER:-PT2H
ACTION:DISPLAY
DESCRIPTION:No Mercy vs. NP Brew Crew
END:VALARM
END:VEVENT
BEGIN:VEVENT
UID:crpd-56594155-20230503T200000@quickscores.com
DTSTAMP:20260421T034200Z
DTSTART;TZID=America/Los_Angeles:20230503T200000
DURATION:PT1H15M0S
SUMMARY:No Mercy vs. TNO Events
DESCRIPTION:Wednesday Coed - Conejo Recreation and Park District
LOCATION:Borchard Park Field #2
CATEGORIES:QuickScores, Softball - Adult Game
TRANSP:OPAQUE
BEGIN:VALARM
TRIGGER:-PT2H
ACTION:DISPLAY
DESCRIPTION:No Mercy vs. TNO Events
END:VALARM
END:VEVENT
BEGIN:VEVENT
UID:crpd-56594137-20230510T184500@quickscores.com
DTSTAMP:20260421T034200Z
DTSTART;TZID=America/Los_Angeles:20230510T184500
DURATION:PT1H15M0S
SUMMARY:No Mercy vs. Make it a Double
DESCRIPTION:Rescheduled Games From 3/1 --- Wednesday Coed - Conejo Recreation and Park District
LOCATION:Borchard Park Field #2
CATEGORIES:QuickScores, Softball - Adult Game
TRANSP:OPAQUE
BEGIN:VALARM
TRIGGER:-PT2H
ACTION:DISPLAY
DESCRIPTION:No Mercy vs. Make it a Double
END:VALARM
END:VEVENT
BEGIN:VEVENT
UID:crpd-56594142-20230517T184500@quickscores.com
DTSTAMP:20260421T034200Z
DTSTART;TZID=America/Los_Angeles:20230517T184500
DURATION:PT1H15M0S
SUMMARY:Baron Von Awesomes vs. No Mercy
DESCRIPTION:Rescheduled Games From 3/15 --- Wednesday Coed - Conejo Recreation and Park District
LOCATION:Borchard Park Field #2
CATEGORIES:QuickScores, Softball - Adult Game
TRANSP:OPAQUE
BEGIN:VALARM
TRIGGER:-PT2H
ACTION:DISPLAY
DESCRIPTION:Baron Von Awesomes vs. No Mercy
END:VALARM
END:VEVENT
BEGIN:VEVENT
UID:crpd-56594146-20230524T200000@quickscores.com
DTSTAMP:20260421T034200Z
DTSTART;TZID=America/Los_Angeles:20230524T200000
DURATION:PT1H15M0S
SUMMARY:Big Stink vs. No Mercy
DESCRIPTION:Rescheduled Games From 3/22 --- Wednesday Coed - Conejo Recreation and Park District
LOCATION:Borchard Park Field #1
CATEGORIES:QuickScores, Softball - Adult Game
TRANSP:OPAQUE
BEGIN:VALARM
TRIGGER:-PT2H
ACTION:DISPLAY
DESCRIPTION:Big Stink vs. No Mercy
END:VALARM
END:VEVENT
BEGIN:VEVENT
UID:crpd-56594128-20230531T200000@quickscores.com
DTSTAMP:20260421T034200Z
DTSTART;TZID=America/Los_Angeles:20230531T200000
DURATION:PT1H15M0S
SUMMARY:Hanson Lab Rats vs. No Mercy
DESCRIPTION:Rescheduled Games From 3/29 --- Wednesday Coed - Conejo Recreation and Park District
LOCATION:Borchard Park Field #2
CATEGORIES:QuickScores, Softball - Adult Game
TRANSP:OPAQUE
BEGIN:VALARM
TRIGGER:-PT2H
ACTION:DISPLAY
DESCRIPTION:Hanson Lab Rats vs. No Mercy
END:VALARM
END:VEVENT
END:VCALENDAR
