BEGIN:VCALENDAR
VERSION:2.0
PRODID:-//QuickScores.com//BQ Dynamic iCal Creator//EN
METHOD:PUBLISH
X-WR-CALNAME:Big Stink - Wednesday Coed - 2023 Spring Softball
X-WR-CALDESC:QuickScores game calendar
X-PUBLISHED-TTL:PT24H
REFRESH-INTERVAL;VALUE=DURATION:PT24H
CALSCALE:GREGORIAN
BEGIN:VTIMEZONE
TZID:America/Los_Angeles
X-LIC-LOCATION:America/Los_Angeles
BEGIN:DAYLIGHT
TZNAME:PDT
TZOFFSETFROM:-0800
TZOFFSETTO:-0700
DTSTART:19700308T020000
RRULE:FREQ=YEARLY;BYMONTH=3;BYDAY=2SU
END:DAYLIGHT
BEGIN:STANDARD
TZNAME:PST
TZOFFSETFROM:-0700
TZOFFSETTO:-0800
DTSTART:19701101T020000
RRULE:FREQ=YEARLY;BYMONTH=11;BYDAY=1SU
END:STANDARD
END:VTIMEZONE
BEGIN:VEVENT
UID:crpd-56594148-20230222T184500@quickscores.com
DTSTAMP:20260423T215700Z
DTSTART;TZID=America/Los_Angeles:20230222T184500
DURATION:PT1H15M0S
SUMMARY:Big Stink vs. Hanson Lab Rats
DESCRIPTION:Wednesday Coed - Conejo Recreation and Park District
LOCATION:Borchard Park Field #2
CATEGORIES:QuickScores, Softball - Adult Game
TRANSP:OPAQUE
BEGIN:VALARM
TRIGGER:-PT2H
ACTION:DISPLAY
DESCRIPTION:Big Stink vs. Hanson Lab Rats
END:VALARM
END:VEVENT
BEGIN:VEVENT
UID:crpd-56594134-20230308T184500@quickscores.com
DTSTAMP:20260423T215700Z
DTSTART;TZID=America/Los_Angeles:20230308T184500
DURATION:PT1H15M0S
SUMMARY:Big Stink vs. Lombardi Party
DESCRIPTION:Wednesday Coed - Conejo Recreation and Park District
LOCATION:Borchard Park Field #2
CATEGORIES:QuickScores, Softball - Adult Game
TRANSP:OPAQUE
BEGIN:VALARM
TRIGGER:-PT2H
ACTION:DISPLAY
DESCRIPTION:Big Stink vs. Lombardi Party
END:VALARM
END:VEVENT
BEGIN:VEVENT
UID:crpd-56594167-20230405T200000@quickscores.com
DTSTAMP:20260423T215700Z
DTSTART;TZID=America/Los_Angeles:20230405T200000
DURATION:PT1H15M0S
SUMMARY:Big Stink vs. NP Brew Crew
DESCRIPTION:Wednesday Coed - Conejo Recreation and Park District
LOCATION:Borchard Park Field #2
CATEGORIES:QuickScores, Softball - Adult Game
TRANSP:OPAQUE
BEGIN:VALARM
TRIGGER:-PT2H
ACTION:DISPLAY
DESCRIPTION:Big Stink vs. NP Brew Crew
END:VALARM
END:VEVENT
BEGIN:VEVENT
UID:crpd-56594159-20230419T200000@quickscores.com
DTSTAMP:20260423T215700Z
DTSTART;TZID=America/Los_Angeles:20230419T200000
DURATION:PT1H15M0S
SUMMARY:Baron Von Awesomes vs. Big Stink
DESCRIPTION:Wednesday Coed - Conejo Recreation and Park District
LOCATION:Borchard Park Field #2
CATEGORIES:QuickScores, Softball - Adult Game
TRANSP:OPAQUE
BEGIN:VALARM
TRIGGER:-PT2H
ACTION:DISPLAY
DESCRIPTION:Baron Von Awesomes vs. Big Stink
END:VALARM
END:VEVENT
BEGIN:VEVENT
UID:crpd-56594162-20230426T200000@quickscores.com
DTSTAMP:20260423T215700Z
DTSTART;TZID=America/Los_Angeles:20230426T200000
DURATION:PT1H15M0S
SUMMARY:Lombardi Party vs. Big Stink
DESCRIPTION:Wednesday Coed - Conejo Recreation and Park District
LOCATION:Borchard Park Field #1
CATEGORIES:QuickScores, Softball - Adult Game
TRANSP:OPAQUE
BEGIN:VALARM
TRIGGER:-PT2H
ACTION:DISPLAY
DESCRIPTION:Lombardi Party vs. Big Stink
END:VALARM
END:VEVENT
BEGIN:VEVENT
UID:crpd-56594153-20230503T184500@quickscores.com
DTSTAMP:20260423T215700Z
DTSTART;TZID=America/Los_Angeles:20230503T184500
DURATION:PT1H15M0S
SUMMARY:Make it a Double vs. Big Stink
DESCRIPTION:Wednesday Coed - Conejo Recreation and Park District
LOCATION:Borchard Park Field #1
CATEGORIES:QuickScores, Softball - Adult Game
TRANSP:OPAQUE
BEGIN:VALARM
TRIGGER:-PT2H
ACTION:DISPLAY
DESCRIPTION:Make it a Double vs. Big Stink
END:VALARM
END:VEVENT
BEGIN:VEVENT
UID:crpd-56594139-20230510T200000@quickscores.com
DTSTAMP:20260423T215700Z
DTSTART;TZID=America/Los_Angeles:20230510T200000
DURATION:PT1H15M0S
SUMMARY:NP Brew Crew vs. Big Stink
DESCRIPTION:Rescheduled Games From 3/1 --- Wednesday Coed - Conejo Recreation and Park District
LOCATION:Borchard Park Field #1
CATEGORIES:QuickScores, Softball - Adult Game
TRANSP:OPAQUE
BEGIN:VALARM
TRIGGER:-PT2H
ACTION:DISPLAY
DESCRIPTION:NP Brew Crew vs. Big Stink
END:VALARM
END:VEVENT
BEGIN:VEVENT
UID:crpd-56594141-20230517T184500@quickscores.com
DTSTAMP:20260423T215700Z
DTSTART;TZID=America/Los_Angeles:20230517T184500
DURATION:PT1H15M0S
SUMMARY:TNO Events vs. Big Stink
DESCRIPTION:Rescheduled Games From 3/15 --- Wednesday Coed - Conejo Recreation and Park District
LOCATION:Borchard Park Field #1
CATEGORIES:QuickScores, Softball - Adult Game
TRANSP:OPAQUE
BEGIN:VALARM
TRIGGER:-PT2H
ACTION:DISPLAY
DESCRIPTION:TNO Events vs. Big Stink
END:VALARM
END:VEVENT
BEGIN:VEVENT
UID:crpd-56594146-20230524T200000@quickscores.com
DTSTAMP:20260423T215700Z
DTSTART;TZID=America/Los_Angeles:20230524T200000
DURATION:PT1H15M0S
SUMMARY:Big Stink vs. No Mercy
DESCRIPTION:Rescheduled Games From 3/22 --- Wednesday Coed - Conejo Recreation and Park District
LOCATION:Borchard Park Field #1
CATEGORIES:QuickScores, Softball - Adult Game
TRANSP:OPAQUE
BEGIN:VALARM
TRIGGER:-PT2H
ACTION:DISPLAY
DESCRIPTION:Big Stink vs. No Mercy
END:VALARM
END:VEVENT
BEGIN:VEVENT
UID:crpd-56594131-20230531T184500@quickscores.com
DTSTAMP:20260423T215700Z
DTSTART;TZID=America/Los_Angeles:20230531T184500
DURATION:PT1H15M0S
SUMMARY:Big Stink vs. Baron Von Awesomes
DESCRIPTION:Rescheduled Games From 3/29 --- Wednesday Coed - Conejo Recreation and Park District
LOCATION:Borchard Park Field #2
CATEGORIES:QuickScores, Softball - Adult Game
TRANSP:OPAQUE
BEGIN:VALARM
TRIGGER:-PT2H
ACTION:DISPLAY
DESCRIPTION:Big Stink vs. Baron Von Awesomes
END:VALARM
END:VEVENT
END:VCALENDAR
