BEGIN:VCALENDAR
VERSION:2.0
PRODID:-//QuickScores.com//BQ Dynamic iCal Creator//EN
METHOD:PUBLISH
X-WR-CALNAME:Let&#039;s Get Tropical - Thursday D - 2023 Spring Basketball
X-WR-CALDESC:QuickScores game calendar
X-PUBLISHED-TTL:PT24H
REFRESH-INTERVAL;VALUE=DURATION:PT24H
CALSCALE:GREGORIAN
BEGIN:VTIMEZONE
TZID:America/Los_Angeles
X-LIC-LOCATION:America/Los_Angeles
BEGIN:DAYLIGHT
TZNAME:PDT
TZOFFSETFROM:-0800
TZOFFSETTO:-0700
DTSTART:19700308T020000
RRULE:FREQ=YEARLY;BYMONTH=3;BYDAY=2SU
END:DAYLIGHT
BEGIN:STANDARD
TZNAME:PST
TZOFFSETFROM:-0700
TZOFFSETTO:-0800
DTSTART:19701101T020000
RRULE:FREQ=YEARLY;BYMONTH=11;BYDAY=1SU
END:STANDARD
END:VTIMEZONE
BEGIN:VEVENT
UID:crpd-56319932-20230209T193000@quickscores.com
DTSTAMP:20260420T150800Z
DTSTART;TZID=America/Los_Angeles:20230209T193000
DURATION:PT1H0M0S
SUMMARY:Let's Get Tropical vs. Flashes
DESCRIPTION:Thursday D - Conejo Recreation and Park District
LOCATION:Thousand Oaks Community Center
CATEGORIES:QuickScores, Basketball - Adult Game
TRANSP:OPAQUE
BEGIN:VALARM
TRIGGER:-PT2H
ACTION:DISPLAY
DESCRIPTION:Let's Get Tropical vs. Flashes
END:VALARM
END:VEVENT
BEGIN:VEVENT
UID:crpd-56319935-20230216T183000@quickscores.com
DTSTAMP:20260420T150800Z
DTSTART;TZID=America/Los_Angeles:20230216T183000
DURATION:PT1H0M0S
SUMMARY:Let's Get Tropical vs. Call Us Fat 1 Mo Time
DESCRIPTION:Thursday D - Conejo Recreation and Park District
LOCATION:Thousand Oaks Community Center
CATEGORIES:QuickScores, Basketball - Adult Game
TRANSP:OPAQUE
BEGIN:VALARM
TRIGGER:-PT2H
ACTION:DISPLAY
DESCRIPTION:Let's Get Tropical vs. Call Us Fat 1 Mo Time
END:VALARM
END:VEVENT
BEGIN:VEVENT
UID:crpd-56319940-20230223T213000@quickscores.com
DTSTAMP:20260420T150800Z
DTSTART;TZID=America/Los_Angeles:20230223T213000
DURATION:PT1H0M0S
SUMMARY:Skyworks vs. Let's Get Tropical
DESCRIPTION:Thursday D - Conejo Recreation and Park District
LOCATION:Thousand Oaks Community Center
CATEGORIES:QuickScores, Basketball - Adult Game
TRANSP:OPAQUE
BEGIN:VALARM
TRIGGER:-PT2H
ACTION:DISPLAY
DESCRIPTION:Skyworks vs. Let's Get Tropical
END:VALARM
END:VEVENT
BEGIN:VEVENT
UID:crpd-56319942-20230302T193000@quickscores.com
DTSTAMP:20260420T150800Z
DTSTART;TZID=America/Los_Angeles:20230302T193000
DURATION:PT1H0M0S
SUMMARY:Let's Get Tropical vs. Rice & Beans
DESCRIPTION:Thursday D - Conejo Recreation and Park District
LOCATION:Thousand Oaks Community Center
CATEGORIES:QuickScores, Basketball - Adult Game
TRANSP:OPAQUE
BEGIN:VALARM
TRIGGER:-PT2H
ACTION:DISPLAY
DESCRIPTION:Let's Get Tropical vs. Rice & Beans
END:VALARM
END:VEVENT
BEGIN:VEVENT
UID:crpd-56319947-20230309T183000@quickscores.com
DTSTAMP:20260420T150800Z
DTSTART;TZID=America/Los_Angeles:20230309T183000
DURATION:PT1H0M0S
SUMMARY:Beerlicious vs. Let's Get Tropical
DESCRIPTION:Thursday D - Conejo Recreation and Park District
LOCATION:Thousand Oaks Community Center
CATEGORIES:QuickScores, Basketball - Adult Game
TRANSP:OPAQUE
BEGIN:VALARM
TRIGGER:-PT2H
ACTION:DISPLAY
DESCRIPTION:Beerlicious vs. Let's Get Tropical
END:VALARM
END:VEVENT
BEGIN:VEVENT
UID:crpd-56319949-20230316T203000@quickscores.com
DTSTAMP:20260420T150800Z
DTSTART;TZID=America/Los_Angeles:20230316T203000
DURATION:PT1H0M0S
SUMMARY:Let's Get Tropical vs. JS Basketball
DESCRIPTION:Thursday D - Conejo Recreation and Park District
LOCATION:Thousand Oaks Community Center
CATEGORIES:QuickScores, Basketball - Adult Game
TRANSP:OPAQUE
BEGIN:VALARM
TRIGGER:-PT2H
ACTION:DISPLAY
DESCRIPTION:Let's Get Tropical vs. JS Basketball
END:VALARM
END:VEVENT
BEGIN:VEVENT
UID:crpd-56319954-20230323T203000@quickscores.com
DTSTAMP:20260420T150800Z
DTSTART;TZID=America/Los_Angeles:20230323T203000
DURATION:PT1H0M0S
SUMMARY:Hot n Honey vs. Let's Get Tropical
DESCRIPTION:Thursday D - Conejo Recreation and Park District
LOCATION:Thousand Oaks Community Center
CATEGORIES:QuickScores, Basketball - Adult Game
TRANSP:OPAQUE
BEGIN:VALARM
TRIGGER:-PT2H
ACTION:DISPLAY
DESCRIPTION:Hot n Honey vs. Let's Get Tropical
END:VALARM
END:VEVENT
BEGIN:VEVENT
UID:crpd-56319960-20230330T213000@quickscores.com
DTSTAMP:20260420T150800Z
DTSTART;TZID=America/Los_Angeles:20230330T213000
DURATION:PT1H0M0S
SUMMARY:Flashes vs. Let's Get Tropical
DESCRIPTION:Thursday D - Conejo Recreation and Park District
LOCATION:Thousand Oaks Community Center
CATEGORIES:QuickScores, Basketball - Adult Game
TRANSP:OPAQUE
BEGIN:VALARM
TRIGGER:-PT2H
ACTION:DISPLAY
DESCRIPTION:Flashes vs. Let's Get Tropical
END:VALARM
END:VEVENT
BEGIN:VEVENT
UID:crpd-56319963-20230406T193000@quickscores.com
DTSTAMP:20260420T150800Z
DTSTART;TZID=America/Los_Angeles:20230406T193000
DURATION:PT1H0M0S
SUMMARY:Call Us Fat 1 Mo Time vs. Let's Get Tropical
DESCRIPTION:Thursday D - Conejo Recreation and Park District
LOCATION:Thousand Oaks Community Center
CATEGORIES:QuickScores, Basketball - Adult Game
TRANSP:OPAQUE
BEGIN:VALARM
TRIGGER:-PT2H
ACTION:DISPLAY
DESCRIPTION:Call Us Fat 1 Mo Time vs. Let's Get Tropical
END:VALARM
END:VEVENT
BEGIN:VEVENT
UID:crpd-56319968-20230420T213000@quickscores.com
DTSTAMP:20260420T150800Z
DTSTART;TZID=America/Los_Angeles:20230420T213000
DURATION:PT1H0M0S
SUMMARY:Let's Get Tropical vs. Skyworks
DESCRIPTION:Thursday D - Conejo Recreation and Park District
LOCATION:Thousand Oaks Community Center
CATEGORIES:QuickScores, Basketball - Adult Game
TRANSP:OPAQUE
BEGIN:VALARM
TRIGGER:-PT2H
ACTION:DISPLAY
DESCRIPTION:Let's Get Tropical vs. Skyworks
END:VALARM
END:VEVENT
END:VCALENDAR
