BEGIN:VCALENDAR
VERSION:2.0
PRODID:-//QuickScores.com//BQ Dynamic iCal Creator//EN
METHOD:PUBLISH
X-WR-CALNAME:Beerlicious - Thursday D - 2023 Spring Basketball
X-WR-CALDESC:QuickScores game calendar
X-PUBLISHED-TTL:PT24H
REFRESH-INTERVAL;VALUE=DURATION:PT24H
CALSCALE:GREGORIAN
BEGIN:VTIMEZONE
TZID:America/Los_Angeles
X-LIC-LOCATION:America/Los_Angeles
BEGIN:DAYLIGHT
TZNAME:PDT
TZOFFSETFROM:-0800
TZOFFSETTO:-0700
DTSTART:19700308T020000
RRULE:FREQ=YEARLY;BYMONTH=3;BYDAY=2SU
END:DAYLIGHT
BEGIN:STANDARD
TZNAME:PST
TZOFFSETFROM:-0700
TZOFFSETTO:-0800
DTSTART:19701101T020000
RRULE:FREQ=YEARLY;BYMONTH=11;BYDAY=1SU
END:STANDARD
END:VTIMEZONE
BEGIN:VEVENT
UID:crpd-56319929-20230209T213000@quickscores.com
DTSTAMP:20260422T100200Z
DTSTART;TZID=America/Los_Angeles:20230209T213000
DURATION:PT1H0M0S
SUMMARY:JS Basketball vs. Beerlicious
DESCRIPTION:Thursday D - Conejo Recreation and Park District
LOCATION:Thousand Oaks Community Center
CATEGORIES:QuickScores, Basketball - Adult Game
TRANSP:OPAQUE
BEGIN:VALARM
TRIGGER:-PT2H
ACTION:DISPLAY
DESCRIPTION:JS Basketball vs. Beerlicious
END:VALARM
END:VEVENT
BEGIN:VEVENT
UID:crpd-56319934-20230216T193000@quickscores.com
DTSTAMP:20260422T100200Z
DTSTART;TZID=America/Los_Angeles:20230216T193000
DURATION:PT1H0M0S
SUMMARY:Skyworks vs. Beerlicious
DESCRIPTION:Thursday D - Conejo Recreation and Park District
LOCATION:Thousand Oaks Community Center
CATEGORIES:QuickScores, Basketball - Adult Game
TRANSP:OPAQUE
BEGIN:VALARM
TRIGGER:-PT2H
ACTION:DISPLAY
DESCRIPTION:Skyworks vs. Beerlicious
END:VALARM
END:VEVENT
BEGIN:VEVENT
UID:crpd-56319938-20230223T203000@quickscores.com
DTSTAMP:20260422T100200Z
DTSTART;TZID=America/Los_Angeles:20230223T203000
DURATION:PT1H0M0S
SUMMARY:Beerlicious vs. Hot n Honey
DESCRIPTION:Thursday D - Conejo Recreation and Park District
LOCATION:Thousand Oaks Community Center
CATEGORIES:QuickScores, Basketball - Adult Game
TRANSP:OPAQUE
BEGIN:VALARM
TRIGGER:-PT2H
ACTION:DISPLAY
DESCRIPTION:Beerlicious vs. Hot n Honey
END:VALARM
END:VEVENT
BEGIN:VEVENT
UID:crpd-56319943-20230302T183000@quickscores.com
DTSTAMP:20260422T100200Z
DTSTART;TZID=America/Los_Angeles:20230302T183000
DURATION:PT1H0M0S
SUMMARY:Flashes vs. Beerlicious
DESCRIPTION:Thursday D - Conejo Recreation and Park District
LOCATION:Thousand Oaks Community Center
CATEGORIES:QuickScores, Basketball - Adult Game
TRANSP:OPAQUE
BEGIN:VALARM
TRIGGER:-PT2H
ACTION:DISPLAY
DESCRIPTION:Flashes vs. Beerlicious
END:VALARM
END:VEVENT
BEGIN:VEVENT
UID:crpd-56319947-20230309T183000@quickscores.com
DTSTAMP:20260422T100200Z
DTSTART;TZID=America/Los_Angeles:20230309T183000
DURATION:PT1H0M0S
SUMMARY:Beerlicious vs. Let's Get Tropical
DESCRIPTION:Thursday D - Conejo Recreation and Park District
LOCATION:Thousand Oaks Community Center
CATEGORIES:QuickScores, Basketball - Adult Game
TRANSP:OPAQUE
BEGIN:VALARM
TRIGGER:-PT2H
ACTION:DISPLAY
DESCRIPTION:Beerlicious vs. Let's Get Tropical
END:VALARM
END:VEVENT
BEGIN:VEVENT
UID:crpd-56319952-20230316T213000@quickscores.com
DTSTAMP:20260422T100200Z
DTSTART;TZID=America/Los_Angeles:20230316T213000
DURATION:PT1H0M0S
SUMMARY:Call Us Fat 1 Mo Time vs. Beerlicious
DESCRIPTION:Thursday D - Conejo Recreation and Park District
LOCATION:Thousand Oaks Community Center
CATEGORIES:QuickScores, Basketball - Adult Game
TRANSP:OPAQUE
BEGIN:VALARM
TRIGGER:-PT2H
ACTION:DISPLAY
DESCRIPTION:Call Us Fat 1 Mo Time vs. Beerlicious
END:VALARM
END:VEVENT
BEGIN:VEVENT
UID:crpd-56319956-20230323T213000@quickscores.com
DTSTAMP:20260422T100200Z
DTSTART;TZID=America/Los_Angeles:20230323T213000
DURATION:PT1H0M0S
SUMMARY:Beerlicious vs. Rice & Beans
DESCRIPTION:Thursday D - Conejo Recreation and Park District
LOCATION:Thousand Oaks Community Center
CATEGORIES:QuickScores, Basketball - Adult Game
TRANSP:OPAQUE
BEGIN:VALARM
TRIGGER:-PT2H
ACTION:DISPLAY
DESCRIPTION:Beerlicious vs. Rice & Beans
END:VALARM
END:VEVENT
BEGIN:VEVENT
UID:crpd-56319957-20230330T203000@quickscores.com
DTSTAMP:20260422T100200Z
DTSTART;TZID=America/Los_Angeles:20230330T203000
DURATION:PT1H0M0S
SUMMARY:Beerlicious vs. JS Basketball
DESCRIPTION:Thursday D - Conejo Recreation and Park District
LOCATION:Thousand Oaks Community Center
CATEGORIES:QuickScores, Basketball - Adult Game
TRANSP:OPAQUE
BEGIN:VALARM
TRIGGER:-PT2H
ACTION:DISPLAY
DESCRIPTION:Beerlicious vs. JS Basketball
END:VALARM
END:VEVENT
BEGIN:VEVENT
UID:crpd-56319962-20230406T203000@quickscores.com
DTSTAMP:20260422T100200Z
DTSTART;TZID=America/Los_Angeles:20230406T203000
DURATION:PT1H0M0S
SUMMARY:Beerlicious vs. Skyworks
DESCRIPTION:Thursday D - Conejo Recreation and Park District
LOCATION:Thousand Oaks Community Center
CATEGORIES:QuickScores, Basketball - Adult Game
TRANSP:OPAQUE
BEGIN:VALARM
TRIGGER:-PT2H
ACTION:DISPLAY
DESCRIPTION:Beerlicious vs. Skyworks
END:VALARM
END:VEVENT
BEGIN:VEVENT
UID:crpd-56319966-20230420T193000@quickscores.com
DTSTAMP:20260422T100200Z
DTSTART;TZID=America/Los_Angeles:20230420T193000
DURATION:PT1H0M0S
SUMMARY:Hot n Honey vs. Beerlicious
DESCRIPTION:Thursday D - Conejo Recreation and Park District
LOCATION:Thousand Oaks Community Center
CATEGORIES:QuickScores, Basketball - Adult Game
TRANSP:OPAQUE
BEGIN:VALARM
TRIGGER:-PT2H
ACTION:DISPLAY
DESCRIPTION:Hot n Honey vs. Beerlicious
END:VALARM
END:VEVENT
END:VCALENDAR
