BEGIN:VCALENDAR
VERSION:2.0
PRODID:-//QuickScores.com//BQ Dynamic iCal Creator//EN
METHOD:PUBLISH
X-WR-CALNAME:Taco Dirty To Me ! - Wednesday Coed 1 - 2022 Fall Softball
X-WR-CALDESC:QuickScores game calendar
X-PUBLISHED-TTL:PT24H
REFRESH-INTERVAL;VALUE=DURATION:PT24H
CALSCALE:GREGORIAN
BEGIN:VTIMEZONE
TZID:America/Los_Angeles
X-LIC-LOCATION:America/Los_Angeles
BEGIN:DAYLIGHT
TZNAME:PDT
TZOFFSETFROM:-0800
TZOFFSETTO:-0700
DTSTART:19700308T020000
RRULE:FREQ=YEARLY;BYMONTH=3;BYDAY=2SU
END:DAYLIGHT
BEGIN:STANDARD
TZNAME:PST
TZOFFSETFROM:-0700
TZOFFSETTO:-0800
DTSTART:19701101T020000
RRULE:FREQ=YEARLY;BYMONTH=11;BYDAY=1SU
END:STANDARD
END:VTIMEZONE
BEGIN:VEVENT
UID:crpd-54797192-20220907T210000@quickscores.com
DTSTAMP:20260424T220700Z
DTSTART;TZID=America/Los_Angeles:20220907T210000
DURATION:PT1H15M0S
SUMMARY:Pitches Get Stitches vs. Taco Dirty To Me !
DESCRIPTION:Wednesday Coed 1 - Conejo Recreation and Park District
LOCATION:Borchard Park Field #1
CATEGORIES:QuickScores, Softball - Adult Game
TRANSP:OPAQUE
BEGIN:VALARM
TRIGGER:-PT2H
ACTION:DISPLAY
DESCRIPTION:Pitches Get Stitches vs. Taco Dirty To Me !
END:VALARM
END:VEVENT
BEGIN:VEVENT
UID:crpd-54797196-20220914T194500@quickscores.com
DTSTAMP:20260424T220700Z
DTSTART;TZID=America/Los_Angeles:20220914T194500
DURATION:PT1H15M0S
SUMMARY:Taco Dirty To Me ! vs. Baron Von Awesomes
DESCRIPTION:Wednesday Coed 1 - Conejo Recreation and Park District
LOCATION:Borchard Park Field #1
CATEGORIES:QuickScores, Softball - Adult Game
TRANSP:OPAQUE
BEGIN:VALARM
TRIGGER:-PT2H
ACTION:DISPLAY
DESCRIPTION:Taco Dirty To Me ! vs. Baron Von Awesomes
END:VALARM
END:VEVENT
BEGIN:VEVENT
UID:crpd-54797198-20220921T194500@quickscores.com
DTSTAMP:20260424T220700Z
DTSTART;TZID=America/Los_Angeles:20220921T194500
DURATION:PT1H15M0S
SUMMARY:Sho ' Nuff vs. Taco Dirty To Me !
DESCRIPTION:Wednesday Coed 1 - Conejo Recreation and Park District
LOCATION:Borchard Park Field #1
CATEGORIES:QuickScores, Softball - Adult Game
TRANSP:OPAQUE
BEGIN:VALARM
TRIGGER:-PT2H
ACTION:DISPLAY
DESCRIPTION:Sho ' Nuff vs. Taco Dirty To Me !
END:VALARM
END:VEVENT
BEGIN:VEVENT
UID:crpd-54797197-20220921T210000@quickscores.com
DTSTAMP:20260424T220700Z
DTSTART;TZID=America/Los_Angeles:20220921T210000
DURATION:PT1H15M0S
SUMMARY:Baron Von Awesomes vs. Taco Dirty To Me !
DESCRIPTION:Wednesday Coed 1 - Conejo Recreation and Park District
LOCATION:Borchard Park Field #1
CATEGORIES:QuickScores, Softball - Adult Game
TRANSP:OPAQUE
BEGIN:VALARM
TRIGGER:-PT2H
ACTION:DISPLAY
DESCRIPTION:Baron Von Awesomes vs. Taco Dirty To Me !
END:VALARM
END:VEVENT
BEGIN:VEVENT
UID:crpd-54797201-20220928T210000@quickscores.com
DTSTAMP:20260424T220700Z
DTSTART;TZID=America/Los_Angeles:20220928T210000
DURATION:PT1H15M0S
SUMMARY:Taco Dirty To Me ! vs. NP Brew Crew
DESCRIPTION:Wednesday Coed 1 - Conejo Recreation and Park District
LOCATION:Borchard Park Field #1
CATEGORIES:QuickScores, Softball - Adult Game
TRANSP:OPAQUE
BEGIN:VALARM
TRIGGER:-PT2H
ACTION:DISPLAY
DESCRIPTION:Taco Dirty To Me ! vs. NP Brew Crew
END:VALARM
END:VEVENT
BEGIN:VEVENT
UID:crpd-54797203-20221005T194500@quickscores.com
DTSTAMP:20260424T220700Z
DTSTART;TZID=America/Los_Angeles:20221005T194500
DURATION:PT1H15M0S
SUMMARY:Taco Dirty To Me ! vs. Pitches Get Stitches
DESCRIPTION:Wednesday Coed 1 - Conejo Recreation and Park District
LOCATION:Borchard Park Field #1
CATEGORIES:QuickScores, Softball - Adult Game
TRANSP:OPAQUE
BEGIN:VALARM
TRIGGER:-PT2H
ACTION:DISPLAY
DESCRIPTION:Taco Dirty To Me ! vs. Pitches Get Stitches
END:VALARM
END:VEVENT
BEGIN:VEVENT
UID:crpd-54797210-20221012T183000@quickscores.com
DTSTAMP:20260424T220700Z
DTSTART;TZID=America/Los_Angeles:20221012T183000
DURATION:PT1H15M0S
SUMMARY:NP Brew Crew vs. Taco Dirty To Me !
DESCRIPTION:Wednesday Coed 1 - Conejo Recreation and Park District
LOCATION:Borchard Park Field #1
CATEGORIES:QuickScores, Softball - Adult Game
TRANSP:OPAQUE
BEGIN:VALARM
TRIGGER:-PT2H
ACTION:DISPLAY
DESCRIPTION:NP Brew Crew vs. Taco Dirty To Me !
END:VALARM
END:VEVENT
BEGIN:VEVENT
UID:crpd-54797206-20221019T183000@quickscores.com
DTSTAMP:20260424T220700Z
DTSTART;TZID=America/Los_Angeles:20221019T183000
DURATION:PT1H15M0S
SUMMARY:Taco Dirty To Me ! vs. Sho ' Nuff
DESCRIPTION:Wednesday Coed 1 - Conejo Recreation and Park District
LOCATION:Borchard Park Field #1
CATEGORIES:QuickScores, Softball - Adult Game
TRANSP:OPAQUE
BEGIN:VALARM
TRIGGER:-PT2H
ACTION:DISPLAY
DESCRIPTION:Taco Dirty To Me ! vs. Sho ' Nuff
END:VALARM
END:VEVENT
BEGIN:VEVENT
UID:crpd-54797213-20221026T183000@quickscores.com
DTSTAMP:20260424T220700Z
DTSTART;TZID=America/Los_Angeles:20221026T183000
DURATION:PT1H15M0S
SUMMARY:Pitches Get Stitches vs. Taco Dirty To Me !
DESCRIPTION:Wednesday Coed 1 - Conejo Recreation and Park District
LOCATION:Borchard Park Field #1
CATEGORIES:QuickScores, Softball - Adult Game
TRANSP:OPAQUE
BEGIN:VALARM
TRIGGER:-PT2H
ACTION:DISPLAY
DESCRIPTION:Pitches Get Stitches vs. Taco Dirty To Me !
END:VALARM
END:VEVENT
BEGIN:VEVENT
UID:crpd-54797215-20221102T184500@quickscores.com
DTSTAMP:20260424T220700Z
DTSTART;TZID=America/Los_Angeles:20221102T184500
DURATION:PT1H15M0S
SUMMARY:Taco Dirty To Me ! vs. Baron Von Awesomes
DESCRIPTION:Wednesday Coed 1 - Conejo Recreation and Park District
LOCATION:Borchard Park Field #1
CATEGORIES:QuickScores, Softball - Adult Game
TRANSP:OPAQUE
BEGIN:VALARM
TRIGGER:-PT2H
ACTION:DISPLAY
DESCRIPTION:Taco Dirty To Me ! vs. Baron Von Awesomes
END:VALARM
END:VEVENT
END:VCALENDAR
