BEGIN:VCALENDAR
VERSION:2.0
PRODID:-//QuickScores.com//BQ Dynamic iCal Creator//EN
METHOD:PUBLISH
X-WR-CALNAME:Kicks and Giggles - Tuesday Coed - 2021 Fall Soccer
X-WR-CALDESC:QuickScores game calendar
X-PUBLISHED-TTL:PT24H
REFRESH-INTERVAL;VALUE=DURATION:PT24H
CALSCALE:GREGORIAN
BEGIN:VTIMEZONE
TZID:America/Los_Angeles
X-LIC-LOCATION:America/Los_Angeles
BEGIN:DAYLIGHT
TZNAME:PDT
TZOFFSETFROM:-0800
TZOFFSETTO:-0700
DTSTART:19700308T020000
RRULE:FREQ=YEARLY;BYMONTH=3;BYDAY=2SU
END:DAYLIGHT
BEGIN:STANDARD
TZNAME:PST
TZOFFSETFROM:-0700
TZOFFSETTO:-0800
DTSTART:19701101T020000
RRULE:FREQ=YEARLY;BYMONTH=11;BYDAY=1SU
END:STANDARD
END:VTIMEZONE
BEGIN:VEVENT
UID:crpd-50970647-20210928T184500@quickscores.com
DTSTAMP:20260420T182900Z
DTSTART;TZID=America/Los_Angeles:20210928T184500
DURATION:PT1H0M0S
SUMMARY:The Placebo Effect 2.0 vs. Kicks and Giggles
DESCRIPTION:Tuesday Coed - Conejo Recreation and Park District
LOCATION:Dos Vientos Community Park Field #2-A
CATEGORIES:QuickScores, Soccer - Adult Game
TRANSP:OPAQUE
BEGIN:VALARM
TRIGGER:-PT2H
ACTION:DISPLAY
DESCRIPTION:The Placebo Effect 2.0 vs. Kicks and Giggles
END:VALARM
END:VEVENT
BEGIN:VEVENT
UID:crpd-50970652-20211005T194500@quickscores.com
DTSTAMP:20260420T182900Z
DTSTART;TZID=America/Los_Angeles:20211005T194500
DURATION:PT1H0M0S
SUMMARY:Cire 300 vs. Kicks and Giggles
DESCRIPTION:Tuesday Coed - Conejo Recreation and Park District
LOCATION:Dos Vientos Community Park Field #2-B
CATEGORIES:QuickScores, Soccer - Adult Game
TRANSP:OPAQUE
BEGIN:VALARM
TRIGGER:-PT2H
ACTION:DISPLAY
DESCRIPTION:Cire 300 vs. Kicks and Giggles
END:VALARM
END:VEVENT
BEGIN:VEVENT
UID:crpd-50970654-20211012T184500@quickscores.com
DTSTAMP:20260420T182900Z
DTSTART;TZID=America/Los_Angeles:20211012T184500
DURATION:PT1H0M0S
SUMMARY:SAGEPUB vs. Kicks and Giggles
DESCRIPTION:Tuesday Coed - Conejo Recreation and Park District
LOCATION:Dos Vientos Community Park Field #2-A
CATEGORIES:QuickScores, Soccer - Adult Game
TRANSP:OPAQUE
BEGIN:VALARM
TRIGGER:-PT2H
ACTION:DISPLAY
DESCRIPTION:SAGEPUB vs. Kicks and Giggles
END:VALARM
END:VEVENT
BEGIN:VEVENT
UID:crpd-50970660-20211019T194500@quickscores.com
DTSTAMP:20260420T182900Z
DTSTART;TZID=America/Los_Angeles:20211019T194500
DURATION:PT1H0M0S
SUMMARY:Kicks and Giggles vs. Rabbit Valley FC
DESCRIPTION:Tuesday Coed - Conejo Recreation and Park District
LOCATION:Dos Vientos Community Park Field #2-A
CATEGORIES:QuickScores, Soccer - Adult Game
TRANSP:OPAQUE
BEGIN:VALARM
TRIGGER:-PT2H
ACTION:DISPLAY
DESCRIPTION:Kicks and Giggles vs. Rabbit Valley FC
END:VALARM
END:VEVENT
BEGIN:VEVENT
UID:crpd-50970661-20211026T194500@quickscores.com
DTSTAMP:20260420T182900Z
DTSTART;TZID=America/Los_Angeles:20211026T194500
DURATION:PT1H0M0S
SUMMARY:Las Chivas vs. Kicks and Giggles
DESCRIPTION:Tuesday Coed - Conejo Recreation and Park District
LOCATION:Dos Vientos Community Park Field #2-B
CATEGORIES:QuickScores, Soccer - Adult Game
TRANSP:OPAQUE
BEGIN:VALARM
TRIGGER:-PT2H
ACTION:DISPLAY
DESCRIPTION:Las Chivas vs. Kicks and Giggles
END:VALARM
END:VEVENT
BEGIN:VEVENT
UID:crpd-50970667-20211102T194500@quickscores.com
DTSTAMP:20260420T182900Z
DTSTART;TZID=America/Los_Angeles:20211102T194500
DURATION:PT1H0M0S
SUMMARY:Real Bad vs. Kicks and Giggles
DESCRIPTION:Tuesday Coed - Conejo Recreation and Park District
LOCATION:Dos Vientos Community Park Field #2-A
CATEGORIES:QuickScores, Soccer - Adult Game
TRANSP:OPAQUE
BEGIN:VALARM
TRIGGER:-PT2H
ACTION:DISPLAY
DESCRIPTION:Real Bad vs. Kicks and Giggles
END:VALARM
END:VEVENT
BEGIN:VEVENT
UID:crpd-50970670-20211109T184500@quickscores.com
DTSTAMP:20260420T182900Z
DTSTART;TZID=America/Los_Angeles:20211109T184500
DURATION:PT1H0M0S
SUMMARY:Kicks and Giggles vs. ASC
DESCRIPTION:Tuesday Coed - Conejo Recreation and Park District
LOCATION:Dos Vientos Community Park Field #2-B
CATEGORIES:QuickScores, Soccer - Adult Game
TRANSP:OPAQUE
BEGIN:VALARM
TRIGGER:-PT2H
ACTION:DISPLAY
DESCRIPTION:Kicks and Giggles vs. ASC
END:VALARM
END:VEVENT
BEGIN:VEVENT
UID:crpd-50970675-20211116T194500@quickscores.com
DTSTAMP:20260420T182900Z
DTSTART;TZID=America/Los_Angeles:20211116T194500
DURATION:PT1H0M0S
SUMMARY:Kicks and Giggles vs. The Placebo Effect 2.0
DESCRIPTION:Tuesday Coed - Conejo Recreation and Park District
LOCATION:Dos Vientos Community Park Field #2-A
CATEGORIES:QuickScores, Soccer - Adult Game
TRANSP:OPAQUE
BEGIN:VALARM
TRIGGER:-PT2H
ACTION:DISPLAY
DESCRIPTION:Kicks and Giggles vs. The Placebo Effect 2.0
END:VALARM
END:VEVENT
BEGIN:VEVENT
UID:crpd-50970680-20211123T194500@quickscores.com
DTSTAMP:20260420T182900Z
DTSTART;TZID=America/Los_Angeles:20211123T194500
DURATION:PT1H0M0S
SUMMARY:Kicks and Giggles vs. Cire 300
DESCRIPTION:Tuesday Coed - Conejo Recreation and Park District
LOCATION:Del Prado Playfield #3
CATEGORIES:QuickScores, Soccer - Adult Game
TRANSP:OPAQUE
BEGIN:VALARM
TRIGGER:-PT2H
ACTION:DISPLAY
DESCRIPTION:Kicks and Giggles vs. Cire 300
END:VALARM
END:VEVENT
BEGIN:VEVENT
UID:crpd-50970682-20211130T184500@quickscores.com
DTSTAMP:20260420T182900Z
DTSTART;TZID=America/Los_Angeles:20211130T184500
DURATION:PT1H0M0S
SUMMARY:Kicks and Giggles vs. SAGEPUB
DESCRIPTION:Tuesday Coed - Conejo Recreation and Park District
LOCATION:Del Prado Playfield #3
CATEGORIES:QuickScores, Soccer - Adult Game
TRANSP:OPAQUE
BEGIN:VALARM
TRIGGER:-PT2H
ACTION:DISPLAY
DESCRIPTION:Kicks and Giggles vs. SAGEPUB
END:VALARM
END:VEVENT
END:VCALENDAR
