BEGIN:VCALENDAR
VERSION:2.0
PRODID:-//QuickScores.com//BQ Dynamic iCal Creator//EN
METHOD:PUBLISH
X-WR-CALNAME:Cathie &amp; Samantha - Wednesday Beginning Mixed - 2021 Fall Pickleball League
X-WR-CALDESC:QuickScores game calendar
X-PUBLISHED-TTL:PT24H
REFRESH-INTERVAL;VALUE=DURATION:PT24H
CALSCALE:GREGORIAN
BEGIN:VTIMEZONE
TZID:America/Los_Angeles
X-LIC-LOCATION:America/Los_Angeles
BEGIN:DAYLIGHT
TZNAME:PDT
TZOFFSETFROM:-0800
TZOFFSETTO:-0700
DTSTART:19700308T020000
RRULE:FREQ=YEARLY;BYMONTH=3;BYDAY=2SU
END:DAYLIGHT
BEGIN:STANDARD
TZNAME:PST
TZOFFSETFROM:-0700
TZOFFSETTO:-0800
DTSTART:19701101T020000
RRULE:FREQ=YEARLY;BYMONTH=11;BYDAY=1SU
END:STANDARD
END:VTIMEZONE
BEGIN:VEVENT
UID:crpd-50859992-20210915T183000@quickscores.com
DTSTAMP:20260423T134200Z
DTSTART;TZID=America/Los_Angeles:20210915T183000
DURATION:PT0H45M0S
SUMMARY:Victoria & Rick vs. Cathie & Samantha
DESCRIPTION:Wednesday Beginning Mixed - Conejo Recreation and Park District
LOCATION:Rancho Conejo Pickleball Court #8
CATEGORIES:QuickScores, Pickleball Game
TRANSP:OPAQUE
BEGIN:VALARM
TRIGGER:-PT2H
ACTION:DISPLAY
DESCRIPTION:Victoria & Rick vs. Cathie & Samantha
END:VALARM
END:VEVENT
BEGIN:VEVENT
UID:crpd-50859991-20210915T191500@quickscores.com
DTSTAMP:20260423T134200Z
DTSTART;TZID=America/Los_Angeles:20210915T191500
DURATION:PT0H45M0S
SUMMARY:Cathie & Samantha vs. Lissa & Mike
DESCRIPTION:Wednesday Beginning Mixed - Conejo Recreation and Park District
LOCATION:Rancho Conejo Pickleball Court #7
CATEGORIES:QuickScores, Pickleball Game
TRANSP:OPAQUE
BEGIN:VALARM
TRIGGER:-PT2H
ACTION:DISPLAY
DESCRIPTION:Cathie & Samantha vs. Lissa & Mike
END:VALARM
END:VEVENT
BEGIN:VEVENT
UID:crpd-50859997-20210922T183000@quickscores.com
DTSTAMP:20260423T134200Z
DTSTART;TZID=America/Los_Angeles:20210922T183000
DURATION:PT0H45M0S
SUMMARY:Cathie & Samantha vs. Laarni & Jeff
DESCRIPTION:Wednesday Beginning Mixed - Conejo Recreation and Park District
LOCATION:Rancho Conejo Pickleball Court #9
CATEGORIES:QuickScores, Pickleball Game
TRANSP:OPAQUE
BEGIN:VALARM
TRIGGER:-PT2H
ACTION:DISPLAY
DESCRIPTION:Cathie & Samantha vs. Laarni & Jeff
END:VALARM
END:VEVENT
BEGIN:VEVENT
UID:crpd-50859998-20210922T191500@quickscores.com
DTSTAMP:20260423T134200Z
DTSTART;TZID=America/Los_Angeles:20210922T191500
DURATION:PT0H45M0S
SUMMARY:Linda & Dwight vs. Cathie & Samantha
DESCRIPTION:Wednesday Beginning Mixed - Conejo Recreation and Park District
LOCATION:Rancho Conejo Pickleball Court #9
CATEGORIES:QuickScores, Pickleball Game
TRANSP:OPAQUE
BEGIN:VALARM
TRIGGER:-PT2H
ACTION:DISPLAY
DESCRIPTION:Linda & Dwight vs. Cathie & Samantha
END:VALARM
END:VEVENT
BEGIN:VEVENT
UID:crpd-50860003-20210929T183000@quickscores.com
DTSTAMP:20260423T134200Z
DTSTART;TZID=America/Los_Angeles:20210929T183000
DURATION:PT0H45M0S
SUMMARY:Cathie & Samantha vs. Lynette & Hayden
DESCRIPTION:Wednesday Beginning Mixed - Conejo Recreation and Park District
LOCATION:Rancho Conejo Pickleball Court #9
CATEGORIES:QuickScores, Pickleball Game
TRANSP:OPAQUE
BEGIN:VALARM
TRIGGER:-PT2H
ACTION:DISPLAY
DESCRIPTION:Cathie & Samantha vs. Lynette & Hayden
END:VALARM
END:VEVENT
BEGIN:VEVENT
UID:crpd-50860002-20210929T191500@quickscores.com
DTSTAMP:20260423T134200Z
DTSTART;TZID=America/Los_Angeles:20210929T191500
DURATION:PT0H45M0S
SUMMARY:Karen & Preston vs. Cathie & Samantha
DESCRIPTION:Wednesday Beginning Mixed - Conejo Recreation and Park District
LOCATION:Rancho Conejo Pickleball Court #8
CATEGORIES:QuickScores, Pickleball Game
TRANSP:OPAQUE
BEGIN:VALARM
TRIGGER:-PT2H
ACTION:DISPLAY
DESCRIPTION:Karen & Preston vs. Cathie & Samantha
END:VALARM
END:VEVENT
BEGIN:VEVENT
UID:crpd-50860012-20211006T183000@quickscores.com
DTSTAMP:20260423T134200Z
DTSTART;TZID=America/Los_Angeles:20211006T183000
DURATION:PT0H45M0S
SUMMARY:Lissa & Mike vs. Cathie & Samantha
DESCRIPTION:Wednesday Beginning Mixed - Conejo Recreation and Park District
LOCATION:Rancho Conejo Pickleball Court #10
CATEGORIES:QuickScores, Pickleball Game
TRANSP:OPAQUE
BEGIN:VALARM
TRIGGER:-PT2H
ACTION:DISPLAY
DESCRIPTION:Lissa & Mike vs. Cathie & Samantha
END:VALARM
END:VEVENT
BEGIN:VEVENT
UID:crpd-50860016-20211006T191500@quickscores.com
DTSTAMP:20260423T134200Z
DTSTART;TZID=America/Los_Angeles:20211006T191500
DURATION:PT0H45M0S
SUMMARY:Julie & Kerry vs. Cathie & Samantha
DESCRIPTION:Wednesday Beginning Mixed - Conejo Recreation and Park District
LOCATION:Rancho Conejo Pickleball Court #10
CATEGORIES:QuickScores, Pickleball Game
TRANSP:OPAQUE
BEGIN:VALARM
TRIGGER:-PT2H
ACTION:DISPLAY
DESCRIPTION:Julie & Kerry vs. Cathie & Samantha
END:VALARM
END:VEVENT
BEGIN:VEVENT
UID:crpd-50860020-20211013T183000@quickscores.com
DTSTAMP:20260423T134200Z
DTSTART;TZID=America/Los_Angeles:20211013T183000
DURATION:PT0H45M0S
SUMMARY:Cathie & Samantha vs. Victoria & Rick
DESCRIPTION:Wednesday Beginning Mixed - Conejo Recreation and Park District
LOCATION:Rancho Conejo Pickleball Court #10
CATEGORIES:QuickScores, Pickleball Game
TRANSP:OPAQUE
BEGIN:VALARM
TRIGGER:-PT2H
ACTION:DISPLAY
DESCRIPTION:Cathie & Samantha vs. Victoria & Rick
END:VALARM
END:VEVENT
BEGIN:VEVENT
UID:crpd-50860023-20211013T191500@quickscores.com
DTSTAMP:20260423T134200Z
DTSTART;TZID=America/Los_Angeles:20211013T191500
DURATION:PT0H45M0S
SUMMARY:Laarni & Jeff vs. Cathie & Samantha
DESCRIPTION:Wednesday Beginning Mixed - Conejo Recreation and Park District
LOCATION:Rancho Conejo Pickleball Court #10
CATEGORIES:QuickScores, Pickleball Game
TRANSP:OPAQUE
BEGIN:VALARM
TRIGGER:-PT2H
ACTION:DISPLAY
DESCRIPTION:Laarni & Jeff vs. Cathie & Samantha
END:VALARM
END:VEVENT
BEGIN:VEVENT
UID:crpd-50860027-20211027T183000@quickscores.com
DTSTAMP:20260423T134200Z
DTSTART;TZID=America/Los_Angeles:20211027T183000
DURATION:PT0H45M0S
SUMMARY:Cathie & Samantha vs. Linda & Dwight
DESCRIPTION:Wednesday Beginning Mixed - Conejo Recreation and Park District
LOCATION:Rancho Conejo Pickleball Court #8
CATEGORIES:QuickScores, Pickleball Game
TRANSP:OPAQUE
BEGIN:VALARM
TRIGGER:-PT2H
ACTION:DISPLAY
DESCRIPTION:Cathie & Samantha vs. Linda & Dwight
END:VALARM
END:VEVENT
BEGIN:VEVENT
UID:crpd-50860030-20211027T191500@quickscores.com
DTSTAMP:20260423T134200Z
DTSTART;TZID=America/Los_Angeles:20211027T191500
DURATION:PT0H45M0S
SUMMARY:Lynette & Hayden vs. Cathie & Samantha
DESCRIPTION:Wednesday Beginning Mixed - Conejo Recreation and Park District
LOCATION:Rancho Conejo Pickleball Court #7
CATEGORIES:QuickScores, Pickleball Game
TRANSP:OPAQUE
BEGIN:VALARM
TRIGGER:-PT2H
ACTION:DISPLAY
DESCRIPTION:Lynette & Hayden vs. Cathie & Samantha
END:VALARM
END:VEVENT
BEGIN:VEVENT
UID:crpd-50860040-20211103T183000@quickscores.com
DTSTAMP:20260423T134200Z
DTSTART;TZID=America/Los_Angeles:20211103T183000
DURATION:PT0H45M0S
SUMMARY:Cathie & Samantha vs. Julie & Kerry
DESCRIPTION:Wednesday Beginning Mixed - Conejo Recreation and Park District
LOCATION:Rancho Conejo Pickleball Court #7
CATEGORIES:QuickScores, Pickleball Game
TRANSP:OPAQUE
BEGIN:VALARM
TRIGGER:-PT2H
ACTION:DISPLAY
DESCRIPTION:Cathie & Samantha vs. Julie & Kerry
END:VALARM
END:VEVENT
BEGIN:VEVENT
UID:crpd-50860033-20211103T191500@quickscores.com
DTSTAMP:20260423T134200Z
DTSTART;TZID=America/Los_Angeles:20211103T191500
DURATION:PT0H45M0S
SUMMARY:Cathie & Samantha vs. Karen & Preston
DESCRIPTION:Wednesday Beginning Mixed - Conejo Recreation and Park District
LOCATION:Rancho Conejo Pickleball Court #10
CATEGORIES:QuickScores, Pickleball Game
TRANSP:OPAQUE
BEGIN:VALARM
TRIGGER:-PT2H
ACTION:DISPLAY
DESCRIPTION:Cathie & Samantha vs. Karen & Preston
END:VALARM
END:VEVENT
BEGIN:VEVENT
UID:crpd-50860048-20211110T183000@quickscores.com
DTSTAMP:20260423T134200Z
DTSTART;TZID=America/Los_Angeles:20211110T183000
DURATION:PT0H45M0S
SUMMARY:Victoria & Rick vs. Cathie & Samantha
DESCRIPTION:Wednesday Beginning Mixed - Conejo Recreation and Park District
LOCATION:Rancho Conejo Pickleball Court #9
CATEGORIES:QuickScores, Pickleball Game
TRANSP:OPAQUE
BEGIN:VALARM
TRIGGER:-PT2H
ACTION:DISPLAY
DESCRIPTION:Victoria & Rick vs. Cathie & Samantha
END:VALARM
END:VEVENT
BEGIN:VEVENT
UID:crpd-50860047-20211110T191500@quickscores.com
DTSTAMP:20260423T134200Z
DTSTART;TZID=America/Los_Angeles:20211110T191500
DURATION:PT0H45M0S
SUMMARY:Cathie & Samantha vs. Lissa & Mike
DESCRIPTION:Wednesday Beginning Mixed - Conejo Recreation and Park District
LOCATION:Rancho Conejo Pickleball Court #8
CATEGORIES:QuickScores, Pickleball Game
TRANSP:OPAQUE
BEGIN:VALARM
TRIGGER:-PT2H
ACTION:DISPLAY
DESCRIPTION:Cathie & Samantha vs. Lissa & Mike
END:VALARM
END:VEVENT
END:VCALENDAR
