BEGIN:VCALENDAR
VERSION:2.0
PRODID:-//QuickScores.com//BQ Dynamic iCal Creator//EN
METHOD:PUBLISH
X-WR-CALNAME:Lynette &amp; Hayden - Wednesday Beginning Mixed - 2021 Fall Pickleball League
X-WR-CALDESC:QuickScores game calendar
X-PUBLISHED-TTL:PT24H
REFRESH-INTERVAL;VALUE=DURATION:PT24H
CALSCALE:GREGORIAN
BEGIN:VTIMEZONE
TZID:America/Los_Angeles
X-LIC-LOCATION:America/Los_Angeles
BEGIN:DAYLIGHT
TZNAME:PDT
TZOFFSETFROM:-0800
TZOFFSETTO:-0700
DTSTART:19700308T020000
RRULE:FREQ=YEARLY;BYMONTH=3;BYDAY=2SU
END:DAYLIGHT
BEGIN:STANDARD
TZNAME:PST
TZOFFSETFROM:-0700
TZOFFSETTO:-0800
DTSTART:19701101T020000
RRULE:FREQ=YEARLY;BYMONTH=11;BYDAY=1SU
END:STANDARD
END:VTIMEZONE
BEGIN:VEVENT
UID:crpd-50859986-20210915T183000@quickscores.com
DTSTAMP:20260423T105200Z
DTSTART;TZID=America/Los_Angeles:20210915T183000
DURATION:PT0H45M0S
SUMMARY:Lynette & Hayden vs. Julie & Kerry
DESCRIPTION:Wednesday Beginning Mixed - Conejo Recreation and Park District
LOCATION:Rancho Conejo Pickleball Court #9
CATEGORIES:QuickScores, Pickleball Game
TRANSP:OPAQUE
BEGIN:VALARM
TRIGGER:-PT2H
ACTION:DISPLAY
DESCRIPTION:Lynette & Hayden vs. Julie & Kerry
END:VALARM
END:VEVENT
BEGIN:VEVENT
UID:crpd-50859987-20210915T191500@quickscores.com
DTSTAMP:20260423T105200Z
DTSTART;TZID=America/Los_Angeles:20210915T191500
DURATION:PT0H45M0S
SUMMARY:Lynette & Hayden vs. Karen & Preston
DESCRIPTION:Wednesday Beginning Mixed - Conejo Recreation and Park District
LOCATION:Rancho Conejo Pickleball Court #9
CATEGORIES:QuickScores, Pickleball Game
TRANSP:OPAQUE
BEGIN:VALARM
TRIGGER:-PT2H
ACTION:DISPLAY
DESCRIPTION:Lynette & Hayden vs. Karen & Preston
END:VALARM
END:VEVENT
BEGIN:VEVENT
UID:crpd-50859999-20210922T183000@quickscores.com
DTSTAMP:20260423T105200Z
DTSTART;TZID=America/Los_Angeles:20210922T183000
DURATION:PT0H45M0S
SUMMARY:Lynette & Hayden vs. Linda & Dwight
DESCRIPTION:Wednesday Beginning Mixed - Conejo Recreation and Park District
LOCATION:Rancho Conejo Pickleball Court #10
CATEGORIES:QuickScores, Pickleball Game
TRANSP:OPAQUE
BEGIN:VALARM
TRIGGER:-PT2H
ACTION:DISPLAY
DESCRIPTION:Lynette & Hayden vs. Linda & Dwight
END:VALARM
END:VEVENT
BEGIN:VEVENT
UID:crpd-50860000-20210922T191500@quickscores.com
DTSTAMP:20260423T105200Z
DTSTART;TZID=America/Los_Angeles:20210922T191500
DURATION:PT0H45M0S
SUMMARY:Victoria & Rick vs. Lynette & Hayden
DESCRIPTION:Wednesday Beginning Mixed - Conejo Recreation and Park District
LOCATION:Rancho Conejo Pickleball Court #10
CATEGORIES:QuickScores, Pickleball Game
TRANSP:OPAQUE
BEGIN:VALARM
TRIGGER:-PT2H
ACTION:DISPLAY
DESCRIPTION:Victoria & Rick vs. Lynette & Hayden
END:VALARM
END:VEVENT
BEGIN:VEVENT
UID:crpd-50860003-20210929T183000@quickscores.com
DTSTAMP:20260423T105200Z
DTSTART;TZID=America/Los_Angeles:20210929T183000
DURATION:PT0H45M0S
SUMMARY:Cathie & Samantha vs. Lynette & Hayden
DESCRIPTION:Wednesday Beginning Mixed - Conejo Recreation and Park District
LOCATION:Rancho Conejo Pickleball Court #9
CATEGORIES:QuickScores, Pickleball Game
TRANSP:OPAQUE
BEGIN:VALARM
TRIGGER:-PT2H
ACTION:DISPLAY
DESCRIPTION:Cathie & Samantha vs. Lynette & Hayden
END:VALARM
END:VEVENT
BEGIN:VEVENT
UID:crpd-50860004-20210929T191500@quickscores.com
DTSTAMP:20260423T105200Z
DTSTART;TZID=America/Los_Angeles:20210929T191500
DURATION:PT0H45M0S
SUMMARY:Laarni & Jeff vs. Lynette & Hayden
DESCRIPTION:Wednesday Beginning Mixed - Conejo Recreation and Park District
LOCATION:Rancho Conejo Pickleball Court #9
CATEGORIES:QuickScores, Pickleball Game
TRANSP:OPAQUE
BEGIN:VALARM
TRIGGER:-PT2H
ACTION:DISPLAY
DESCRIPTION:Laarni & Jeff vs. Lynette & Hayden
END:VALARM
END:VEVENT
BEGIN:VEVENT
UID:crpd-50860010-20211006T183000@quickscores.com
DTSTAMP:20260423T105200Z
DTSTART;TZID=America/Los_Angeles:20211006T183000
DURATION:PT0H45M0S
SUMMARY:Karen & Preston vs. Lynette & Hayden
DESCRIPTION:Wednesday Beginning Mixed - Conejo Recreation and Park District
LOCATION:Rancho Conejo Pickleball Court #9
CATEGORIES:QuickScores, Pickleball Game
TRANSP:OPAQUE
BEGIN:VALARM
TRIGGER:-PT2H
ACTION:DISPLAY
DESCRIPTION:Karen & Preston vs. Lynette & Hayden
END:VALARM
END:VEVENT
BEGIN:VEVENT
UID:crpd-50860015-20211006T191500@quickscores.com
DTSTAMP:20260423T105200Z
DTSTART;TZID=America/Los_Angeles:20211006T191500
DURATION:PT0H45M0S
SUMMARY:Lissa & Mike vs. Lynette & Hayden
DESCRIPTION:Wednesday Beginning Mixed - Conejo Recreation and Park District
LOCATION:Rancho Conejo Pickleball Court #9
CATEGORIES:QuickScores, Pickleball Game
TRANSP:OPAQUE
BEGIN:VALARM
TRIGGER:-PT2H
ACTION:DISPLAY
DESCRIPTION:Lissa & Mike vs. Lynette & Hayden
END:VALARM
END:VEVENT
BEGIN:VEVENT
UID:crpd-50860017-20211013T183000@quickscores.com
DTSTAMP:20260423T105200Z
DTSTART;TZID=America/Los_Angeles:20211013T183000
DURATION:PT0H45M0S
SUMMARY:Julie & Kerry vs. Lynette & Hayden
DESCRIPTION:Wednesday Beginning Mixed - Conejo Recreation and Park District
LOCATION:Rancho Conejo Pickleball Court #8
CATEGORIES:QuickScores, Pickleball Game
TRANSP:OPAQUE
BEGIN:VALARM
TRIGGER:-PT2H
ACTION:DISPLAY
DESCRIPTION:Julie & Kerry vs. Lynette & Hayden
END:VALARM
END:VEVENT
BEGIN:VEVENT
UID:crpd-50860024-20211013T191500@quickscores.com
DTSTAMP:20260423T105200Z
DTSTART;TZID=America/Los_Angeles:20211013T191500
DURATION:PT0H45M0S
SUMMARY:Linda & Dwight vs. Lynette & Hayden
DESCRIPTION:Wednesday Beginning Mixed - Conejo Recreation and Park District
LOCATION:Rancho Conejo Pickleball Court #8
CATEGORIES:QuickScores, Pickleball Game
TRANSP:OPAQUE
BEGIN:VALARM
TRIGGER:-PT2H
ACTION:DISPLAY
DESCRIPTION:Linda & Dwight vs. Lynette & Hayden
END:VALARM
END:VEVENT
BEGIN:VEVENT
UID:crpd-50860028-20211027T183000@quickscores.com
DTSTAMP:20260423T105200Z
DTSTART;TZID=America/Los_Angeles:20211027T183000
DURATION:PT0H45M0S
SUMMARY:Lynette & Hayden vs. Victoria & Rick
DESCRIPTION:Wednesday Beginning Mixed - Conejo Recreation and Park District
LOCATION:Rancho Conejo Pickleball Court #7
CATEGORIES:QuickScores, Pickleball Game
TRANSP:OPAQUE
BEGIN:VALARM
TRIGGER:-PT2H
ACTION:DISPLAY
DESCRIPTION:Lynette & Hayden vs. Victoria & Rick
END:VALARM
END:VEVENT
BEGIN:VEVENT
UID:crpd-50860030-20211027T191500@quickscores.com
DTSTAMP:20260423T105200Z
DTSTART;TZID=America/Los_Angeles:20211027T191500
DURATION:PT0H45M0S
SUMMARY:Lynette & Hayden vs. Cathie & Samantha
DESCRIPTION:Wednesday Beginning Mixed - Conejo Recreation and Park District
LOCATION:Rancho Conejo Pickleball Court #7
CATEGORIES:QuickScores, Pickleball Game
TRANSP:OPAQUE
BEGIN:VALARM
TRIGGER:-PT2H
ACTION:DISPLAY
DESCRIPTION:Lynette & Hayden vs. Cathie & Samantha
END:VALARM
END:VEVENT
BEGIN:VEVENT
UID:crpd-50860039-20211103T183000@quickscores.com
DTSTAMP:20260423T105200Z
DTSTART;TZID=America/Los_Angeles:20211103T183000
DURATION:PT0H45M0S
SUMMARY:Lynette & Hayden vs. Lissa & Mike
DESCRIPTION:Wednesday Beginning Mixed - Conejo Recreation and Park District
LOCATION:Rancho Conejo Pickleball Court #8
CATEGORIES:QuickScores, Pickleball Game
TRANSP:OPAQUE
BEGIN:VALARM
TRIGGER:-PT2H
ACTION:DISPLAY
DESCRIPTION:Lynette & Hayden vs. Lissa & Mike
END:VALARM
END:VEVENT
BEGIN:VEVENT
UID:crpd-50860034-20211103T191500@quickscores.com
DTSTAMP:20260423T105200Z
DTSTART;TZID=America/Los_Angeles:20211103T191500
DURATION:PT0H45M0S
SUMMARY:Lynette & Hayden vs. Laarni & Jeff
DESCRIPTION:Wednesday Beginning Mixed - Conejo Recreation and Park District
LOCATION:Rancho Conejo Pickleball Court #8
CATEGORIES:QuickScores, Pickleball Game
TRANSP:OPAQUE
BEGIN:VALARM
TRIGGER:-PT2H
ACTION:DISPLAY
DESCRIPTION:Lynette & Hayden vs. Laarni & Jeff
END:VALARM
END:VEVENT
BEGIN:VEVENT
UID:crpd-50860042-20211110T183000@quickscores.com
DTSTAMP:20260423T105200Z
DTSTART;TZID=America/Los_Angeles:20211110T183000
DURATION:PT0H45M0S
SUMMARY:Lynette & Hayden vs. Julie & Kerry
DESCRIPTION:Wednesday Beginning Mixed - Conejo Recreation and Park District
LOCATION:Rancho Conejo Pickleball Court #10
CATEGORIES:QuickScores, Pickleball Game
TRANSP:OPAQUE
BEGIN:VALARM
TRIGGER:-PT2H
ACTION:DISPLAY
DESCRIPTION:Lynette & Hayden vs. Julie & Kerry
END:VALARM
END:VEVENT
BEGIN:VEVENT
UID:crpd-50860043-20211110T191500@quickscores.com
DTSTAMP:20260423T105200Z
DTSTART;TZID=America/Los_Angeles:20211110T191500
DURATION:PT0H45M0S
SUMMARY:Karen & Preston vs. Lynette & Hayden
DESCRIPTION:Wednesday Beginning Mixed - Conejo Recreation and Park District
LOCATION:Rancho Conejo Pickleball Court #10
CATEGORIES:QuickScores, Pickleball Game
TRANSP:OPAQUE
BEGIN:VALARM
TRIGGER:-PT2H
ACTION:DISPLAY
DESCRIPTION:Karen & Preston vs. Lynette & Hayden
END:VALARM
END:VEVENT
END:VCALENDAR
