BEGIN:VCALENDAR
VERSION:2.0
PRODID:-//QuickScores.com//BQ Dynamic iCal Creator//EN
METHOD:PUBLISH
X-WR-CALNAME:WPC - Sunday Coed Bp 2 - 2021 Fall Softball League
X-WR-CALDESC:QuickScores game calendar
X-PUBLISHED-TTL:PT24H
REFRESH-INTERVAL;VALUE=DURATION:PT24H
CALSCALE:GREGORIAN
BEGIN:VTIMEZONE
TZID:America/Los_Angeles
X-LIC-LOCATION:America/Los_Angeles
BEGIN:DAYLIGHT
TZNAME:PDT
TZOFFSETFROM:-0800
TZOFFSETTO:-0700
DTSTART:19700308T020000
RRULE:FREQ=YEARLY;BYMONTH=3;BYDAY=2SU
END:DAYLIGHT
BEGIN:STANDARD
TZNAME:PST
TZOFFSETFROM:-0700
TZOFFSETTO:-0800
DTSTART:19701101T020000
RRULE:FREQ=YEARLY;BYMONTH=11;BYDAY=1SU
END:STANDARD
END:VTIMEZONE
BEGIN:VEVENT
UID:crpd-50680153-20210912T181500@quickscores.com
DTSTAMP:20260420T015100Z
DTSTART;TZID=America/Los_Angeles:20210912T181500
DURATION:PT1H15M0S
SUMMARY:WPC vs. Bat Attitude
DESCRIPTION:Sunday Coed Bp 2 - Conejo Recreation and Park District
LOCATION:Borchard Park Field #2
CATEGORIES:QuickScores, Softball - Adult Game
TRANSP:OPAQUE
BEGIN:VALARM
TRIGGER:-PT2H
ACTION:DISPLAY
DESCRIPTION:WPC vs. Bat Attitude
END:VALARM
END:VEVENT
BEGIN:VEVENT
UID:crpd-50680155-20210919T170000@quickscores.com
DTSTAMP:20260420T015100Z
DTSTART;TZID=America/Los_Angeles:20210919T170000
DURATION:PT1H15M0S
SUMMARY:WPC vs. Chalice
DESCRIPTION:Sunday Coed Bp 2 - Conejo Recreation and Park District
LOCATION:Borchard Park Field #2
CATEGORIES:QuickScores, Softball - Adult Game
TRANSP:OPAQUE
BEGIN:VALARM
TRIGGER:-PT2H
ACTION:DISPLAY
DESCRIPTION:WPC vs. Chalice
END:VALARM
END:VEVENT
BEGIN:VEVENT
UID:crpd-50680157-20210926T170000@quickscores.com
DTSTAMP:20260420T015100Z
DTSTART;TZID=America/Los_Angeles:20210926T170000
DURATION:PT1H15M0S
SUMMARY:WPC vs. St. Patricks
DESCRIPTION:Sunday Coed Bp 2 - Conejo Recreation and Park District
LOCATION:Borchard Park Field #2
CATEGORIES:QuickScores, Softball - Adult Game
TRANSP:OPAQUE
BEGIN:VALARM
TRIGGER:-PT2H
ACTION:DISPLAY
DESCRIPTION:WPC vs. St. Patricks
END:VALARM
END:VEVENT
BEGIN:VEVENT
UID:crpd-50680159-20211003T181500@quickscores.com
DTSTAMP:20260420T015100Z
DTSTART;TZID=America/Los_Angeles:20211003T181500
DURATION:PT1H15M0S
SUMMARY:Bat Attitude vs. WPC
DESCRIPTION:Sunday Coed Bp 2 - Conejo Recreation and Park District
LOCATION:Borchard Park Field #2
CATEGORIES:QuickScores, Softball - Adult Game
TRANSP:OPAQUE
BEGIN:VALARM
TRIGGER:-PT2H
ACTION:DISPLAY
DESCRIPTION:Bat Attitude vs. WPC
END:VALARM
END:VEVENT
BEGIN:VEVENT
UID:crpd-50680161-20211010T181500@quickscores.com
DTSTAMP:20260420T015100Z
DTSTART;TZID=America/Los_Angeles:20211010T181500
DURATION:PT1H15M0S
SUMMARY:Chalice vs. WPC
DESCRIPTION:Sunday Coed Bp 2 - Conejo Recreation and Park District
LOCATION:Borchard Park Field #2
CATEGORIES:QuickScores, Softball - Adult Game
TRANSP:OPAQUE
BEGIN:VALARM
TRIGGER:-PT2H
ACTION:DISPLAY
DESCRIPTION:Chalice vs. WPC
END:VALARM
END:VEVENT
BEGIN:VEVENT
UID:crpd-50680163-20211017T181500@quickscores.com
DTSTAMP:20260420T015100Z
DTSTART;TZID=America/Los_Angeles:20211017T181500
DURATION:PT1H15M0S
SUMMARY:St. Patricks vs. WPC
DESCRIPTION:Sunday Coed Bp 2 - Conejo Recreation and Park District
LOCATION:Borchard Park Field #2
CATEGORIES:QuickScores, Softball - Adult Game
TRANSP:OPAQUE
BEGIN:VALARM
TRIGGER:-PT2H
ACTION:DISPLAY
DESCRIPTION:St. Patricks vs. WPC
END:VALARM
END:VEVENT
BEGIN:VEVENT
UID:crpd-50680165-20211024T170000@quickscores.com
DTSTAMP:20260420T015100Z
DTSTART;TZID=America/Los_Angeles:20211024T170000
DURATION:PT1H15M0S
SUMMARY:WPC vs. Bat Attitude
DESCRIPTION:Sunday Coed Bp 2 - Conejo Recreation and Park District
LOCATION:Borchard Park Field #2
CATEGORIES:QuickScores, Softball - Adult Game
TRANSP:OPAQUE
BEGIN:VALARM
TRIGGER:-PT2H
ACTION:DISPLAY
DESCRIPTION:WPC vs. Bat Attitude
END:VALARM
END:VEVENT
BEGIN:VEVENT
UID:crpd-50680167-20211107T181500@quickscores.com
DTSTAMP:20260420T015100Z
DTSTART;TZID=America/Los_Angeles:20211107T181500
DURATION:PT1H15M0S
SUMMARY:Chalice vs. WPC
DESCRIPTION:Sunday Coed Bp 2 - Conejo Recreation and Park District
LOCATION:Borchard Park Field #2
CATEGORIES:QuickScores, Softball - Adult Game
TRANSP:OPAQUE
BEGIN:VALARM
TRIGGER:-PT2H
ACTION:DISPLAY
DESCRIPTION:Chalice vs. WPC
END:VALARM
END:VEVENT
BEGIN:VEVENT
UID:crpd-50680169-20211114T170000@quickscores.com
DTSTAMP:20260420T015100Z
DTSTART;TZID=America/Los_Angeles:20211114T170000
DURATION:PT1H15M0S
SUMMARY:WPC vs. St. Patricks
DESCRIPTION:Sunday Coed Bp 2 - Conejo Recreation and Park District
LOCATION:Borchard Park Field #2
CATEGORIES:QuickScores, Softball - Adult Game
TRANSP:OPAQUE
BEGIN:VALARM
TRIGGER:-PT2H
ACTION:DISPLAY
DESCRIPTION:WPC vs. St. Patricks
END:VALARM
END:VEVENT
BEGIN:VEVENT
UID:crpd-50680171-20211121T170000@quickscores.com
DTSTAMP:20260420T015100Z
DTSTART;TZID=America/Los_Angeles:20211121T170000
DURATION:PT1H15M0S
SUMMARY:Bat Attitude vs. WPC
DESCRIPTION:Sunday Coed Bp 2 - Conejo Recreation and Park District
LOCATION:Borchard Park Field #2
CATEGORIES:QuickScores, Softball - Adult Game
TRANSP:OPAQUE
BEGIN:VALARM
TRIGGER:-PT2H
ACTION:DISPLAY
DESCRIPTION:Bat Attitude vs. WPC
END:VALARM
END:VEVENT
END:VCALENDAR
