BEGIN:VCALENDAR
VERSION:2.0
PRODID:-//QuickScores.com//BQ Dynamic iCal Creator//EN
METHOD:PUBLISH
X-WR-CALNAME:CrossPoint - Williams - 5th/6th Boys - Student Basketball 2025-2026
X-WR-CALDESC:QuickScores game calendar
X-PUBLISHED-TTL:PT24H
REFRESH-INTERVAL;VALUE=DURATION:PT24H
CALSCALE:GREGORIAN
BEGIN:VTIMEZONE
TZID:America/Chicago
X-LIC-LOCATION:America/Chicago
BEGIN:DAYLIGHT
TZNAME:CDT
TZOFFSETFROM:-0600
TZOFFSETTO:-0500
DTSTART:19700308T020000
RRULE:FREQ=YEARLY;BYMONTH=3;BYDAY=2SU
END:DAYLIGHT
BEGIN:STANDARD
TZNAME:CST
TZOFFSETFROM:-0500
TZOFFSETTO:-0600
DTSTART:19701101T020000
RRULE:FREQ=YEARLY;BYMONTH=11;BYDAY=1SU
END:STANDARD
END:VTIMEZONE
BEGIN:VEVENT
UID:crosspointchurch-71850574-20251206T171500@quickscores.com
DTSTAMP:20260425T100700Z
DTSTART;TZID=America/Chicago:20251206T171500
DURATION:PT1H0M0S
SUMMARY:CrossPoint - Williams vs. CrossPoint - Walker
DESCRIPTION:5th/6th Boys - CrossPoint Church
LOCATION:CrossPoint Court 2
CATEGORIES:QuickScores, Basketball Game
TRANSP:OPAQUE
BEGIN:VALARM
TRIGGER:-PT2H
ACTION:DISPLAY
DESCRIPTION:CrossPoint - Williams vs. CrossPoint - Walker
END:VALARM
END:VEVENT
BEGIN:VEVENT
UID:crosspointchurch-71850579-20251213T171500@quickscores.com
DTSTAMP:20260425T100700Z
DTSTART;TZID=America/Chicago:20251213T171500
DURATION:PT1H0M0S
SUMMARY:CrossPoint - Green vs. CrossPoint - Williams
DESCRIPTION:5th/6th Boys - CrossPoint Church
LOCATION:CrossPoint Court 1
CATEGORIES:QuickScores, Basketball Game
TRANSP:OPAQUE
BEGIN:VALARM
TRIGGER:-PT2H
ACTION:DISPLAY
DESCRIPTION:CrossPoint - Green vs. CrossPoint - Williams
END:VALARM
END:VEVENT
BEGIN:VEVENT
UID:crosspointchurch-71850581-20260103T171500@quickscores.com
DTSTAMP:20260425T100700Z
DTSTART;TZID=America/Chicago:20260103T171500
DURATION:PT1H0M0S
SUMMARY:CrossPoint - Williams vs. FBCT - Millington
DESCRIPTION:5th/6th Boys - CrossPoint Church
LOCATION:CrossPoint Court 2
CATEGORIES:QuickScores, Basketball Game
TRANSP:OPAQUE
BEGIN:VALARM
TRIGGER:-PT2H
ACTION:DISPLAY
DESCRIPTION:CrossPoint - Williams vs. FBCT - Millington
END:VALARM
END:VEVENT
BEGIN:VEVENT
UID:crosspointchurch-71850587-20260110T161500@quickscores.com
DTSTAMP:20260425T100700Z
DTSTART;TZID=America/Chicago:20260110T161500
DURATION:PT1H0M0S
SUMMARY:CrossPoint - Williams vs. FBCT - Wright
DESCRIPTION:5th/6th Boys - CrossPoint Church
LOCATION:CrossPoint Court 2
CATEGORIES:QuickScores, Basketball Game
TRANSP:OPAQUE
BEGIN:VALARM
TRIGGER:-PT2H
ACTION:DISPLAY
DESCRIPTION:CrossPoint - Williams vs. FBCT - Wright
END:VALARM
END:VEVENT
BEGIN:VEVENT
UID:crosspointchurch-71850588-20260124T161500@quickscores.com
DTSTAMP:20260425T100700Z
DTSTART;TZID=America/Chicago:20260124T161500
DURATION:PT1H0M0S
SUMMARY:CrossPoint - Gibbs vs. CrossPoint - Williams
DESCRIPTION:5th/6th Boys - CrossPoint Church
LOCATION:CrossPoint Court 1
CATEGORIES:QuickScores, Basketball Game
TRANSP:OPAQUE
BEGIN:VALARM
TRIGGER:-PT2H
ACTION:DISPLAY
DESCRIPTION:CrossPoint - Gibbs vs. CrossPoint - Williams
END:VALARM
END:VEVENT
BEGIN:VEVENT
UID:crosspointchurch-71850594-20260131T171500@quickscores.com
DTSTAMP:20260425T100700Z
DTSTART;TZID=America/Chicago:20260131T171500
DURATION:PT1H0M0S
SUMMARY:CrossPoint - Windham vs. CrossPoint - Williams
DESCRIPTION:5th/6th Boys - CrossPoint Church
LOCATION:CrossPoint Court 1
CATEGORIES:QuickScores, Basketball Game
TRANSP:OPAQUE
BEGIN:VALARM
TRIGGER:-PT2H
ACTION:DISPLAY
DESCRIPTION:CrossPoint - Windham vs. CrossPoint - Williams
END:VALARM
END:VEVENT
BEGIN:VEVENT
UID:crosspointchurch-71850597-20260207T161500@quickscores.com
DTSTAMP:20260425T100700Z
DTSTART;TZID=America/Chicago:20260207T161500
DURATION:PT1H0M0S
SUMMARY:CrossPoint - Williams vs. FBCT - King
DESCRIPTION:5th/6th Boys - CrossPoint Church
LOCATION:CrossPoint Court 1
CATEGORIES:QuickScores, Basketball Game
TRANSP:OPAQUE
BEGIN:VALARM
TRIGGER:-PT2H
ACTION:DISPLAY
DESCRIPTION:CrossPoint - Williams vs. FBCT - King
END:VALARM
END:VEVENT
END:VCALENDAR
