BEGIN:VCALENDAR
VERSION:2.0
PRODID:-//QuickScores.com//BQ Dynamic iCal Creator//EN
METHOD:PUBLISH
X-WR-CALNAME:CrossPoint - Green - 5th/6th Boys - Student Basketball 2025-2026
X-WR-CALDESC:QuickScores game calendar
X-PUBLISHED-TTL:PT24H
REFRESH-INTERVAL;VALUE=DURATION:PT24H
CALSCALE:GREGORIAN
BEGIN:VTIMEZONE
TZID:America/Chicago
X-LIC-LOCATION:America/Chicago
BEGIN:DAYLIGHT
TZNAME:CDT
TZOFFSETFROM:-0600
TZOFFSETTO:-0500
DTSTART:19700308T020000
RRULE:FREQ=YEARLY;BYMONTH=3;BYDAY=2SU
END:DAYLIGHT
BEGIN:STANDARD
TZNAME:CST
TZOFFSETFROM:-0500
TZOFFSETTO:-0600
DTSTART:19701101T020000
RRULE:FREQ=YEARLY;BYMONTH=11;BYDAY=1SU
END:STANDARD
END:VTIMEZONE
BEGIN:VEVENT
UID:crosspointchurch-71850575-20251206T161500@quickscores.com
DTSTAMP:20260424T130800Z
DTSTART;TZID=America/Chicago:20251206T161500
DURATION:PT1H0M0S
SUMMARY:FBCT - King vs. CrossPoint - Green
DESCRIPTION:5th/6th Boys - CrossPoint Church
LOCATION:CrossPoint Court 2
CATEGORIES:QuickScores, Basketball Game
TRANSP:OPAQUE
BEGIN:VALARM
TRIGGER:-PT2H
ACTION:DISPLAY
DESCRIPTION:FBCT - King vs. CrossPoint - Green
END:VALARM
END:VEVENT
BEGIN:VEVENT
UID:crosspointchurch-71850579-20251213T171500@quickscores.com
DTSTAMP:20260424T130800Z
DTSTART;TZID=America/Chicago:20251213T171500
DURATION:PT1H0M0S
SUMMARY:CrossPoint - Green vs. CrossPoint - Williams
DESCRIPTION:5th/6th Boys - CrossPoint Church
LOCATION:CrossPoint Court 1
CATEGORIES:QuickScores, Basketball Game
TRANSP:OPAQUE
BEGIN:VALARM
TRIGGER:-PT2H
ACTION:DISPLAY
DESCRIPTION:CrossPoint - Green vs. CrossPoint - Williams
END:VALARM
END:VEVENT
BEGIN:VEVENT
UID:crosspointchurch-71850582-20260103T171500@quickscores.com
DTSTAMP:20260424T130800Z
DTSTART;TZID=America/Chicago:20260103T171500
DURATION:PT1H0M0S
SUMMARY:CrossPoint - Green vs. CrossPoint - Windham
DESCRIPTION:5th/6th Boys - CrossPoint Church
LOCATION:CrossPoint Court 1
CATEGORIES:QuickScores, Basketball Game
TRANSP:OPAQUE
BEGIN:VALARM
TRIGGER:-PT2H
ACTION:DISPLAY
DESCRIPTION:CrossPoint - Green vs. CrossPoint - Windham
END:VALARM
END:VEVENT
BEGIN:VEVENT
UID:crosspointchurch-71850586-20260110T161500@quickscores.com
DTSTAMP:20260424T130800Z
DTSTART;TZID=America/Chicago:20260110T161500
DURATION:PT1H0M0S
SUMMARY:FBCT - Millington vs. CrossPoint - Green
DESCRIPTION:5th/6th Boys - CrossPoint Church
LOCATION:CrossPoint Court 1
CATEGORIES:QuickScores, Basketball Game
TRANSP:OPAQUE
BEGIN:VALARM
TRIGGER:-PT2H
ACTION:DISPLAY
DESCRIPTION:FBCT - Millington vs. CrossPoint - Green
END:VALARM
END:VEVENT
BEGIN:VEVENT
UID:crosspointchurch-71850589-20260124T171500@quickscores.com
DTSTAMP:20260424T130800Z
DTSTART;TZID=America/Chicago:20260124T171500
DURATION:PT1H0M0S
SUMMARY:FBCT - Wright vs. CrossPoint - Green
DESCRIPTION:5th/6th Boys - CrossPoint Church
LOCATION:CrossPoint Court 2
CATEGORIES:QuickScores, Basketball Game
TRANSP:OPAQUE
BEGIN:VALARM
TRIGGER:-PT2H
ACTION:DISPLAY
DESCRIPTION:FBCT - Wright vs. CrossPoint - Green
END:VALARM
END:VEVENT
BEGIN:VEVENT
UID:crosspointchurch-71850593-20260131T161500@quickscores.com
DTSTAMP:20260424T130800Z
DTSTART;TZID=America/Chicago:20260131T161500
DURATION:PT1H0M0S
SUMMARY:CrossPoint - Walker vs. CrossPoint - Green
DESCRIPTION:5th/6th Boys - CrossPoint Church
LOCATION:CrossPoint Court 1
CATEGORIES:QuickScores, Basketball Game
TRANSP:OPAQUE
BEGIN:VALARM
TRIGGER:-PT2H
ACTION:DISPLAY
DESCRIPTION:CrossPoint - Walker vs. CrossPoint - Green
END:VALARM
END:VEVENT
BEGIN:VEVENT
UID:crosspointchurch-71850596-20260207T161500@quickscores.com
DTSTAMP:20260424T130800Z
DTSTART;TZID=America/Chicago:20260207T161500
DURATION:PT1H0M0S
SUMMARY:CrossPoint - Green vs. CrossPoint - Gibbs
DESCRIPTION:5th/6th Boys - CrossPoint Church
LOCATION:CrossPoint Court 2
CATEGORIES:QuickScores, Basketball Game
TRANSP:OPAQUE
BEGIN:VALARM
TRIGGER:-PT2H
ACTION:DISPLAY
DESCRIPTION:CrossPoint - Green vs. CrossPoint - Gibbs
END:VALARM
END:VEVENT
BEGIN:VEVENT
UID:crosspointchurch-72408015-20260214T111500@quickscores.com
DTSTAMP:20260424T130800Z
DTSTART;TZID=America/Chicago:20260214T111500
DURATION:PT1H0M0S
SUMMARY:[1] FBCT - King vs. [2] CrossPoint - Green
DESCRIPTION:5th/6th Boys - CrossPoint Church
LOCATION:CrossPoint Court 2
CATEGORIES:QuickScores, Basketball Game
TRANSP:OPAQUE
BEGIN:VALARM
TRIGGER:-PT2H
ACTION:DISPLAY
DESCRIPTION:[1] FBCT - King vs. [2] CrossPoint - Green
END:VALARM
END:VEVENT
END:VCALENDAR
