BEGIN:VCALENDAR
VERSION:2.0
PRODID:-//QuickScores.com//BQ Dynamic iCal Creator//EN
METHOD:PUBLISH
X-WR-CALNAME:Faith - 3rd/4th Girls - Student Basketball 2025-2026
X-WR-CALDESC:QuickScores game calendar
X-PUBLISHED-TTL:PT24H
REFRESH-INTERVAL;VALUE=DURATION:PT24H
CALSCALE:GREGORIAN
BEGIN:VTIMEZONE
TZID:America/Chicago
X-LIC-LOCATION:America/Chicago
BEGIN:DAYLIGHT
TZNAME:CDT
TZOFFSETFROM:-0600
TZOFFSETTO:-0500
DTSTART:19700308T020000
RRULE:FREQ=YEARLY;BYMONTH=3;BYDAY=2SU
END:DAYLIGHT
BEGIN:STANDARD
TZNAME:CST
TZOFFSETFROM:-0500
TZOFFSETTO:-0600
DTSTART:19701101T020000
RRULE:FREQ=YEARLY;BYMONTH=11;BYDAY=1SU
END:STANDARD
END:VTIMEZONE
BEGIN:VEVENT
UID:crosspointchurch-71849925-20251206T100000@quickscores.com
DTSTAMP:20260424T064700Z
DTSTART;TZID=America/Chicago:20251206T100000
DURATION:PT1H0M0S
SUMMARY:Faith vs. CrossPoint - Baker
DESCRIPTION:3rd/4th Girls - CrossPoint Church
LOCATION:CrossPoint Court 2
CATEGORIES:QuickScores, Basketball Game
TRANSP:OPAQUE
BEGIN:VALARM
TRIGGER:-PT2H
ACTION:DISPLAY
DESCRIPTION:Faith vs. CrossPoint - Baker
END:VALARM
END:VEVENT
BEGIN:VEVENT
UID:crosspointchurch-71849927-20251213T100000@quickscores.com
DTSTAMP:20260424T064700Z
DTSTART;TZID=America/Chicago:20251213T100000
DURATION:PT1H0M0S
SUMMARY:Faith vs. FBCT - Spies
DESCRIPTION:3rd/4th Girls - CrossPoint Church
LOCATION:CrossPoint Court 2
CATEGORIES:QuickScores, Basketball Game
TRANSP:OPAQUE
BEGIN:VALARM
TRIGGER:-PT2H
ACTION:DISPLAY
DESCRIPTION:Faith vs. FBCT - Spies
END:VALARM
END:VEVENT
BEGIN:VEVENT
UID:crosspointchurch-71849931-20260103T110000@quickscores.com
DTSTAMP:20260424T064700Z
DTSTART;TZID=America/Chicago:20260103T110000
DURATION:PT1H0M0S
SUMMARY:CrossPoint - Wilbanks vs. Faith
DESCRIPTION:3rd/4th Girls - CrossPoint Church
LOCATION:CrossPoint Court 2
CATEGORIES:QuickScores, Basketball Game
TRANSP:OPAQUE
BEGIN:VALARM
TRIGGER:-PT2H
ACTION:DISPLAY
DESCRIPTION:CrossPoint - Wilbanks vs. Faith
END:VALARM
END:VEVENT
BEGIN:VEVENT
UID:crosspointchurch-71849932-20260110T110000@quickscores.com
DTSTAMP:20260424T064700Z
DTSTART;TZID=America/Chicago:20260110T110000
DURATION:PT1H0M0S
SUMMARY:FBCT - Coleman vs. Faith
DESCRIPTION:3rd/4th Girls - CrossPoint Church
LOCATION:CrossPoint Court 1
CATEGORIES:QuickScores, Basketball Game
TRANSP:OPAQUE
BEGIN:VALARM
TRIGGER:-PT2H
ACTION:DISPLAY
DESCRIPTION:FBCT - Coleman vs. Faith
END:VALARM
END:VEVENT
BEGIN:VEVENT
UID:crosspointchurch-71849936-20260124T100000@quickscores.com
DTSTAMP:20260424T064700Z
DTSTART;TZID=America/Chicago:20260124T100000
DURATION:PT1H0M0S
SUMMARY:Faith vs. CrossPoint - Orazine/Hamilton
DESCRIPTION:3rd/4th Girls - CrossPoint Church
LOCATION:CrossPoint Court 2
CATEGORIES:QuickScores, Basketball Game
TRANSP:OPAQUE
BEGIN:VALARM
TRIGGER:-PT2H
ACTION:DISPLAY
DESCRIPTION:Faith vs. CrossPoint - Orazine/Hamilton
END:VALARM
END:VEVENT
BEGIN:VEVENT
UID:crosspointchurch-71849940-20260131T110000@quickscores.com
DTSTAMP:20260424T064700Z
DTSTART;TZID=America/Chicago:20260131T110000
DURATION:PT1H0M0S
SUMMARY:CrossPoint - Baker vs. Faith
DESCRIPTION:3rd/4th Girls - CrossPoint Church
LOCATION:CrossPoint Court 2
CATEGORIES:QuickScores, Basketball Game
TRANSP:OPAQUE
BEGIN:VALARM
TRIGGER:-PT2H
ACTION:DISPLAY
DESCRIPTION:CrossPoint - Baker vs. Faith
END:VALARM
END:VEVENT
BEGIN:VEVENT
UID:crosspointchurch-71849942-20260207T110000@quickscores.com
DTSTAMP:20260424T064700Z
DTSTART;TZID=America/Chicago:20260207T110000
DURATION:PT1H0M0S
SUMMARY:FBCT - Spies vs. Faith
DESCRIPTION:3rd/4th Girls - CrossPoint Church
LOCATION:CrossPoint Court 1
CATEGORIES:QuickScores, Basketball Game
TRANSP:OPAQUE
BEGIN:VALARM
TRIGGER:-PT2H
ACTION:DISPLAY
DESCRIPTION:FBCT - Spies vs. Faith
END:VALARM
END:VEVENT
BEGIN:VEVENT
UID:crosspointchurch-72408008-20260214T100000@quickscores.com
DTSTAMP:20260424T064700Z
DTSTART;TZID=America/Chicago:20260214T100000
DURATION:PT1H0M0S
SUMMARY:[1] Faith vs. [2] CrossPoint - Orazine/Hamilton
DESCRIPTION:3rd/4th Girls - CrossPoint Church
LOCATION:CrossPoint Court 2
CATEGORIES:QuickScores, Basketball Game
TRANSP:OPAQUE
BEGIN:VALARM
TRIGGER:-PT2H
ACTION:DISPLAY
DESCRIPTION:[1] Faith vs. [2] CrossPoint - Orazine/Hamilton
END:VALARM
END:VEVENT
END:VCALENDAR
