BEGIN:VCALENDAR
VERSION:2.0
PRODID:-//QuickScores.com//BQ Dynamic iCal Creator//EN
METHOD:PUBLISH
X-WR-CALNAME:CrossPoint - Windham - 5th/6th Boys - Student Basketball 2024-25
X-WR-CALDESC:QuickScores game calendar
X-PUBLISHED-TTL:PT24H
REFRESH-INTERVAL;VALUE=DURATION:PT24H
CALSCALE:GREGORIAN
BEGIN:VTIMEZONE
TZID:America/Chicago
X-LIC-LOCATION:America/Chicago
BEGIN:DAYLIGHT
TZNAME:CDT
TZOFFSETFROM:-0600
TZOFFSETTO:-0500
DTSTART:19700308T020000
RRULE:FREQ=YEARLY;BYMONTH=3;BYDAY=2SU
END:DAYLIGHT
BEGIN:STANDARD
TZNAME:CST
TZOFFSETFROM:-0500
TZOFFSETTO:-0600
DTSTART:19701101T020000
RRULE:FREQ=YEARLY;BYMONTH=11;BYDAY=1SU
END:STANDARD
END:VTIMEZONE
BEGIN:VEVENT
UID:crosspointchurch-66097828-20241203T174500@quickscores.com
DTSTAMP:20260423T154000Z
DTSTART;TZID=America/Chicago:20241203T174500
DURATION:PT1H0M0S
SUMMARY:CrossPoint - Windham vs. CrossPoint - Walker
DESCRIPTION:5th/6th Boys - CrossPoint Church
LOCATION:CrossPoint Court 2
CATEGORIES:QuickScores, Basketball Game
TRANSP:OPAQUE
BEGIN:VALARM
TRIGGER:-PT2H
ACTION:DISPLAY
DESCRIPTION:CrossPoint - Windham vs. CrossPoint - Walker
END:VALARM
END:VEVENT
BEGIN:VEVENT
UID:crosspointchurch-66097831-20241214T135500@quickscores.com
DTSTAMP:20260423T154000Z
DTSTART;TZID=America/Chicago:20241214T135500
DURATION:PT1H0M0S
SUMMARY:FBCT - Nevins vs. CrossPoint - Windham
DESCRIPTION:5th/6th Boys - CrossPoint Church
LOCATION:CrossPoint Court 1
CATEGORIES:QuickScores, Basketball Game
TRANSP:OPAQUE
BEGIN:VALARM
TRIGGER:-PT2H
ACTION:DISPLAY
DESCRIPTION:FBCT - Nevins vs. CrossPoint - Windham
END:VALARM
END:VEVENT
BEGIN:VEVENT
UID:crosspointchurch-66097836-20250104T160500@quickscores.com
DTSTAMP:20260423T154000Z
DTSTART;TZID=America/Chicago:20250104T160500
DURATION:PT1H0M0S
SUMMARY:CrossPoint - Windham vs. CrossPoint - Holmes
DESCRIPTION:5th/6th Boys - CrossPoint Church
LOCATION:CrossPoint Court 2
CATEGORIES:QuickScores, Basketball Game
TRANSP:OPAQUE
BEGIN:VALARM
TRIGGER:-PT2H
ACTION:DISPLAY
DESCRIPTION:CrossPoint - Windham vs. CrossPoint - Holmes
END:VALARM
END:VEVENT
BEGIN:VEVENT
UID:crosspointchurch-66097838-20250123T204500@quickscores.com
DTSTAMP:20260423T154000Z
DTSTART;TZID=America/Chicago:20250123T204500
DURATION:PT1H0M0S
SUMMARY:CrossPoint - Orazine vs. CrossPoint - Windham
DESCRIPTION:5th/6th Boys - CrossPoint Church
LOCATION:CrossPoint Court 2
CATEGORIES:QuickScores, Basketball Game
TRANSP:OPAQUE
BEGIN:VALARM
TRIGGER:-PT2H
ACTION:DISPLAY
DESCRIPTION:CrossPoint - Orazine vs. CrossPoint - Windham
END:VALARM
END:VEVENT
BEGIN:VEVENT
UID:crosspointchurch-66097845-20250125T150000@quickscores.com
DTSTAMP:20260423T154000Z
DTSTART;TZID=America/Chicago:20250125T150000
DURATION:PT1H0M0S
SUMMARY:FBCT - King vs. CrossPoint - Windham
DESCRIPTION:5th/6th Boys - CrossPoint Church
LOCATION:CrossPoint Court 1
CATEGORIES:QuickScores, Basketball Game
TRANSP:OPAQUE
BEGIN:VALARM
TRIGGER:-PT2H
ACTION:DISPLAY
DESCRIPTION:FBCT - King vs. CrossPoint - Windham
END:VALARM
END:VEVENT
BEGIN:VEVENT
UID:crosspointchurch-66097850-20250201T150000@quickscores.com
DTSTAMP:20260423T154000Z
DTSTART;TZID=America/Chicago:20250201T150000
DURATION:PT1H0M0S
SUMMARY:CrossPoint - Windham vs. Faith
DESCRIPTION:5th/6th Boys - CrossPoint Church
LOCATION:CrossPoint Court 2
CATEGORIES:QuickScores, Basketball Game
TRANSP:OPAQUE
BEGIN:VALARM
TRIGGER:-PT2H
ACTION:DISPLAY
DESCRIPTION:CrossPoint - Windham vs. Faith
END:VALARM
END:VEVENT
BEGIN:VEVENT
UID:crosspointchurch-66097843-20250208T160500@quickscores.com
DTSTAMP:20260423T154000Z
DTSTART;TZID=America/Chicago:20250208T160500
DURATION:PT1H0M0S
SUMMARY:FBCT - Easterling vs. CrossPoint - Windham
DESCRIPTION:5th/6th Boys - CrossPoint Church
LOCATION:CrossPoint Court 1
CATEGORIES:QuickScores, Basketball Game
TRANSP:OPAQUE
BEGIN:VALARM
TRIGGER:-PT2H
ACTION:DISPLAY
DESCRIPTION:FBCT - Easterling vs. CrossPoint - Windham
END:VALARM
END:VEVENT
END:VCALENDAR
