BEGIN:VCALENDAR
VERSION:2.0
PRODID:-//QuickScores.com//BQ Dynamic iCal Creator//EN
METHOD:PUBLISH
X-WR-CALNAME:FBCT - 35 And Older League - Adult Basketball 2024
X-WR-CALDESC:QuickScores game calendar
X-PUBLISHED-TTL:PT24H
REFRESH-INTERVAL;VALUE=DURATION:PT24H
CALSCALE:GREGORIAN
BEGIN:VTIMEZONE
TZID:America/Chicago
X-LIC-LOCATION:America/Chicago
BEGIN:DAYLIGHT
TZNAME:CDT
TZOFFSETFROM:-0600
TZOFFSETTO:-0500
DTSTART:19700308T020000
RRULE:FREQ=YEARLY;BYMONTH=3;BYDAY=2SU
END:DAYLIGHT
BEGIN:STANDARD
TZNAME:CST
TZOFFSETFROM:-0500
TZOFFSETTO:-0600
DTSTART:19701101T020000
RRULE:FREQ=YEARLY;BYMONTH=11;BYDAY=1SU
END:STANDARD
END:VTIMEZONE
BEGIN:VEVENT
UID:crosspointchurch-61955083-20240304T190000@quickscores.com
DTSTAMP:20260425T141700Z
DTSTART;TZID=America/Chicago:20240304T190000
DURATION:PT1H0M0S
SUMMARY:FBCT vs. Church of the Highlands
DESCRIPTION:35 And Older League - CrossPoint Church
LOCATION:CrossPoint Court 2
CATEGORIES:QuickScores, Basketball Game
TRANSP:OPAQUE
BEGIN:VALARM
TRIGGER:-PT2H
ACTION:DISPLAY
DESCRIPTION:FBCT vs. Church of the Highlands
END:VALARM
END:VEVENT
BEGIN:VEVENT
UID:crosspointchurch-61955085-20240311T201500@quickscores.com
DTSTAMP:20260425T141700Z
DTSTART;TZID=America/Chicago:20240311T201500
DURATION:PT1H0M0S
SUMMARY:FBCT vs. CrossPoint - Stearns
DESCRIPTION:35 And Older League - CrossPoint Church
LOCATION:CrossPoint Court 1
CATEGORIES:QuickScores, Basketball Game
TRANSP:OPAQUE
BEGIN:VALARM
TRIGGER:-PT2H
ACTION:DISPLAY
DESCRIPTION:FBCT vs. CrossPoint - Stearns
END:VALARM
END:VEVENT
BEGIN:VEVENT
UID:crosspointchurch-61955087-20240318T201500@quickscores.com
DTSTAMP:20260425T141700Z
DTSTART;TZID=America/Chicago:20240318T201500
DURATION:PT1H0M0S
SUMMARY:FBCT vs. CrossPoint - LH
DESCRIPTION:35 And Older League - CrossPoint Church
LOCATION:CrossPoint Court 2
CATEGORIES:QuickScores, Basketball Game
TRANSP:OPAQUE
BEGIN:VALARM
TRIGGER:-PT2H
ACTION:DISPLAY
DESCRIPTION:FBCT vs. CrossPoint - LH
END:VALARM
END:VEVENT
BEGIN:VEVENT
UID:crosspointchurch-61955089-20240401T174500@quickscores.com
DTSTAMP:20260425T141700Z
DTSTART;TZID=America/Chicago:20240401T174500
DURATION:PT1H0M0S
SUMMARY:Church of the Highlands vs. FBCT
DESCRIPTION:35 And Older League - CrossPoint Church
LOCATION:CrossPoint Court 2
CATEGORIES:QuickScores, Basketball Game
TRANSP:OPAQUE
BEGIN:VALARM
TRIGGER:-PT2H
ACTION:DISPLAY
DESCRIPTION:Church of the Highlands vs. FBCT
END:VALARM
END:VEVENT
BEGIN:VEVENT
UID:crosspointchurch-61955091-20240408T174500@quickscores.com
DTSTAMP:20260425T141700Z
DTSTART;TZID=America/Chicago:20240408T174500
DURATION:PT1H0M0S
SUMMARY:CrossPoint - Stearns vs. FBCT
DESCRIPTION:35 And Older League - CrossPoint Church
LOCATION:CrossPoint Court 2
CATEGORIES:QuickScores, Basketball Game
TRANSP:OPAQUE
BEGIN:VALARM
TRIGGER:-PT2H
ACTION:DISPLAY
DESCRIPTION:CrossPoint - Stearns vs. FBCT
END:VALARM
END:VEVENT
BEGIN:VEVENT
UID:crosspointchurch-61955093-20240415T201500@quickscores.com
DTSTAMP:20260425T141700Z
DTSTART;TZID=America/Chicago:20240415T201500
DURATION:PT1H0M0S
SUMMARY:CrossPoint - LH vs. FBCT
DESCRIPTION:Technical Foul on FBCT #21 --- 35 And Older League - CrossPoint Church
LOCATION:CrossPoint Court 2
CATEGORIES:QuickScores, Basketball Game
TRANSP:OPAQUE
BEGIN:VALARM
TRIGGER:-PT2H
ACTION:DISPLAY
DESCRIPTION:CrossPoint - LH vs. FBCT
END:VALARM
END:VEVENT
BEGIN:VEVENT
UID:crosspointchurch-61955095-20240422T174500@quickscores.com
DTSTAMP:20260425T141700Z
DTSTART;TZID=America/Chicago:20240422T174500
DURATION:PT1H0M0S
SUMMARY:Church of the Highlands vs. FBCT
DESCRIPTION:35 And Older League - CrossPoint Church
LOCATION:CrossPoint Court 1
CATEGORIES:QuickScores, Basketball Game
TRANSP:OPAQUE
BEGIN:VALARM
TRIGGER:-PT2H
ACTION:DISPLAY
DESCRIPTION:Church of the Highlands vs. FBCT
END:VALARM
END:VEVENT
BEGIN:VEVENT
UID:crosspointchurch-62565171-20240430T174500@quickscores.com
DTSTAMP:20260425T141700Z
DTSTART;TZID=America/Chicago:20240430T174500
DURATION:PT1H0M0S
SUMMARY:[2] FBCT vs. [3] CrossPoint - LH
DESCRIPTION:35 And Older League - CrossPoint Church
LOCATION:CrossPoint Court 1
CATEGORIES:QuickScores, Basketball Game
TRANSP:OPAQUE
BEGIN:VALARM
TRIGGER:-PT2H
ACTION:DISPLAY
DESCRIPTION:[2] FBCT vs. [3] CrossPoint - LH
END:VALARM
END:VEVENT
BEGIN:VEVENT
UID:crosspointchurch-62565172-20240506T201500@quickscores.com
DTSTAMP:20260425T141700Z
DTSTART;TZID=America/Chicago:20240506T201500
DURATION:PT1H0M0S
SUMMARY:[1] Church of the Highlands vs. [2] FBCT
DESCRIPTION:35 And Older League - CrossPoint Church
LOCATION:CrossPoint Court 1
CATEGORIES:QuickScores, Basketball Game
TRANSP:OPAQUE
BEGIN:VALARM
TRIGGER:-PT2H
ACTION:DISPLAY
DESCRIPTION:[1] Church of the Highlands vs. [2] FBCT
END:VALARM
END:VEVENT
END:VCALENDAR
