BEGIN:VCALENDAR
VERSION:2.0
PRODID:-//QuickScores.com//BQ Dynamic iCal Creator//EN
METHOD:PUBLISH
X-WR-CALNAME:Complete Game 15u McCladdie - Srp  Fall Classic 2025 14u/15u - Fall 2025
X-WR-CALDESC:QuickScores game calendar
X-PUBLISHED-TTL:PT24H
REFRESH-INTERVAL;VALUE=DURATION:PT24H
CALSCALE:GREGORIAN
BEGIN:VTIMEZONE
TZID:America/New_York
X-LIC-LOCATION:America/New_York
BEGIN:DAYLIGHT
TZNAME:EDT
TZOFFSETFROM:-0500
TZOFFSETTO:-0400
DTSTART:19700308T020000
RRULE:FREQ=YEARLY;BYMONTH=3;BYDAY=2SU
END:DAYLIGHT
BEGIN:STANDARD
TZNAME:EST
TZOFFSETFROM:-0400
TZOFFSETTO:-0500
DTSTART:19701101T020000
RRULE:FREQ=YEARLY;BYMONTH=11;BYDAY=1SU
END:STANDARD
END:VTIMEZONE
BEGIN:VEVENT
UID:completegame-71237931-20251011T084500@quickscores.com
DTSTAMP:20260422T104200Z
DTSTART;TZID=America/New_York:20251011T084500
DURATION:PT1H0M0S
SUMMARY:Garnet and Black 14u Haney vs. Complete Game 15u McCladdie
DESCRIPTION:Srp  Fall Classic 2025 14u/15u - Complete Game
LOCATION:SRP Park
CATEGORIES:QuickScores, Baseball Game
TRANSP:OPAQUE
BEGIN:VALARM
TRIGGER:-PT2H
ACTION:DISPLAY
DESCRIPTION:Garnet and Black 14u Haney vs. Complete Game 15u McCladdie
END:VALARM
END:VEVENT
BEGIN:VEVENT
UID:completegame-71237933-20251011T144500@quickscores.com
DTSTAMP:20260422T104200Z
DTSTART;TZID=America/New_York:20251011T144500
DURATION:PT1H0M0S
SUMMARY:Complete Game McKnight vs. Complete Game 15u McCladdie
DESCRIPTION:Srp  Fall Classic 2025 14u/15u - Complete Game
LOCATION:Augusta Christian
CATEGORIES:QuickScores, Baseball Game
TRANSP:OPAQUE
BEGIN:VALARM
TRIGGER:-PT2H
ACTION:DISPLAY
DESCRIPTION:Complete Game McKnight vs. Complete Game 15u McCladdie
END:VALARM
END:VEVENT
BEGIN:VEVENT
UID:completegame-71237941-20251012T084500@quickscores.com
DTSTAMP:20260422T104200Z
DTSTART;TZID=America/New_York:20251012T084500
DURATION:PT1H0M0S
SUMMARY:[4] Complete Game 15u McCladdie vs. [5] Complete Game 14u Rivers
DESCRIPTION:Srp  Fall Classic 2025 14u/15u - Complete Game
LOCATION:Augusta Christian
CATEGORIES:QuickScores, Baseball Game
TRANSP:OPAQUE
BEGIN:VALARM
TRIGGER:-PT2H
ACTION:DISPLAY
DESCRIPTION:[4] Complete Game 15u McCladdie vs. [5] Complete Game 14u Rivers
END:VALARM
END:VEVENT
BEGIN:VEVENT
UID:completegame-71237944-20251012T124500@quickscores.com
DTSTAMP:20260422T104200Z
DTSTART;TZID=America/New_York:20251012T124500
DURATION:PT1H0M0S
SUMMARY:[1] Complete Game McKnight vs. [4] Complete Game 15u McCladdie
DESCRIPTION:Srp  Fall Classic 2025 14u/15u - Complete Game
LOCATION:Augusta Christian
CATEGORIES:QuickScores, Baseball Game
TRANSP:OPAQUE
BEGIN:VALARM
TRIGGER:-PT2H
ACTION:DISPLAY
DESCRIPTION:[1] Complete Game McKnight vs. [4] Complete Game 15u McCladdie
END:VALARM
END:VEVENT
BEGIN:VEVENT
UID:completegame-71237946-20251012T144500@quickscores.com
DTSTAMP:20260422T104200Z
DTSTART;TZID=America/New_York:20251012T144500
DURATION:PT1H0M0S
SUMMARY:[4] Complete Game 15u McCladdie vs. [2] Garnet and Black 14u Haney
DESCRIPTION:Srp  Fall Classic 2025 14u/15u - Complete Game
LOCATION:Augusta Christian
CATEGORIES:QuickScores, Baseball Game
TRANSP:OPAQUE
BEGIN:VALARM
TRIGGER:-PT2H
ACTION:DISPLAY
DESCRIPTION:[4] Complete Game 15u McCladdie vs. [2] Garnet and Black 14u Haney
END:VALARM
END:VEVENT
END:VCALENDAR
