BEGIN:VCALENDAR
VERSION:2.0
PRODID:-//QuickScores.com//BQ Dynamic iCal Creator//EN
METHOD:PUBLISH
X-WR-CALNAME:Complete Game 14u Rivers - Srp  Fall Classic 2025 14u/15u - Fall 2025
X-WR-CALDESC:QuickScores game calendar
X-PUBLISHED-TTL:PT24H
REFRESH-INTERVAL;VALUE=DURATION:PT24H
CALSCALE:GREGORIAN
BEGIN:VTIMEZONE
TZID:America/New_York
X-LIC-LOCATION:America/New_York
BEGIN:DAYLIGHT
TZNAME:EDT
TZOFFSETFROM:-0500
TZOFFSETTO:-0400
DTSTART:19700308T020000
RRULE:FREQ=YEARLY;BYMONTH=3;BYDAY=2SU
END:DAYLIGHT
BEGIN:STANDARD
TZNAME:EST
TZOFFSETFROM:-0400
TZOFFSETTO:-0500
DTSTART:19701101T020000
RRULE:FREQ=YEARLY;BYMONTH=11;BYDAY=1SU
END:STANDARD
END:VTIMEZONE
BEGIN:VEVENT
UID:completegame-71237932-20251011T124500@quickscores.com
DTSTAMP:20260421T032400Z
DTSTART;TZID=America/New_York:20251011T124500
DURATION:PT1H0M0S
SUMMARY:Complete Game 14u Rivers vs. Garnet and Black 14u Haney
DESCRIPTION:Srp  Fall Classic 2025 14u/15u - Complete Game
LOCATION:SRP Park
CATEGORIES:QuickScores, Baseball Game
TRANSP:OPAQUE
BEGIN:VALARM
TRIGGER:-PT2H
ACTION:DISPLAY
DESCRIPTION:Complete Game 14u Rivers vs. Garnet and Black 14u Haney
END:VALARM
END:VEVENT
BEGIN:VEVENT
UID:completegame-71237934-20251011T164500@quickscores.com
DTSTAMP:20260421T032400Z
DTSTART;TZID=America/New_York:20251011T164500
DURATION:PT1H0M0S
SUMMARY:Complete Game 14u Rivers vs. Complete Game 14u Rainge
DESCRIPTION:Srp  Fall Classic 2025 14u/15u - Complete Game
LOCATION:Augusta Christian
CATEGORIES:QuickScores, Baseball Game
TRANSP:OPAQUE
BEGIN:VALARM
TRIGGER:-PT2H
ACTION:DISPLAY
DESCRIPTION:Complete Game 14u Rivers vs. Complete Game 14u Rainge
END:VALARM
END:VEVENT
BEGIN:VEVENT
UID:completegame-71237941-20251012T084500@quickscores.com
DTSTAMP:20260421T032400Z
DTSTART;TZID=America/New_York:20251012T084500
DURATION:PT1H0M0S
SUMMARY:[4] Complete Game 15u McCladdie vs. [5] Complete Game 14u Rivers
DESCRIPTION:Srp  Fall Classic 2025 14u/15u - Complete Game
LOCATION:Augusta Christian
CATEGORIES:QuickScores, Baseball Game
TRANSP:OPAQUE
BEGIN:VALARM
TRIGGER:-PT2H
ACTION:DISPLAY
DESCRIPTION:[4] Complete Game 15u McCladdie vs. [5] Complete Game 14u Rivers
END:VALARM
END:VEVENT
END:VCALENDAR
