BEGIN:VCALENDAR
VERSION:2.0
PRODID:-//QuickScores.com//BQ Dynamic iCal Creator//EN
METHOD:PUBLISH
X-WR-CALNAME:Tigers - 7/8 Softball - Spring 2026
X-WR-CALDESC:QuickScores game calendar
X-PUBLISHED-TTL:PT24H
REFRESH-INTERVAL;VALUE=DURATION:PT24H
CALSCALE:GREGORIAN
BEGIN:VTIMEZONE
TZID:America/New_York
X-LIC-LOCATION:America/New_York
BEGIN:DAYLIGHT
TZNAME:EDT
TZOFFSETFROM:-0500
TZOFFSETTO:-0400
DTSTART:19700308T020000
RRULE:FREQ=YEARLY;BYMONTH=3;BYDAY=2SU
END:DAYLIGHT
BEGIN:STANDARD
TZNAME:EST
TZOFFSETFROM:-0400
TZOFFSETTO:-0500
DTSTART:19701101T020000
RRULE:FREQ=YEARLY;BYMONTH=11;BYDAY=1SU
END:STANDARD
END:VTIMEZONE
BEGIN:VEVENT
UID:columbiacountyga-73094110-20260319T191000@quickscores.com
DTSTAMP:20260424T130200Z
DTSTART;TZID=America/New_York:20260319T191000
DURATION:PT1H0M0S
SUMMARY:White Sox vs. Tigers
DESCRIPTION:7/8 Softball - Columbia County Parks, Recreation, and Events
LOCATION:Patriots 13
CATEGORIES:QuickScores, Softball - Fastpitch Game
TRANSP:OPAQUE
BEGIN:VALARM
TRIGGER:-PT2H
ACTION:DISPLAY
DESCRIPTION:White Sox vs. Tigers
END:VALARM
END:VEVENT
BEGIN:VEVENT
UID:columbiacountyga-73094116-20260323T191000@quickscores.com
DTSTAMP:20260424T130200Z
DTSTART;TZID=America/New_York:20260323T191000
DURATION:PT1H0M0S
SUMMARY:Tigers vs. Rays
DESCRIPTION:7/8 Softball - Columbia County Parks, Recreation, and Events
LOCATION:Patriots 13
CATEGORIES:QuickScores, Softball - Fastpitch Game
TRANSP:OPAQUE
BEGIN:VALARM
TRIGGER:-PT2H
ACTION:DISPLAY
DESCRIPTION:Tigers vs. Rays
END:VALARM
END:VEVENT
BEGIN:VEVENT
UID:columbiacountyga-73094117-20260326T180000@quickscores.com
DTSTAMP:20260424T130200Z
DTSTART;TZID=America/New_York:20260326T180000
DURATION:PT1H0M0S
SUMMARY:Tigers vs. Rockies
DESCRIPTION:7/8 Softball - Columbia County Parks, Recreation, and Events
LOCATION:Patriots 13
CATEGORIES:QuickScores, Softball - Fastpitch Game
TRANSP:OPAQUE
BEGIN:VALARM
TRIGGER:-PT2H
ACTION:DISPLAY
DESCRIPTION:Tigers vs. Rockies
END:VALARM
END:VEVENT
BEGIN:VEVENT
UID:columbiacountyga-73094124-20260330T180000@quickscores.com
DTSTAMP:20260424T130200Z
DTSTART;TZID=America/New_York:20260330T180000
DURATION:PT1H0M0S
SUMMARY:Tigers vs. Rangers
DESCRIPTION:7/8 Softball - Columbia County Parks, Recreation, and Events
LOCATION:Patriots 13
CATEGORIES:QuickScores, Softball - Fastpitch Game
TRANSP:OPAQUE
BEGIN:VALARM
TRIGGER:-PT2H
ACTION:DISPLAY
DESCRIPTION:Tigers vs. Rangers
END:VALARM
END:VEVENT
BEGIN:VEVENT
UID:columbiacountyga-73094126-20260402T180000@quickscores.com
DTSTAMP:20260424T130200Z
DTSTART;TZID=America/New_York:20260402T180000
DURATION:PT1H0M0S
SUMMARY:Tigers vs. Braves
DESCRIPTION:7/8 Softball - Columbia County Parks, Recreation, and Events
LOCATION:Patriots 13
CATEGORIES:QuickScores, Softball - Fastpitch Game
TRANSP:OPAQUE
BEGIN:VALARM
TRIGGER:-PT2H
ACTION:DISPLAY
DESCRIPTION:Tigers vs. Braves
END:VALARM
END:VEVENT
BEGIN:VEVENT
UID:columbiacountyga-73094130-20260417T180000@quickscores.com
DTSTAMP:20260424T130200Z
DTSTART;TZID=America/New_York:20260417T180000
DURATION:PT1H0M0S
SUMMARY:Red Sox vs. Tigers
DESCRIPTION:7/8 Softball - Columbia County Parks, Recreation, and Events
LOCATION:Patriots 13
CATEGORIES:QuickScores, Softball - Fastpitch Game
TRANSP:OPAQUE
BEGIN:VALARM
TRIGGER:-PT2H
ACTION:DISPLAY
DESCRIPTION:Red Sox vs. Tigers
END:VALARM
END:VEVENT
BEGIN:VEVENT
UID:columbiacountyga-73094135-20260421T191000@quickscores.com
DTSTAMP:20260424T130200Z
DTSTART;TZID=America/New_York:20260421T191000
DURATION:PT1H0M0S
SUMMARY:Rays vs. Tigers
DESCRIPTION:7/8 Softball - Columbia County Parks, Recreation, and Events
LOCATION:Patriots 13
CATEGORIES:QuickScores, Softball - Fastpitch Game
TRANSP:OPAQUE
BEGIN:VALARM
TRIGGER:-PT2H
ACTION:DISPLAY
DESCRIPTION:Rays vs. Tigers
END:VALARM
END:VEVENT
BEGIN:VEVENT
UID:columbiacountyga-73094136-20260423T191000@quickscores.com
DTSTAMP:20260424T130200Z
DTSTART;TZID=America/New_York:20260423T191000
DURATION:PT1H0M0S
SUMMARY:Rockies vs. Tigers
DESCRIPTION:7/8 Softball - Columbia County Parks, Recreation, and Events
LOCATION:Patriots 13
CATEGORIES:QuickScores, Softball - Fastpitch Game
TRANSP:OPAQUE
BEGIN:VALARM
TRIGGER:-PT2H
ACTION:DISPLAY
DESCRIPTION:Rockies vs. Tigers
END:VALARM
END:VEVENT
END:VCALENDAR
