BEGIN:VCALENDAR
VERSION:2.0
PRODID:-//QuickScores.com//BQ Dynamic iCal Creator//EN
METHOD:PUBLISH
X-WR-CALNAME:Braves - 7/8 Softball - Spring 2026
X-WR-CALDESC:QuickScores game calendar
X-PUBLISHED-TTL:PT24H
REFRESH-INTERVAL;VALUE=DURATION:PT24H
CALSCALE:GREGORIAN
BEGIN:VTIMEZONE
TZID:America/New_York
X-LIC-LOCATION:America/New_York
BEGIN:DAYLIGHT
TZNAME:EDT
TZOFFSETFROM:-0500
TZOFFSETTO:-0400
DTSTART:19700308T020000
RRULE:FREQ=YEARLY;BYMONTH=3;BYDAY=2SU
END:DAYLIGHT
BEGIN:STANDARD
TZNAME:EST
TZOFFSETFROM:-0400
TZOFFSETTO:-0500
DTSTART:19701101T020000
RRULE:FREQ=YEARLY;BYMONTH=11;BYDAY=1SU
END:STANDARD
END:VTIMEZONE
BEGIN:VEVENT
UID:columbiacountyga-73094111-20260320T180000@quickscores.com
DTSTAMP:20260424T095600Z
DTSTART;TZID=America/New_York:20260320T180000
DURATION:PT1H0M0S
SUMMARY:Braves vs. Rangers
DESCRIPTION:7/8 Softball - Columbia County Parks, Recreation, and Events
LOCATION:Patriots 13
CATEGORIES:QuickScores, Softball - Fastpitch Game
TRANSP:OPAQUE
BEGIN:VALARM
TRIGGER:-PT2H
ACTION:DISPLAY
DESCRIPTION:Braves vs. Rangers
END:VALARM
END:VEVENT
BEGIN:VEVENT
UID:columbiacountyga-73094118-20260324T180000@quickscores.com
DTSTAMP:20260424T095600Z
DTSTART;TZID=America/New_York:20260324T180000
DURATION:PT1H0M0S
SUMMARY:White Sox vs. Braves
DESCRIPTION:7/8 Softball - Columbia County Parks, Recreation, and Events
LOCATION:Patriots 13
CATEGORIES:QuickScores, Softball - Fastpitch Game
TRANSP:OPAQUE
BEGIN:VALARM
TRIGGER:-PT2H
ACTION:DISPLAY
DESCRIPTION:White Sox vs. Braves
END:VALARM
END:VEVENT
BEGIN:VEVENT
UID:columbiacountyga-73094113-20260326T191000@quickscores.com
DTSTAMP:20260424T095600Z
DTSTART;TZID=America/New_York:20260326T191000
DURATION:PT1H0M0S
SUMMARY:Braves vs. Rays
DESCRIPTION:7/8 Softball - Columbia County Parks, Recreation, and Events
LOCATION:Patriots 13
CATEGORIES:QuickScores, Softball - Fastpitch Game
TRANSP:OPAQUE
BEGIN:VALARM
TRIGGER:-PT2H
ACTION:DISPLAY
DESCRIPTION:Braves vs. Rays
END:VALARM
END:VEVENT
BEGIN:VEVENT
UID:columbiacountyga-73094121-20260330T191000@quickscores.com
DTSTAMP:20260424T095600Z
DTSTART;TZID=America/New_York:20260330T191000
DURATION:PT1H0M0S
SUMMARY:Rockies vs. Braves
DESCRIPTION:7/8 Softball - Columbia County Parks, Recreation, and Events
LOCATION:Patriots 13
CATEGORIES:QuickScores, Softball - Fastpitch Game
TRANSP:OPAQUE
BEGIN:VALARM
TRIGGER:-PT2H
ACTION:DISPLAY
DESCRIPTION:Rockies vs. Braves
END:VALARM
END:VEVENT
BEGIN:VEVENT
UID:columbiacountyga-73094126-20260402T180000@quickscores.com
DTSTAMP:20260424T095600Z
DTSTART;TZID=America/New_York:20260402T180000
DURATION:PT1H0M0S
SUMMARY:Tigers vs. Braves
DESCRIPTION:7/8 Softball - Columbia County Parks, Recreation, and Events
LOCATION:Patriots 13
CATEGORIES:QuickScores, Softball - Fastpitch Game
TRANSP:OPAQUE
BEGIN:VALARM
TRIGGER:-PT2H
ACTION:DISPLAY
DESCRIPTION:Tigers vs. Braves
END:VALARM
END:VEVENT
BEGIN:VEVENT
UID:columbiacountyga-73094128-20260414T191000@quickscores.com
DTSTAMP:20260424T095600Z
DTSTART;TZID=America/New_York:20260414T191000
DURATION:PT1H0M0S
SUMMARY:Braves vs. Red Sox
DESCRIPTION:7/8 Softball - Columbia County Parks, Recreation, and Events
LOCATION:Patriots 13
CATEGORIES:QuickScores, Softball - Fastpitch Game
TRANSP:OPAQUE
BEGIN:VALARM
TRIGGER:-PT2H
ACTION:DISPLAY
DESCRIPTION:Braves vs. Red Sox
END:VALARM
END:VEVENT
BEGIN:VEVENT
UID:columbiacountyga-73094131-20260416T180000@quickscores.com
DTSTAMP:20260424T095600Z
DTSTART;TZID=America/New_York:20260416T180000
DURATION:PT1H0M0S
SUMMARY:Braves vs. White Sox
DESCRIPTION:7/8 Softball - Columbia County Parks, Recreation, and Events
LOCATION:Patriots 13
CATEGORIES:QuickScores, Softball - Fastpitch Game
TRANSP:OPAQUE
BEGIN:VALARM
TRIGGER:-PT2H
ACTION:DISPLAY
DESCRIPTION:Braves vs. White Sox
END:VALARM
END:VEVENT
BEGIN:VEVENT
UID:columbiacountyga-73094132-20260420T180000@quickscores.com
DTSTAMP:20260424T095600Z
DTSTART;TZID=America/New_York:20260420T180000
DURATION:PT1H0M0S
SUMMARY:Rays vs. Braves
DESCRIPTION:7/8 Softball - Columbia County Parks, Recreation, and Events
LOCATION:Patriots 13
CATEGORIES:QuickScores, Softball - Fastpitch Game
TRANSP:OPAQUE
BEGIN:VALARM
TRIGGER:-PT2H
ACTION:DISPLAY
DESCRIPTION:Rays vs. Braves
END:VALARM
END:VEVENT
END:VCALENDAR
