BEGIN:VCALENDAR
VERSION:2.0
PRODID:-//QuickScores.com//BQ Dynamic iCal Creator//EN
METHOD:PUBLISH
X-WR-CALNAME:Paul Huber - Seamac Boys Soccer - 3rd Quarter 2025-26
X-WR-CALDESC:QuickScores game calendar
X-PUBLISHED-TTL:PT24H
REFRESH-INTERVAL;VALUE=DURATION:PT24H
CALSCALE:GREGORIAN
BEGIN:VTIMEZONE
TZID:America/Phoenix
X-LIC-LOCATION:America/Phoenix
BEGIN:STANDARD
TZNAME:MST
TZOFFSETFROM:-0700
TZOFFSETTO:-0700
DTSTART:19700101T000000
END:STANDARD
END:VTIMEZONE
BEGIN:VEVENT
UID:cochisesports-72626496-20260120T160000@quickscores.com
DTSTAMP:20260425T205600Z
DTSTART;TZID=America/Phoenix:20260120T160000
DURATION:PT1H0M0S
SUMMARY:Paul Huber vs. Wade Carpenter
DESCRIPTION:Seamac Boys Soccer - Cochise Sports
LOCATION:8th Street Park
CATEGORIES:QuickScores, Soccer Game
TRANSP:OPAQUE
BEGIN:VALARM
TRIGGER:-PT2H
ACTION:DISPLAY
DESCRIPTION:Paul Huber vs. Wade Carpenter
END:VALARM
END:VEVENT
BEGIN:VEVENT
UID:cochisesports-72626499-20260122T160000@quickscores.com
DTSTAMP:20260425T205600Z
DTSTART;TZID=America/Phoenix:20260122T160000
DURATION:PT1H0M0S
SUMMARY:Desert Shadows vs. Paul Huber
DESCRIPTION:Seamac Boys Soccer - Cochise Sports
LOCATION:Desert Shadows Soccer
CATEGORIES:QuickScores, Soccer Game
TRANSP:OPAQUE
BEGIN:VALARM
TRIGGER:-PT2H
ACTION:DISPLAY
DESCRIPTION:Desert Shadows vs. Paul Huber
END:VALARM
END:VEVENT
BEGIN:VEVENT
UID:cochisesports-72626502-20260126T160000@quickscores.com
DTSTAMP:20260425T205600Z
DTSTART;TZID=America/Phoenix:20260126T160000
DURATION:PT1H0M0S
SUMMARY:Paul Huber vs. Liberty
DESCRIPTION:Seamac Boys Soccer - Cochise Sports
LOCATION:8th Street Park
CATEGORIES:QuickScores, Soccer Game
TRANSP:OPAQUE
BEGIN:VALARM
TRIGGER:-PT2H
ACTION:DISPLAY
DESCRIPTION:Paul Huber vs. Liberty
END:VALARM
END:VEVENT
BEGIN:VEVENT
UID:cochisesports-72626515-20260127T160000@quickscores.com
DTSTAMP:20260425T205600Z
DTSTART;TZID=America/Phoenix:20260127T160000
DURATION:PT1H0M0S
SUMMARY:Paul Huber vs. Leman
DESCRIPTION:Seamac Boys Soccer - Cochise Sports
LOCATION:8th Street Park
CATEGORIES:QuickScores, Soccer Game
TRANSP:OPAQUE
BEGIN:VALARM
TRIGGER:-PT2H
ACTION:DISPLAY
DESCRIPTION:Paul Huber vs. Leman
END:VALARM
END:VEVENT
BEGIN:VEVENT
UID:cochisesports-72626534-20260129T160000@quickscores.com
DTSTAMP:20260425T205600Z
DTSTART;TZID=America/Phoenix:20260129T160000
DURATION:PT1H0M0S
SUMMARY:Ray Borane vs. Paul Huber
DESCRIPTION:Seamac Boys Soccer - Cochise Sports
LOCATION:8th Street Park
CATEGORIES:QuickScores, Soccer Game
TRANSP:OPAQUE
BEGIN:VALARM
TRIGGER:-PT2H
ACTION:DISPLAY
DESCRIPTION:Ray Borane vs. Paul Huber
END:VALARM
END:VEVENT
BEGIN:VEVENT
UID:cochisesports-72626540-20260203T160000@quickscores.com
DTSTAMP:20260425T205600Z
DTSTART;TZID=America/Phoenix:20260203T160000
DURATION:PT1H0M0S
SUMMARY:Wade Carpenter vs. Paul Huber
DESCRIPTION:Seamac Boys Soccer - Cochise Sports
LOCATION:Wade Carpenter Soccer
CATEGORIES:QuickScores, Soccer Game
TRANSP:OPAQUE
BEGIN:VALARM
TRIGGER:-PT2H
ACTION:DISPLAY
DESCRIPTION:Wade Carpenter vs. Paul Huber
END:VALARM
END:VEVENT
BEGIN:VEVENT
UID:cochisesports-72626543-20260209T160000@quickscores.com
DTSTAMP:20260425T205600Z
DTSTART;TZID=America/Phoenix:20260209T160000
DURATION:PT1H0M0S
SUMMARY:Paul Huber vs. JCMS
DESCRIPTION:Seamac Boys Soccer - Cochise Sports
LOCATION:8th Street Park
CATEGORIES:QuickScores, Soccer Game
TRANSP:OPAQUE
BEGIN:VALARM
TRIGGER:-PT2H
ACTION:DISPLAY
DESCRIPTION:Paul Huber vs. JCMS
END:VALARM
END:VEVENT
BEGIN:VEVENT
UID:cochisesports-72626562-20260210T160000@quickscores.com
DTSTAMP:20260425T205600Z
DTSTART;TZID=America/Phoenix:20260210T160000
DURATION:PT1H0M0S
SUMMARY:Paul Huber vs. Desert Shadows
DESCRIPTION:Seamac Boys Soccer - Cochise Sports
LOCATION:8th Street Park
CATEGORIES:QuickScores, Soccer Game
TRANSP:OPAQUE
BEGIN:VALARM
TRIGGER:-PT2H
ACTION:DISPLAY
DESCRIPTION:Paul Huber vs. Desert Shadows
END:VALARM
END:VEVENT
BEGIN:VEVENT
UID:cochisesports-72626566-20260212T160000@quickscores.com
DTSTAMP:20260425T205600Z
DTSTART;TZID=America/Phoenix:20260212T160000
DURATION:PT1H0M0S
SUMMARY:JCMS vs. Paul Huber
DESCRIPTION:Seamac Boys Soccer - Cochise Sports
LOCATION:JCMS Soccer
CATEGORIES:QuickScores, Soccer Game
TRANSP:OPAQUE
BEGIN:VALARM
TRIGGER:-PT2H
ACTION:DISPLAY
DESCRIPTION:JCMS vs. Paul Huber
END:VALARM
END:VEVENT
BEGIN:VEVENT
UID:cochisesports-72626568-20260217T160000@quickscores.com
DTSTAMP:20260425T205600Z
DTSTART;TZID=America/Phoenix:20260217T160000
DURATION:PT1H0M0S
SUMMARY:Paul Huber vs. Ray Borane
DESCRIPTION:Seamac Boys Soccer - Cochise Sports
LOCATION:8th Street Park
CATEGORIES:QuickScores, Soccer Game
TRANSP:OPAQUE
BEGIN:VALARM
TRIGGER:-PT2H
ACTION:DISPLAY
DESCRIPTION:Paul Huber vs. Ray Borane
END:VALARM
END:VEVENT
BEGIN:VEVENT
UID:cochisesports-72626573-20260219T160000@quickscores.com
DTSTAMP:20260425T205600Z
DTSTART;TZID=America/Phoenix:20260219T160000
DURATION:PT1H0M0S
SUMMARY:Leman vs. Paul Huber
DESCRIPTION:Seamac Boys Soccer - Cochise Sports
LOCATION:Cyr Soccer Complex
CATEGORIES:QuickScores, Soccer Game
TRANSP:OPAQUE
BEGIN:VALARM
TRIGGER:-PT2H
ACTION:DISPLAY
DESCRIPTION:Leman vs. Paul Huber
END:VALARM
END:VEVENT
BEGIN:VEVENT
UID:cochisesports-73100222-20260302T160000@quickscores.com
DTSTAMP:20260425T205600Z
DTSTART;TZID=America/Phoenix:20260302T160000
DURATION:PT1H0M0S
SUMMARY:Paul Huber vs. Wade Carpenter
DESCRIPTION:Seamac Boys Soccer - Cochise Sports
LOCATION:8th Street Park
CATEGORIES:QuickScores, Soccer Game
TRANSP:OPAQUE
BEGIN:VALARM
TRIGGER:-PT2H
ACTION:DISPLAY
DESCRIPTION:Paul Huber vs. Wade Carpenter
END:VALARM
END:VEVENT
BEGIN:VEVENT
UID:cochisesports-73100224-20260303T160000@quickscores.com
DTSTAMP:20260425T205600Z
DTSTART;TZID=America/Phoenix:20260303T160000
DURATION:PT1H0M0S
SUMMARY:Paul Huber vs. Desert Shadows
DESCRIPTION:Seamac Boys Soccer - Cochise Sports
LOCATION:8th Street Park
CATEGORIES:QuickScores, Soccer Game
TRANSP:OPAQUE
BEGIN:VALARM
TRIGGER:-PT2H
ACTION:DISPLAY
DESCRIPTION:Paul Huber vs. Desert Shadows
END:VALARM
END:VEVENT
END:VCALENDAR
