BEGIN:VCALENDAR
VERSION:2.0
PRODID:-//QuickScores.com//BQ Dynamic iCal Creator//EN
METHOD:PUBLISH
X-WR-CALNAME:Steel Materials- Cartersville - Kennworth Wednesday Rec/intermediate - Spring 2026
X-WR-CALDESC:QuickScores game calendar
X-PUBLISHED-TTL:PT24H
REFRESH-INTERVAL;VALUE=DURATION:PT24H
CALSCALE:GREGORIAN
BEGIN:VTIMEZONE
TZID:America/New_York
X-LIC-LOCATION:America/New_York
BEGIN:DAYLIGHT
TZNAME:EDT
TZOFFSETFROM:-0500
TZOFFSETTO:-0400
DTSTART:19700308T020000
RRULE:FREQ=YEARLY;BYMONTH=3;BYDAY=2SU
END:DAYLIGHT
BEGIN:STANDARD
TZNAME:EST
TZOFFSETFROM:-0400
TZOFFSETTO:-0500
DTSTART:19701101T020000
RRULE:FREQ=YEARLY;BYMONTH=11;BYDAY=1SU
END:STANDARD
END:VTIMEZONE
BEGIN:VEVENT
UID:cobbcounty-73221047-20260304T190000@quickscores.com
DTSTAMP:20260425T065200Z
DTSTART;TZID=America/New_York:20260304T190000
DURATION:PT1H0M0S
SUMMARY:Steel Materials- Cartersville vs. Dirt Dawgs
DESCRIPTION:Intermediate 2HR/1Up Rules --- Kennworth Wednesday Rec/intermediate - Cobb County PARKS
LOCATION:Kennworth Park Field 3
CATEGORIES:QuickScores, Softball - Adult Game
TRANSP:OPAQUE
BEGIN:VALARM
TRIGGER:-PT2H
ACTION:DISPLAY
DESCRIPTION:Steel Materials- Cartersville vs. Dirt Dawgs
END:VALARM
END:VEVENT
BEGIN:VEVENT
UID:cobbcounty-73221051-20260311T190000@quickscores.com
DTSTAMP:20260425T065200Z
DTSTART;TZID=America/New_York:20260311T190000
DURATION:PT1H0M0S
SUMMARY:Steel Materials- Cartersville vs. Base Invaders
DESCRIPTION:Kennworth Wednesday Rec/intermediate - Cobb County PARKS
LOCATION:Kennworth Park Field 4
CATEGORIES:QuickScores, Softball - Adult Game
TRANSP:OPAQUE
BEGIN:VALARM
TRIGGER:-PT2H
ACTION:DISPLAY
DESCRIPTION:Steel Materials- Cartersville vs. Base Invaders
END:VALARM
END:VEVENT
BEGIN:VEVENT
UID:cobbcounty-73221058-20260318T200000@quickscores.com
DTSTAMP:20260425T065200Z
DTSTART;TZID=America/New_York:20260318T200000
DURATION:PT1H0M0S
SUMMARY:Steel Materials- Cartersville vs. Brokebat Mountain
DESCRIPTION:Kennworth Wednesday Rec/intermediate - Cobb County PARKS
LOCATION:Kennworth Park Field 3
CATEGORIES:QuickScores, Softball - Adult Game
TRANSP:OPAQUE
BEGIN:VALARM
TRIGGER:-PT2H
ACTION:DISPLAY
DESCRIPTION:Steel Materials- Cartersville vs. Brokebat Mountain
END:VALARM
END:VEVENT
BEGIN:VEVENT
UID:cobbcounty-73221062-20260325T190000@quickscores.com
DTSTAMP:20260425T065200Z
DTSTART;TZID=America/New_York:20260325T190000
DURATION:PT1H0M0S
SUMMARY:Free Agents vs. Steel Materials- Cartersville
DESCRIPTION:Intermediate 2HR/1Up Rules --- Kennworth Wednesday Rec/intermediate - Cobb County PARKS
LOCATION:Kennworth Park Field 3
CATEGORIES:QuickScores, Softball - Adult Game
TRANSP:OPAQUE
BEGIN:VALARM
TRIGGER:-PT2H
ACTION:DISPLAY
DESCRIPTION:Free Agents vs. Steel Materials- Cartersville
END:VALARM
END:VEVENT
BEGIN:VEVENT
UID:cobbcounty-73221069-20260401T210000@quickscores.com
DTSTAMP:20260425T065200Z
DTSTART;TZID=America/New_York:20260401T210000
DURATION:PT1H0M0S
SUMMARY:Uplift vs. Steel Materials- Cartersville
DESCRIPTION:Rosters Lock in Week 5 --- Kennworth Wednesday Rec/intermediate - Cobb County PARKS
LOCATION:Kennworth Park Field 3
CATEGORIES:QuickScores, Softball - Adult Game
TRANSP:OPAQUE
BEGIN:VALARM
TRIGGER:-PT2H
ACTION:DISPLAY
DESCRIPTION:Uplift vs. Steel Materials- Cartersville
END:VALARM
END:VEVENT
BEGIN:VEVENT
UID:cobbcounty-73221073-20260415T200000@quickscores.com
DTSTAMP:20260425T065200Z
DTSTART;TZID=America/New_York:20260415T200000
DURATION:PT1H0M0S
SUMMARY:Glade Road Walkers vs. Steel Materials- Cartersville
DESCRIPTION:Kennworth Wednesday Rec/intermediate - Cobb County PARKS
LOCATION:Kennworth Park Field 3
CATEGORIES:QuickScores, Softball - Adult Game
TRANSP:OPAQUE
BEGIN:VALARM
TRIGGER:-PT2H
ACTION:DISPLAY
DESCRIPTION:Glade Road Walkers vs. Steel Materials- Cartersville
END:VALARM
END:VEVENT
BEGIN:VEVENT
UID:cobbcounty-73221080-20260422T210000@quickscores.com
DTSTAMP:20260425T065200Z
DTSTART;TZID=America/New_York:20260422T210000
DURATION:PT1H0M0S
SUMMARY:Steel Materials- Cartersville vs. Mars Hill
DESCRIPTION:Kennworth Wednesday Rec/intermediate - Cobb County PARKS
LOCATION:Kennworth Park Field 3
CATEGORIES:QuickScores, Softball - Adult Game
TRANSP:OPAQUE
BEGIN:VALARM
TRIGGER:-PT2H
ACTION:DISPLAY
DESCRIPTION:Steel Materials- Cartersville vs. Mars Hill
END:VALARM
END:VEVENT
BEGIN:VEVENT
UID:cobbcounty-73221084-20260429T200000@quickscores.com
DTSTAMP:20260425T065200Z
DTSTART;TZID=America/New_York:20260429T200000
DURATION:PT1H0M0S
SUMMARY:Tortugas vs. Steel Materials- Cartersville
DESCRIPTION:Kennworth Wednesday Rec/intermediate - Cobb County PARKS
LOCATION:Kennworth Park Field 4
CATEGORIES:QuickScores, Softball - Adult Game
TRANSP:OPAQUE
BEGIN:VALARM
TRIGGER:-PT2H
ACTION:DISPLAY
DESCRIPTION:Tortugas vs. Steel Materials- Cartersville
END:VALARM
END:VEVENT
END:VCALENDAR
