BEGIN:VCALENDAR
VERSION:2.0
PRODID:-//QuickScores.com//BQ Dynamic iCal Creator//EN
METHOD:PUBLISH
X-WR-CALNAME:Tortugas - Kennworth Wednesday Rec/intermediate - Spring 2026
X-WR-CALDESC:QuickScores game calendar
X-PUBLISHED-TTL:PT24H
REFRESH-INTERVAL;VALUE=DURATION:PT24H
CALSCALE:GREGORIAN
BEGIN:VTIMEZONE
TZID:America/New_York
X-LIC-LOCATION:America/New_York
BEGIN:DAYLIGHT
TZNAME:EDT
TZOFFSETFROM:-0500
TZOFFSETTO:-0400
DTSTART:19700308T020000
RRULE:FREQ=YEARLY;BYMONTH=3;BYDAY=2SU
END:DAYLIGHT
BEGIN:STANDARD
TZNAME:EST
TZOFFSETFROM:-0400
TZOFFSETTO:-0500
DTSTART:19701101T020000
RRULE:FREQ=YEARLY;BYMONTH=11;BYDAY=1SU
END:STANDARD
END:VTIMEZONE
BEGIN:VEVENT
UID:cobbcounty-73221048-20260304T200000@quickscores.com
DTSTAMP:20260425T065600Z
DTSTART;TZID=America/New_York:20260304T200000
DURATION:PT1H0M0S
SUMMARY:Tortugas vs. Mars Hill
DESCRIPTION:Kennworth Wednesday Rec/intermediate - Cobb County PARKS
LOCATION:Kennworth Park Field 3
CATEGORIES:QuickScores, Softball - Adult Game
TRANSP:OPAQUE
BEGIN:VALARM
TRIGGER:-PT2H
ACTION:DISPLAY
DESCRIPTION:Tortugas vs. Mars Hill
END:VALARM
END:VEVENT
BEGIN:VEVENT
UID:cobbcounty-73221054-20260311T200000@quickscores.com
DTSTAMP:20260425T065600Z
DTSTART;TZID=America/New_York:20260311T200000
DURATION:PT1H0M0S
SUMMARY:Uplift vs. Tortugas
DESCRIPTION:Kennworth Wednesday Rec/intermediate - Cobb County PARKS
LOCATION:Kennworth Park Field 4
CATEGORIES:QuickScores, Softball - Adult Game
TRANSP:OPAQUE
BEGIN:VALARM
TRIGGER:-PT2H
ACTION:DISPLAY
DESCRIPTION:Uplift vs. Tortugas
END:VALARM
END:VEVENT
BEGIN:VEVENT
UID:cobbcounty-73221057-20260318T190000@quickscores.com
DTSTAMP:20260425T065600Z
DTSTART;TZID=America/New_York:20260318T190000
DURATION:PT1H0M0S
SUMMARY:Mack Dobbs vs. Tortugas
DESCRIPTION:Kennworth Wednesday Rec/intermediate - Cobb County PARKS
LOCATION:Kennworth Park Field 4
CATEGORIES:QuickScores, Softball - Adult Game
TRANSP:OPAQUE
BEGIN:VALARM
TRIGGER:-PT2H
ACTION:DISPLAY
DESCRIPTION:Mack Dobbs vs. Tortugas
END:VALARM
END:VEVENT
BEGIN:VEVENT
UID:cobbcounty-73221065-20260325T210000@quickscores.com
DTSTAMP:20260425T065600Z
DTSTART;TZID=America/New_York:20260325T210000
DURATION:PT1H0M0S
SUMMARY:Brokebat Mountain vs. Tortugas
DESCRIPTION:Kennworth Wednesday Rec/intermediate - Cobb County PARKS
LOCATION:Kennworth Park Field 3
CATEGORIES:QuickScores, Softball - Adult Game
TRANSP:OPAQUE
BEGIN:VALARM
TRIGGER:-PT2H
ACTION:DISPLAY
DESCRIPTION:Brokebat Mountain vs. Tortugas
END:VALARM
END:VEVENT
BEGIN:VEVENT
UID:cobbcounty-73221066-20260401T200000@quickscores.com
DTSTAMP:20260425T065600Z
DTSTART;TZID=America/New_York:20260401T200000
DURATION:PT1H0M0S
SUMMARY:Base Invaders vs. Tortugas
DESCRIPTION:Rosters Lock in Week 5 --- Kennworth Wednesday Rec/intermediate - Cobb County PARKS
LOCATION:Kennworth Park Field 3
CATEGORIES:QuickScores, Softball - Adult Game
TRANSP:OPAQUE
BEGIN:VALARM
TRIGGER:-PT2H
ACTION:DISPLAY
DESCRIPTION:Base Invaders vs. Tortugas
END:VALARM
END:VEVENT
BEGIN:VEVENT
UID:cobbcounty-73221075-20260415T190000@quickscores.com
DTSTAMP:20260425T065600Z
DTSTART;TZID=America/New_York:20260415T190000
DURATION:PT1H0M0S
SUMMARY:Tortugas vs. Dirt Dawgs
DESCRIPTION:Kennworth Wednesday Rec/intermediate - Cobb County PARKS
LOCATION:Kennworth Park Field 3
CATEGORIES:QuickScores, Softball - Adult Game
TRANSP:OPAQUE
BEGIN:VALARM
TRIGGER:-PT2H
ACTION:DISPLAY
DESCRIPTION:Tortugas vs. Dirt Dawgs
END:VALARM
END:VEVENT
BEGIN:VEVENT
UID:cobbcounty-73221077-20260422T190000@quickscores.com
DTSTAMP:20260425T065600Z
DTSTART;TZID=America/New_York:20260422T190000
DURATION:PT1H0M0S
SUMMARY:Tortugas vs. Glade Road Walkers
DESCRIPTION:Kennworth Wednesday Rec/intermediate - Cobb County PARKS
LOCATION:Kennworth Park Field 3
CATEGORIES:QuickScores, Softball - Adult Game
TRANSP:OPAQUE
BEGIN:VALARM
TRIGGER:-PT2H
ACTION:DISPLAY
DESCRIPTION:Tortugas vs. Glade Road Walkers
END:VALARM
END:VEVENT
BEGIN:VEVENT
UID:cobbcounty-73221084-20260429T200000@quickscores.com
DTSTAMP:20260425T065600Z
DTSTART;TZID=America/New_York:20260429T200000
DURATION:PT1H0M0S
SUMMARY:Tortugas vs. Steel Materials- Cartersville
DESCRIPTION:Kennworth Wednesday Rec/intermediate - Cobb County PARKS
LOCATION:Kennworth Park Field 4
CATEGORIES:QuickScores, Softball - Adult Game
TRANSP:OPAQUE
BEGIN:VALARM
TRIGGER:-PT2H
ACTION:DISPLAY
DESCRIPTION:Tortugas vs. Steel Materials- Cartersville
END:VALARM
END:VEVENT
END:VCALENDAR
