BEGIN:VCALENDAR
VERSION:2.0
PRODID:-//QuickScores.com//BQ Dynamic iCal Creator//EN
METHOD:PUBLISH
X-WR-CALNAME:Ball Busters - Harrison Thursday Coed Doubles Adult Pickleball League - Spring 2026
X-WR-CALDESC:QuickScores game calendar
X-PUBLISHED-TTL:PT24H
REFRESH-INTERVAL;VALUE=DURATION:PT24H
CALSCALE:GREGORIAN
BEGIN:VTIMEZONE
TZID:America/New_York
X-LIC-LOCATION:America/New_York
BEGIN:DAYLIGHT
TZNAME:EDT
TZOFFSETFROM:-0500
TZOFFSETTO:-0400
DTSTART:19700308T020000
RRULE:FREQ=YEARLY;BYMONTH=3;BYDAY=2SU
END:DAYLIGHT
BEGIN:STANDARD
TZNAME:EST
TZOFFSETFROM:-0400
TZOFFSETTO:-0500
DTSTART:19701101T020000
RRULE:FREQ=YEARLY;BYMONTH=11;BYDAY=1SU
END:STANDARD
END:VTIMEZONE
BEGIN:VEVENT
UID:cobbcounty-73429236-20260305T200000@quickscores.com
DTSTAMP:20260420T225800Z
DTSTART;TZID=America/New_York:20260305T200000
DURATION:PT0H30M0S
SUMMARY:The Baxters vs. Ball Busters
DESCRIPTION:Harrison Thursday Coed Doubles Adult Pickleball League - Cobb County PARKS
LOCATION:Harrison Court 4
CATEGORIES:QuickScores, Pickleball Game
TRANSP:OPAQUE
BEGIN:VALARM
TRIGGER:-PT2H
ACTION:DISPLAY
DESCRIPTION:The Baxters vs. Ball Busters
END:VALARM
END:VEVENT
BEGIN:VEVENT
UID:cobbcounty-73429240-20260305T203000@quickscores.com
DTSTAMP:20260420T225800Z
DTSTART;TZID=America/New_York:20260305T203000
DURATION:PT0H30M0S
SUMMARY:Ball Busters vs. Thursday Dinkers
DESCRIPTION:Harrison Thursday Coed Doubles Adult Pickleball League - Cobb County PARKS
LOCATION:Harrison Court 4
CATEGORIES:QuickScores, Pickleball Game
TRANSP:OPAQUE
BEGIN:VALARM
TRIGGER:-PT2H
ACTION:DISPLAY
DESCRIPTION:Ball Busters vs. Thursday Dinkers
END:VALARM
END:VEVENT
BEGIN:VEVENT
UID:cobbcounty-73429257-20260312T183000@quickscores.com
DTSTAMP:20260420T225800Z
DTSTART;TZID=America/New_York:20260312T183000
DURATION:PT0H30M0S
SUMMARY:Ball Busters vs. Tanghulu
DESCRIPTION:Harrison Thursday Coed Doubles Adult Pickleball League - Cobb County PARKS
LOCATION:Harrison Court 6
CATEGORIES:QuickScores, Pickleball Game
TRANSP:OPAQUE
BEGIN:VALARM
TRIGGER:-PT2H
ACTION:DISPLAY
DESCRIPTION:Ball Busters vs. Tanghulu
END:VALARM
END:VEVENT
BEGIN:VEVENT
UID:cobbcounty-73429262-20260312T190000@quickscores.com
DTSTAMP:20260420T225800Z
DTSTART;TZID=America/New_York:20260312T190000
DURATION:PT0H30M0S
SUMMARY:Ball Busters vs. Dinkin Dawgs
DESCRIPTION:Harrison Thursday Coed Doubles Adult Pickleball League - Cobb County PARKS
LOCATION:Harrison Court 4
CATEGORIES:QuickScores, Pickleball Game
TRANSP:OPAQUE
BEGIN:VALARM
TRIGGER:-PT2H
ACTION:DISPLAY
DESCRIPTION:Ball Busters vs. Dinkin Dawgs
END:VALARM
END:VEVENT
BEGIN:VEVENT
UID:cobbcounty-73429273-20260319T183000@quickscores.com
DTSTAMP:20260420T225800Z
DTSTART;TZID=America/New_York:20260319T183000
DURATION:PT0H30M0S
SUMMARY:Ball Busters vs. Pickle Ticklers
DESCRIPTION:Harrison Thursday Coed Doubles Adult Pickleball League - Cobb County PARKS
LOCATION:Harrison Court 3
CATEGORIES:QuickScores, Pickleball Game
TRANSP:OPAQUE
BEGIN:VALARM
TRIGGER:-PT2H
ACTION:DISPLAY
DESCRIPTION:Ball Busters vs. Pickle Ticklers
END:VALARM
END:VEVENT
BEGIN:VEVENT
UID:cobbcounty-73429275-20260319T193000@quickscores.com
DTSTAMP:20260420T225800Z
DTSTART;TZID=America/New_York:20260319T193000
DURATION:PT0H30M0S
SUMMARY:Ball Busters vs. Shaken Not Served
DESCRIPTION:Harrison Thursday Coed Doubles Adult Pickleball League - Cobb County PARKS
LOCATION:Harrison Court 5
CATEGORIES:QuickScores, Pickleball Game
TRANSP:OPAQUE
BEGIN:VALARM
TRIGGER:-PT2H
ACTION:DISPLAY
DESCRIPTION:Ball Busters vs. Shaken Not Served
END:VALARM
END:VEVENT
BEGIN:VEVENT
UID:cobbcounty-73429290-20260326T183000@quickscores.com
DTSTAMP:20260420T225800Z
DTSTART;TZID=America/New_York:20260326T183000
DURATION:PT0H30M0S
SUMMARY:Ball Busters vs. Dinkin’ Dillies
DESCRIPTION:Harrison Thursday Coed Doubles Adult Pickleball League - Cobb County PARKS
LOCATION:Harrison Court 5
CATEGORIES:QuickScores, Pickleball Game
TRANSP:OPAQUE
BEGIN:VALARM
TRIGGER:-PT2H
ACTION:DISPLAY
DESCRIPTION:Ball Busters vs. Dinkin’ Dillies
END:VALARM
END:VEVENT
BEGIN:VEVENT
UID:cobbcounty-73429289-20260326T190000@quickscores.com
DTSTAMP:20260420T225800Z
DTSTART;TZID=America/New_York:20260326T190000
DURATION:PT0H30M0S
SUMMARY:The Baxters vs. Ball Busters
DESCRIPTION:Harrison Thursday Coed Doubles Adult Pickleball League - Cobb County PARKS
LOCATION:Harrison Court 5
CATEGORIES:QuickScores, Pickleball Game
TRANSP:OPAQUE
BEGIN:VALARM
TRIGGER:-PT2H
ACTION:DISPLAY
DESCRIPTION:The Baxters vs. Ball Busters
END:VALARM
END:VEVENT
BEGIN:VEVENT
UID:cobbcounty-73429302-20260402T193000@quickscores.com
DTSTAMP:20260420T225800Z
DTSTART;TZID=America/New_York:20260402T193000
DURATION:PT0H30M0S
SUMMARY:Thursday Dinkers vs. Ball Busters
DESCRIPTION:Harrison Thursday Coed Doubles Adult Pickleball League - Cobb County PARKS
LOCATION:Harrison Court 6
CATEGORIES:QuickScores, Pickleball Game
TRANSP:OPAQUE
BEGIN:VALARM
TRIGGER:-PT2H
ACTION:DISPLAY
DESCRIPTION:Thursday Dinkers vs. Ball Busters
END:VALARM
END:VEVENT
BEGIN:VEVENT
UID:cobbcounty-73429309-20260402T200000@quickscores.com
DTSTAMP:20260420T225800Z
DTSTART;TZID=America/New_York:20260402T200000
DURATION:PT0H30M0S
SUMMARY:Dinkin Dawgs vs. Ball Busters
DESCRIPTION:Harrison Thursday Coed Doubles Adult Pickleball League - Cobb County PARKS
LOCATION:Harrison Court 6
CATEGORIES:QuickScores, Pickleball Game
TRANSP:OPAQUE
BEGIN:VALARM
TRIGGER:-PT2H
ACTION:DISPLAY
DESCRIPTION:Dinkin Dawgs vs. Ball Busters
END:VALARM
END:VEVENT
BEGIN:VEVENT
UID:cobbcounty-73429327-20260416T190000@quickscores.com
DTSTAMP:20260420T225800Z
DTSTART;TZID=America/New_York:20260416T190000
DURATION:PT0H30M0S
SUMMARY:Pickle Ticklers vs. Ball Busters
DESCRIPTION:Harrison Thursday Coed Doubles Adult Pickleball League - Cobb County PARKS
LOCATION:Harrison Court 5
CATEGORIES:QuickScores, Pickleball Game
TRANSP:OPAQUE
BEGIN:VALARM
TRIGGER:-PT2H
ACTION:DISPLAY
DESCRIPTION:Pickle Ticklers vs. Ball Busters
END:VALARM
END:VEVENT
BEGIN:VEVENT
UID:cobbcounty-73429321-20260416T200000@quickscores.com
DTSTAMP:20260420T225800Z
DTSTART;TZID=America/New_York:20260416T200000
DURATION:PT0H30M0S
SUMMARY:The Little Dinkers vs. Ball Busters
DESCRIPTION:Harrison Thursday Coed Doubles Adult Pickleball League - Cobb County PARKS
LOCATION:Harrison Court 5
CATEGORIES:QuickScores, Pickleball Game
TRANSP:OPAQUE
BEGIN:VALARM
TRIGGER:-PT2H
ACTION:DISPLAY
DESCRIPTION:The Little Dinkers vs. Ball Busters
END:VALARM
END:VEVENT
END:VCALENDAR
