BEGIN:VCALENDAR
VERSION:2.0
PRODID:-//QuickScores.com//BQ Dynamic iCal Creator//EN
METHOD:PUBLISH
X-WR-CALNAME:The Kitchen Violators - Harrison Thursday Coed Doubles Adult Pickleball League - Spring 2026
X-WR-CALDESC:QuickScores game calendar
X-PUBLISHED-TTL:PT24H
REFRESH-INTERVAL;VALUE=DURATION:PT24H
CALSCALE:GREGORIAN
BEGIN:VTIMEZONE
TZID:America/New_York
X-LIC-LOCATION:America/New_York
BEGIN:DAYLIGHT
TZNAME:EDT
TZOFFSETFROM:-0500
TZOFFSETTO:-0400
DTSTART:19700308T020000
RRULE:FREQ=YEARLY;BYMONTH=3;BYDAY=2SU
END:DAYLIGHT
BEGIN:STANDARD
TZNAME:EST
TZOFFSETFROM:-0400
TZOFFSETTO:-0500
DTSTART:19701101T020000
RRULE:FREQ=YEARLY;BYMONTH=11;BYDAY=1SU
END:STANDARD
END:VTIMEZONE
BEGIN:VEVENT
UID:cobbcounty-73429245-20260305T183000@quickscores.com
DTSTAMP:20260421T004600Z
DTSTART;TZID=America/New_York:20260305T183000
DURATION:PT0H30M0S
SUMMARY:The Kitchen Violators vs. Big Kosher Dill
DESCRIPTION:Harrison Thursday Coed Doubles Adult Pickleball League - Cobb County PARKS
LOCATION:Harrison Court 4
CATEGORIES:QuickScores, Pickleball Game
TRANSP:OPAQUE
BEGIN:VALARM
TRIGGER:-PT2H
ACTION:DISPLAY
DESCRIPTION:The Kitchen Violators vs. Big Kosher Dill
END:VALARM
END:VEVENT
BEGIN:VEVENT
UID:cobbcounty-73429248-20260305T193000@quickscores.com
DTSTAMP:20260421T004600Z
DTSTART;TZID=America/New_York:20260305T193000
DURATION:PT0H30M0S
SUMMARY:Pickle Me Elmo vs. The Kitchen Violators
DESCRIPTION:Harrison Thursday Coed Doubles Adult Pickleball League - Cobb County PARKS
LOCATION:Harrison Court 5
CATEGORIES:QuickScores, Pickleball Game
TRANSP:OPAQUE
BEGIN:VALARM
TRIGGER:-PT2H
ACTION:DISPLAY
DESCRIPTION:Pickle Me Elmo vs. The Kitchen Violators
END:VALARM
END:VEVENT
BEGIN:VEVENT
UID:cobbcounty-73429260-20260312T183000@quickscores.com
DTSTAMP:20260421T004600Z
DTSTART;TZID=America/New_York:20260312T183000
DURATION:PT0H30M0S
SUMMARY:The Kitchen Violators vs. That’s What She Said
DESCRIPTION:Harrison Thursday Coed Doubles Adult Pickleball League - Cobb County PARKS
LOCATION:Harrison Court 3
CATEGORIES:QuickScores, Pickleball Game
TRANSP:OPAQUE
BEGIN:VALARM
TRIGGER:-PT2H
ACTION:DISPLAY
DESCRIPTION:The Kitchen Violators vs. That’s What She Said
END:VALARM
END:VEVENT
BEGIN:VEVENT
UID:cobbcounty-73429259-20260312T190000@quickscores.com
DTSTAMP:20260421T004600Z
DTSTART;TZID=America/New_York:20260312T190000
DURATION:PT0H30M0S
SUMMARY:The Kitchen Violators vs. Pickle Me Elmo
DESCRIPTION:Harrison Thursday Coed Doubles Adult Pickleball League - Cobb County PARKS
LOCATION:Harrison Court 3
CATEGORIES:QuickScores, Pickleball Game
TRANSP:OPAQUE
BEGIN:VALARM
TRIGGER:-PT2H
ACTION:DISPLAY
DESCRIPTION:The Kitchen Violators vs. Pickle Me Elmo
END:VALARM
END:VEVENT
BEGIN:VEVENT
UID:cobbcounty-73429283-20260319T183000@quickscores.com
DTSTAMP:20260421T004600Z
DTSTART;TZID=America/New_York:20260319T183000
DURATION:PT0H30M0S
SUMMARY:The Kitchen Violators vs. Big Kosher Dill
DESCRIPTION:Harrison Thursday Coed Doubles Adult Pickleball League - Cobb County PARKS
LOCATION:Harrison Court 6
CATEGORIES:QuickScores, Pickleball Game
TRANSP:OPAQUE
BEGIN:VALARM
TRIGGER:-PT2H
ACTION:DISPLAY
DESCRIPTION:The Kitchen Violators vs. Big Kosher Dill
END:VALARM
END:VEVENT
BEGIN:VEVENT
UID:cobbcounty-73429282-20260319T190000@quickscores.com
DTSTAMP:20260421T004600Z
DTSTART;TZID=America/New_York:20260319T190000
DURATION:PT0H30M0S
SUMMARY:The Kitchen Violators vs. In a pickle
DESCRIPTION:Harrison Thursday Coed Doubles Adult Pickleball League - Cobb County PARKS
LOCATION:Harrison Court 6
CATEGORIES:QuickScores, Pickleball Game
TRANSP:OPAQUE
BEGIN:VALARM
TRIGGER:-PT2H
ACTION:DISPLAY
DESCRIPTION:The Kitchen Violators vs. In a pickle
END:VALARM
END:VEVENT
BEGIN:VEVENT
UID:cobbcounty-73429297-20260326T193000@quickscores.com
DTSTAMP:20260421T004600Z
DTSTART;TZID=America/New_York:20260326T193000
DURATION:PT0H30M0S
SUMMARY:Gin&Juice vs. The Kitchen Violators
DESCRIPTION:Harrison Thursday Coed Doubles Adult Pickleball League - Cobb County PARKS
LOCATION:Harrison Court 6
CATEGORIES:QuickScores, Pickleball Game
TRANSP:OPAQUE
BEGIN:VALARM
TRIGGER:-PT2H
ACTION:DISPLAY
DESCRIPTION:Gin&Juice vs. The Kitchen Violators
END:VALARM
END:VEVENT
BEGIN:VEVENT
UID:cobbcounty-73429291-20260326T200000@quickscores.com
DTSTAMP:20260421T004600Z
DTSTART;TZID=America/New_York:20260326T200000
DURATION:PT0H30M0S
SUMMARY:heat wave vs. The Kitchen Violators
DESCRIPTION:Harrison Thursday Coed Doubles Adult Pickleball League - Cobb County PARKS
LOCATION:Harrison Court 6
CATEGORIES:QuickScores, Pickleball Game
TRANSP:OPAQUE
BEGIN:VALARM
TRIGGER:-PT2H
ACTION:DISPLAY
DESCRIPTION:heat wave vs. The Kitchen Violators
END:VALARM
END:VEVENT
BEGIN:VEVENT
UID:cobbcounty-73429315-20260402T193000@quickscores.com
DTSTAMP:20260421T004600Z
DTSTART;TZID=America/New_York:20260402T193000
DURATION:PT0H30M0S
SUMMARY:The Kitchen Violators vs. In a pickle
DESCRIPTION:Harrison Thursday Coed Doubles Adult Pickleball League - Cobb County PARKS
LOCATION:Harrison Court 5
CATEGORIES:QuickScores, Pickleball Game
TRANSP:OPAQUE
BEGIN:VALARM
TRIGGER:-PT2H
ACTION:DISPLAY
DESCRIPTION:The Kitchen Violators vs. In a pickle
END:VALARM
END:VEVENT
BEGIN:VEVENT
UID:cobbcounty-73429304-20260402T203000@quickscores.com
DTSTAMP:20260421T004600Z
DTSTART;TZID=America/New_York:20260402T203000
DURATION:PT0H30M0S
SUMMARY:Gin&Juice vs. The Kitchen Violators
DESCRIPTION:Harrison Thursday Coed Doubles Adult Pickleball League - Cobb County PARKS
LOCATION:Harrison Court 5
CATEGORIES:QuickScores, Pickleball Game
TRANSP:OPAQUE
BEGIN:VALARM
TRIGGER:-PT2H
ACTION:DISPLAY
DESCRIPTION:Gin&Juice vs. The Kitchen Violators
END:VALARM
END:VEVENT
BEGIN:VEVENT
UID:cobbcounty-73429329-20260416T200000@quickscores.com
DTSTAMP:20260421T004600Z
DTSTART;TZID=America/New_York:20260416T200000
DURATION:PT0H30M0S
SUMMARY:Two-morrows vs. The Kitchen Violators
DESCRIPTION:Harrison Thursday Coed Doubles Adult Pickleball League - Cobb County PARKS
LOCATION:Harrison Court 4
CATEGORIES:QuickScores, Pickleball Game
TRANSP:OPAQUE
BEGIN:VALARM
TRIGGER:-PT2H
ACTION:DISPLAY
DESCRIPTION:Two-morrows vs. The Kitchen Violators
END:VALARM
END:VEVENT
BEGIN:VEVENT
UID:cobbcounty-73429330-20260416T203000@quickscores.com
DTSTAMP:20260421T004600Z
DTSTART;TZID=America/New_York:20260416T203000
DURATION:PT0H30M0S
SUMMARY:Big Kosher Dill vs. The Kitchen Violators
DESCRIPTION:Harrison Thursday Coed Doubles Adult Pickleball League - Cobb County PARKS
LOCATION:Harrison Court 6
CATEGORIES:QuickScores, Pickleball Game
TRANSP:OPAQUE
BEGIN:VALARM
TRIGGER:-PT2H
ACTION:DISPLAY
DESCRIPTION:Big Kosher Dill vs. The Kitchen Violators
END:VALARM
END:VEVENT
END:VCALENDAR
