BEGIN:VCALENDAR
VERSION:2.0
PRODID:-//QuickScores.com//BQ Dynamic iCal Creator//EN
METHOD:PUBLISH
X-WR-CALNAME:Kastaways - Al Bishop Monday Men&#039;s Intermediate - Spring 2026
X-WR-CALDESC:QuickScores game calendar
X-PUBLISHED-TTL:PT24H
REFRESH-INTERVAL;VALUE=DURATION:PT24H
CALSCALE:GREGORIAN
BEGIN:VTIMEZONE
TZID:America/New_York
X-LIC-LOCATION:America/New_York
BEGIN:DAYLIGHT
TZNAME:EDT
TZOFFSETFROM:-0500
TZOFFSETTO:-0400
DTSTART:19700308T020000
RRULE:FREQ=YEARLY;BYMONTH=3;BYDAY=2SU
END:DAYLIGHT
BEGIN:STANDARD
TZNAME:EST
TZOFFSETFROM:-0400
TZOFFSETTO:-0500
DTSTART:19701101T020000
RRULE:FREQ=YEARLY;BYMONTH=11;BYDAY=1SU
END:STANDARD
END:VTIMEZONE
BEGIN:VEVENT
UID:cobbcounty-73238788-20260302T193000@quickscores.com
DTSTAMP:20260425T145000Z
DTSTART;TZID=America/New_York:20260302T193000
DURATION:PT1H0M0S
SUMMARY:Lafamilia vs. Kastaways
DESCRIPTION:Al Bishop Monday Men's Intermediate - Cobb County PARKS
LOCATION:Al Bishop Field 3
CATEGORIES:QuickScores, Softball - Adult Game
TRANSP:OPAQUE
BEGIN:VALARM
TRIGGER:-PT2H
ACTION:DISPLAY
DESCRIPTION:Lafamilia vs. Kastaways
END:VALARM
END:VEVENT
BEGIN:VEVENT
UID:cobbcounty-73238794-20260309T183000@quickscores.com
DTSTAMP:20260425T145000Z
DTSTART;TZID=America/New_York:20260309T183000
DURATION:PT1H0M0S
SUMMARY:Kastaways vs. Southern Hitters
DESCRIPTION:Al Bishop Monday Men's Intermediate - Cobb County PARKS
LOCATION:Al Bishop Field 2
CATEGORIES:QuickScores, Softball - Adult Game
TRANSP:OPAQUE
BEGIN:VALARM
TRIGGER:-PT2H
ACTION:DISPLAY
DESCRIPTION:Kastaways vs. Southern Hitters
END:VALARM
END:VEVENT
BEGIN:VEVENT
UID:cobbcounty-73238805-20260323T183000@quickscores.com
DTSTAMP:20260425T145000Z
DTSTART;TZID=America/New_York:20260323T183000
DURATION:PT1H0M0S
SUMMARY:Squatting Squirrels vs. Kastaways
DESCRIPTION:Al Bishop Monday Men's Intermediate - Cobb County PARKS
LOCATION:Al Bishop Field 3
CATEGORIES:QuickScores, Softball - Adult Game
TRANSP:OPAQUE
BEGIN:VALARM
TRIGGER:-PT2H
ACTION:DISPLAY
DESCRIPTION:Squatting Squirrels vs. Kastaways
END:VALARM
END:VEVENT
BEGIN:VEVENT
UID:cobbcounty-73238808-20260330T193000@quickscores.com
DTSTAMP:20260425T145000Z
DTSTART;TZID=America/New_York:20260330T193000
DURATION:PT1H0M0S
SUMMARY:Ellis Gentleman's Club vs. Kastaways
DESCRIPTION:Roster lock for all teams --- Al Bishop Monday Men's Intermediate - Cobb County PARKS
LOCATION:Al Bishop Field 3
CATEGORIES:QuickScores, Softball - Adult Game
TRANSP:OPAQUE
BEGIN:VALARM
TRIGGER:-PT2H
ACTION:DISPLAY
DESCRIPTION:Ellis Gentleman's Club vs. Kastaways
END:VALARM
END:VEVENT
BEGIN:VEVENT
UID:cobbcounty-73238797-20260406T213000@quickscores.com
DTSTAMP:20260425T145000Z
DTSTART;TZID=America/New_York:20260406T213000
DURATION:PT1H0M0S
SUMMARY:Kastaways vs. The Predators
DESCRIPTION:Al Bishop Monday Men's Intermediate - Cobb County PARKS
LOCATION:Al Bishop Field 2
CATEGORIES:QuickScores, Softball - Adult Game
TRANSP:OPAQUE
BEGIN:VALARM
TRIGGER:-PT2H
ACTION:DISPLAY
DESCRIPTION:Kastaways vs. The Predators
END:VALARM
END:VEVENT
BEGIN:VEVENT
UID:cobbcounty-73238816-20260413T213000@quickscores.com
DTSTAMP:20260425T145000Z
DTSTART;TZID=America/New_York:20260413T213000
DURATION:PT1H0M0S
SUMMARY:Can't Find The Cleat vs. Kastaways
DESCRIPTION:Al Bishop Monday Men's Intermediate - Cobb County PARKS
LOCATION:Al Bishop Field 3
CATEGORIES:QuickScores, Softball - Adult Game
TRANSP:OPAQUE
BEGIN:VALARM
TRIGGER:-PT2H
ACTION:DISPLAY
DESCRIPTION:Can't Find The Cleat vs. Kastaways
END:VALARM
END:VEVENT
BEGIN:VEVENT
UID:cobbcounty-73238819-20260420T203000@quickscores.com
DTSTAMP:20260425T145000Z
DTSTART;TZID=America/New_York:20260420T203000
DURATION:PT1H0M0S
SUMMARY:Kastaways vs. Mambas
DESCRIPTION:Al Bishop Monday Men's Intermediate - Cobb County PARKS
LOCATION:Al Bishop Field 3
CATEGORIES:QuickScores, Softball - Adult Game
TRANSP:OPAQUE
BEGIN:VALARM
TRIGGER:-PT2H
ACTION:DISPLAY
DESCRIPTION:Kastaways vs. Mambas
END:VALARM
END:VEVENT
BEGIN:VEVENT
UID:cobbcounty-73238826-20260427T213000@quickscores.com
DTSTAMP:20260425T145000Z
DTSTART;TZID=America/New_York:20260427T213000
DURATION:PT1H0M0S
SUMMARY:Kastaways vs. Mooners
DESCRIPTION:Al Bishop Monday Men's Intermediate - Cobb County PARKS
LOCATION:Al Bishop Field 3
CATEGORIES:QuickScores, Softball - Adult Game
TRANSP:OPAQUE
BEGIN:VALARM
TRIGGER:-PT2H
ACTION:DISPLAY
DESCRIPTION:Kastaways vs. Mooners
END:VALARM
END:VEVENT
END:VCALENDAR
