BEGIN:VCALENDAR
VERSION:2.0
PRODID:-//QuickScores.com//BQ Dynamic iCal Creator//EN
METHOD:PUBLISH
X-WR-CALNAME:Dragonflies - 8u Softball - Spring 2026
X-WR-CALDESC:QuickScores game calendar
X-PUBLISHED-TTL:PT24H
REFRESH-INTERVAL;VALUE=DURATION:PT24H
CALSCALE:GREGORIAN
BEGIN:VTIMEZONE
TZID:America/New_York
X-LIC-LOCATION:America/New_York
BEGIN:DAYLIGHT
TZNAME:EDT
TZOFFSETFROM:-0500
TZOFFSETTO:-0400
DTSTART:19700308T020000
RRULE:FREQ=YEARLY;BYMONTH=3;BYDAY=2SU
END:DAYLIGHT
BEGIN:STANDARD
TZNAME:EST
TZOFFSETFROM:-0400
TZOFFSETTO:-0500
DTSTART:19701101T020000
RRULE:FREQ=YEARLY;BYMONTH=11;BYDAY=1SU
END:STANDARD
END:VTIMEZONE
BEGIN:VEVENT
UID:cloversc-73348422-20260317T191500@quickscores.com
DTSTAMP:20260422T174600Z
DTSTART;TZID=America/New_York:20260317T191500
DURATION:PT1H15M0S
SUMMARY:Dragonflies vs. Cowboys
DESCRIPTION:8u Softball - Town of Clover
LOCATION:Roosevelt Field 2
CATEGORIES:QuickScores, Softball - Fastpitch Game
TRANSP:OPAQUE
BEGIN:VALARM
TRIGGER:-PT2H
ACTION:DISPLAY
DESCRIPTION:Dragonflies vs. Cowboys
END:VALARM
END:VEVENT
BEGIN:VEVENT
UID:cloversc-73348425-20260319T191500@quickscores.com
DTSTAMP:20260422T174600Z
DTSTART;TZID=America/New_York:20260319T191500
DURATION:PT1H15M0S
SUMMARY:Dragonflies vs. Storm
DESCRIPTION:8u Softball - Town of Clover
LOCATION:Roosevelt Field 2
CATEGORIES:QuickScores, Softball - Fastpitch Game
TRANSP:OPAQUE
BEGIN:VALARM
TRIGGER:-PT2H
ACTION:DISPLAY
DESCRIPTION:Dragonflies vs. Storm
END:VALARM
END:VEVENT
BEGIN:VEVENT
UID:cloversc-73348428-20260323T180000@quickscores.com
DTSTAMP:20260422T174600Z
DTSTART;TZID=America/New_York:20260323T180000
DURATION:PT1H15M0S
SUMMARY:Dragonflies vs. Honey Badgers
DESCRIPTION:8u Softball - Town of Clover
LOCATION:Roosevelt Field 2
CATEGORIES:QuickScores, Softball - Fastpitch Game
TRANSP:OPAQUE
BEGIN:VALARM
TRIGGER:-PT2H
ACTION:DISPLAY
DESCRIPTION:Dragonflies vs. Honey Badgers
END:VALARM
END:VEVENT
BEGIN:VEVENT
UID:cloversc-73348430-20260324T191500@quickscores.com
DTSTAMP:20260422T174600Z
DTSTART;TZID=America/New_York:20260324T191500
DURATION:PT1H15M0S
SUMMARY:Hitting Heifers vs. Dragonflies
DESCRIPTION:8u Softball - Town of Clover
LOCATION:York Field 1
CATEGORIES:QuickScores, Softball - Fastpitch Game
TRANSP:OPAQUE
BEGIN:VALARM
TRIGGER:-PT2H
ACTION:DISPLAY
DESCRIPTION:Hitting Heifers vs. Dragonflies
END:VALARM
END:VEVENT
BEGIN:VEVENT
UID:cloversc-73348437-20260330T180000@quickscores.com
DTSTAMP:20260422T174600Z
DTSTART;TZID=America/New_York:20260330T180000
DURATION:PT1H15M0S
SUMMARY:Dragonflies vs. Diamond Divas
DESCRIPTION:8u Softball - Town of Clover
LOCATION:Roosevelt Field 2
CATEGORIES:QuickScores, Softball - Fastpitch Game
TRANSP:OPAQUE
BEGIN:VALARM
TRIGGER:-PT2H
ACTION:DISPLAY
DESCRIPTION:Dragonflies vs. Diamond Divas
END:VALARM
END:VEVENT
BEGIN:VEVENT
UID:cloversc-73348440-20260331T180000@quickscores.com
DTSTAMP:20260422T174600Z
DTSTART;TZID=America/New_York:20260331T180000
DURATION:PT1H15M0S
SUMMARY:Dragonflies vs. Bandits
DESCRIPTION:8u Softball - Town of Clover
LOCATION:Roosevelt Field 2
CATEGORIES:QuickScores, Softball - Fastpitch Game
TRANSP:OPAQUE
BEGIN:VALARM
TRIGGER:-PT2H
ACTION:DISPLAY
DESCRIPTION:Dragonflies vs. Bandits
END:VALARM
END:VEVENT
BEGIN:VEVENT
UID:cloversc-73348446-20260413T180000@quickscores.com
DTSTAMP:20260422T174600Z
DTSTART;TZID=America/New_York:20260413T180000
DURATION:PT1H15M0S
SUMMARY:Twisters vs. Dragonflies
DESCRIPTION:8u Softball - Town of Clover
LOCATION:Roosevelt Field 2
CATEGORIES:QuickScores, Softball - Fastpitch Game
TRANSP:OPAQUE
BEGIN:VALARM
TRIGGER:-PT2H
ACTION:DISPLAY
DESCRIPTION:Twisters vs. Dragonflies
END:VALARM
END:VEVENT
BEGIN:VEVENT
UID:cloversc-73348449-20260414T180000@quickscores.com
DTSTAMP:20260422T174600Z
DTSTART;TZID=America/New_York:20260414T180000
DURATION:PT1H15M0S
SUMMARY:Scorpions vs. Dragonflies
DESCRIPTION:8u Softball - Town of Clover
LOCATION:Roosevelt Field 2
CATEGORIES:QuickScores, Softball - Fastpitch Game
TRANSP:OPAQUE
BEGIN:VALARM
TRIGGER:-PT2H
ACTION:DISPLAY
DESCRIPTION:Scorpions vs. Dragonflies
END:VALARM
END:VEVENT
BEGIN:VEVENT
UID:cloversc-73348459-20260421T191500@quickscores.com
DTSTAMP:20260422T174600Z
DTSTART;TZID=America/New_York:20260421T191500
DURATION:PT1H15M0S
SUMMARY:Bandits vs. Dragonflies
DESCRIPTION:8u Softball - Town of Clover
LOCATION:Roosevelt Field 2
CATEGORIES:QuickScores, Softball - Fastpitch Game
TRANSP:OPAQUE
BEGIN:VALARM
TRIGGER:-PT2H
ACTION:DISPLAY
DESCRIPTION:Bandits vs. Dragonflies
END:VALARM
END:VEVENT
BEGIN:VEVENT
UID:cloversc-73348461-20260423T180000@quickscores.com
DTSTAMP:20260422T174600Z
DTSTART;TZID=America/New_York:20260423T180000
DURATION:PT1H15M0S
SUMMARY:Diamond Divas vs. Dragonflies
DESCRIPTION:8u Softball - Town of Clover
LOCATION:Roosevelt Field 2
CATEGORIES:QuickScores, Softball - Fastpitch Game
TRANSP:OPAQUE
BEGIN:VALARM
TRIGGER:-PT2H
ACTION:DISPLAY
DESCRIPTION:Diamond Divas vs. Dragonflies
END:VALARM
END:VEVENT
END:VCALENDAR
