BEGIN:VCALENDAR
VERSION:2.0
PRODID:-//QuickScores.com//BQ Dynamic iCal Creator//EN
METHOD:PUBLISH
X-WR-CALNAME:Twisters - 8u Softball - Spring 2026
X-WR-CALDESC:QuickScores game calendar
X-PUBLISHED-TTL:PT24H
REFRESH-INTERVAL;VALUE=DURATION:PT24H
CALSCALE:GREGORIAN
BEGIN:VTIMEZONE
TZID:America/New_York
X-LIC-LOCATION:America/New_York
BEGIN:DAYLIGHT
TZNAME:EDT
TZOFFSETFROM:-0500
TZOFFSETTO:-0400
DTSTART:19700308T020000
RRULE:FREQ=YEARLY;BYMONTH=3;BYDAY=2SU
END:DAYLIGHT
BEGIN:STANDARD
TZNAME:EST
TZOFFSETFROM:-0400
TZOFFSETTO:-0500
DTSTART:19701101T020000
RRULE:FREQ=YEARLY;BYMONTH=11;BYDAY=1SU
END:STANDARD
END:VTIMEZONE
BEGIN:VEVENT
UID:cloversc-73348423-20260317T180000@quickscores.com
DTSTAMP:20260422T195300Z
DTSTART;TZID=America/New_York:20260317T180000
DURATION:PT1H15M0S
SUMMARY:Diamond Divas vs. Twisters
DESCRIPTION:8u Softball - Town of Clover
LOCATION:Roosevelt Field 2
CATEGORIES:QuickScores, Softball - Fastpitch Game
TRANSP:OPAQUE
BEGIN:VALARM
TRIGGER:-PT2H
ACTION:DISPLAY
DESCRIPTION:Diamond Divas vs. Twisters
END:VALARM
END:VEVENT
BEGIN:VEVENT
UID:cloversc-73348419-20260318T180000@quickscores.com
DTSTAMP:20260422T195300Z
DTSTART;TZID=America/New_York:20260318T180000
DURATION:PT1H15M0S
SUMMARY:Bandits vs. Twisters
DESCRIPTION:Game rescheduled from Mon 3/16/26, 6:00 PM at Roosevelt Field 2 due to weather --- 8u Softball - Town of Clover
LOCATION:Roosevelt Field 2
CATEGORIES:QuickScores, Softball - Fastpitch Game
TRANSP:OPAQUE
BEGIN:VALARM
TRIGGER:-PT2H
ACTION:DISPLAY
DESCRIPTION:Bandits vs. Twisters
END:VALARM
END:VEVENT
BEGIN:VEVENT
UID:cloversc-73348426-20260323T180000@quickscores.com
DTSTAMP:20260422T195300Z
DTSTART;TZID=America/New_York:20260323T180000
DURATION:PT1H15M0S
SUMMARY:Storm vs. Twisters
DESCRIPTION:8u Softball - Town of Clover
LOCATION:York Field 1
CATEGORIES:QuickScores, Softball - Fastpitch Game
TRANSP:OPAQUE
BEGIN:VALARM
TRIGGER:-PT2H
ACTION:DISPLAY
DESCRIPTION:Storm vs. Twisters
END:VALARM
END:VEVENT
BEGIN:VEVENT
UID:cloversc-73348434-20260326T180000@quickscores.com
DTSTAMP:20260422T195300Z
DTSTART;TZID=America/New_York:20260326T180000
DURATION:PT1H15M0S
SUMMARY:Cowboys vs. Twisters
DESCRIPTION:8u Softball - Town of Clover
LOCATION:Roosevelt Field 2
CATEGORIES:QuickScores, Softball - Fastpitch Game
TRANSP:OPAQUE
BEGIN:VALARM
TRIGGER:-PT2H
ACTION:DISPLAY
DESCRIPTION:Cowboys vs. Twisters
END:VALARM
END:VEVENT
BEGIN:VEVENT
UID:cloversc-73348439-20260331T191500@quickscores.com
DTSTAMP:20260422T195300Z
DTSTART;TZID=America/New_York:20260331T191500
DURATION:PT1H15M0S
SUMMARY:Hitting Heifers vs. Twisters
DESCRIPTION:8u Softball - Town of Clover
LOCATION:York Field 1
CATEGORIES:QuickScores, Softball - Fastpitch Game
TRANSP:OPAQUE
BEGIN:VALARM
TRIGGER:-PT2H
ACTION:DISPLAY
DESCRIPTION:Hitting Heifers vs. Twisters
END:VALARM
END:VEVENT
BEGIN:VEVENT
UID:cloversc-73348443-20260402T191500@quickscores.com
DTSTAMP:20260422T195300Z
DTSTART;TZID=America/New_York:20260402T191500
DURATION:PT1H15M0S
SUMMARY:Twisters vs. Honey Badgers
DESCRIPTION:8u Softball - Town of Clover
LOCATION:Roosevelt Field 2
CATEGORIES:QuickScores, Softball - Fastpitch Game
TRANSP:OPAQUE
BEGIN:VALARM
TRIGGER:-PT2H
ACTION:DISPLAY
DESCRIPTION:Twisters vs. Honey Badgers
END:VALARM
END:VEVENT
BEGIN:VEVENT
UID:cloversc-73348446-20260413T180000@quickscores.com
DTSTAMP:20260422T195300Z
DTSTART;TZID=America/New_York:20260413T180000
DURATION:PT1H15M0S
SUMMARY:Twisters vs. Dragonflies
DESCRIPTION:8u Softball - Town of Clover
LOCATION:Roosevelt Field 2
CATEGORIES:QuickScores, Softball - Fastpitch Game
TRANSP:OPAQUE
BEGIN:VALARM
TRIGGER:-PT2H
ACTION:DISPLAY
DESCRIPTION:Twisters vs. Dragonflies
END:VALARM
END:VEVENT
BEGIN:VEVENT
UID:cloversc-73348451-20260416T191500@quickscores.com
DTSTAMP:20260422T195300Z
DTSTART;TZID=America/New_York:20260416T191500
DURATION:PT1H15M0S
SUMMARY:Twisters vs. Scorpions
DESCRIPTION:8u Softball - Town of Clover
LOCATION:Roosevelt Field 2
CATEGORIES:QuickScores, Softball - Fastpitch Game
TRANSP:OPAQUE
BEGIN:VALARM
TRIGGER:-PT2H
ACTION:DISPLAY
DESCRIPTION:Twisters vs. Scorpions
END:VALARM
END:VEVENT
BEGIN:VEVENT
UID:cloversc-73348458-20260421T180000@quickscores.com
DTSTAMP:20260422T195300Z
DTSTART;TZID=America/New_York:20260421T180000
DURATION:PT1H15M0S
SUMMARY:Twisters vs. Cowboys
DESCRIPTION:8u Softball - Town of Clover
LOCATION:Roosevelt Field 2
CATEGORIES:QuickScores, Softball - Fastpitch Game
TRANSP:OPAQUE
BEGIN:VALARM
TRIGGER:-PT2H
ACTION:DISPLAY
DESCRIPTION:Twisters vs. Cowboys
END:VALARM
END:VEVENT
BEGIN:VEVENT
UID:cloversc-73348460-20260423T191500@quickscores.com
DTSTAMP:20260422T195300Z
DTSTART;TZID=America/New_York:20260423T191500
DURATION:PT1H15M0S
SUMMARY:Twisters vs. Hitting Heifers
DESCRIPTION:8u Softball - Town of Clover
LOCATION:Roosevelt Field 2
CATEGORIES:QuickScores, Softball - Fastpitch Game
TRANSP:OPAQUE
BEGIN:VALARM
TRIGGER:-PT2H
ACTION:DISPLAY
DESCRIPTION:Twisters vs. Hitting Heifers
END:VALARM
END:VEVENT
END:VCALENDAR
