BEGIN:VCALENDAR
VERSION:2.0
PRODID:-//QuickScores.com//BQ Dynamic iCal Creator//EN
METHOD:PUBLISH
X-WR-CALNAME:Dragons - Pre-k T-ball - Spring 2026
X-WR-CALDESC:QuickScores game calendar
X-PUBLISHED-TTL:PT24H
REFRESH-INTERVAL;VALUE=DURATION:PT24H
CALSCALE:GREGORIAN
BEGIN:VTIMEZONE
TZID:America/New_York
X-LIC-LOCATION:America/New_York
BEGIN:DAYLIGHT
TZNAME:EDT
TZOFFSETFROM:-0500
TZOFFSETTO:-0400
DTSTART:19700308T020000
RRULE:FREQ=YEARLY;BYMONTH=3;BYDAY=2SU
END:DAYLIGHT
BEGIN:STANDARD
TZNAME:EST
TZOFFSETFROM:-0400
TZOFFSETTO:-0500
DTSTART:19701101T020000
RRULE:FREQ=YEARLY;BYMONTH=11;BYDAY=1SU
END:STANDARD
END:VTIMEZONE
BEGIN:VEVENT
UID:cloversc-73334580-20260328T101500@quickscores.com
DTSTAMP:20260423T004200Z
DTSTART;TZID=America/New_York:20260328T101500
DURATION:PT1H0M0S
SUMMARY:Pirates vs. Dragons
DESCRIPTION:Pre-k T-ball - Town of Clover
LOCATION:CCP Field 2
CATEGORIES:QuickScores, T-Ball Game
TRANSP:OPAQUE
BEGIN:VALARM
TRIGGER:-PT2H
ACTION:DISPLAY
DESCRIPTION:Pirates vs. Dragons
END:VALARM
END:VEVENT
BEGIN:VEVENT
UID:cloversc-73334585-20260418T124500@quickscores.com
DTSTAMP:20260423T004200Z
DTSTART;TZID=America/New_York:20260418T124500
DURATION:PT1H0M0S
SUMMARY:Dragons vs. Small Fries
DESCRIPTION:Pre-k T-ball - Town of Clover
LOCATION:CCP Field 2
CATEGORIES:QuickScores, T-Ball Game
TRANSP:OPAQUE
BEGIN:VALARM
TRIGGER:-PT2H
ACTION:DISPLAY
DESCRIPTION:Dragons vs. Small Fries
END:VALARM
END:VEVENT
BEGIN:VEVENT
UID:cloversc-73334587-20260425T113000@quickscores.com
DTSTAMP:20260423T004200Z
DTSTART;TZID=America/New_York:20260425T113000
DURATION:PT1H0M0S
SUMMARY:Braves vs. Dragons
DESCRIPTION:Pre-k T-ball - Town of Clover
LOCATION:CCP Field 2
CATEGORIES:QuickScores, T-Ball Game
TRANSP:OPAQUE
BEGIN:VALARM
TRIGGER:-PT2H
ACTION:DISPLAY
DESCRIPTION:Braves vs. Dragons
END:VALARM
END:VEVENT
BEGIN:VEVENT
UID:cloversc-73334593-20260502T090000@quickscores.com
DTSTAMP:20260423T004200Z
DTSTART;TZID=America/New_York:20260502T090000
DURATION:PT1H0M0S
SUMMARY:Dragons vs. Eagles
DESCRIPTION:Pre-k T-ball - Town of Clover
LOCATION:CCP Field 2
CATEGORIES:QuickScores, T-Ball Game
TRANSP:OPAQUE
BEGIN:VALARM
TRIGGER:-PT2H
ACTION:DISPLAY
DESCRIPTION:Dragons vs. Eagles
END:VALARM
END:VEVENT
BEGIN:VEVENT
UID:cloversc-73334596-20260509T101500@quickscores.com
DTSTAMP:20260423T004200Z
DTSTART;TZID=America/New_York:20260509T101500
DURATION:PT1H0M0S
SUMMARY:Hooligans vs. Dragons
DESCRIPTION:Pre-k T-ball - Town of Clover
LOCATION:CCP Field 2
CATEGORIES:QuickScores, T-Ball Game
TRANSP:OPAQUE
BEGIN:VALARM
TRIGGER:-PT2H
ACTION:DISPLAY
DESCRIPTION:Hooligans vs. Dragons
END:VALARM
END:VEVENT
BEGIN:VEVENT
UID:cloversc-73334600-20260516T113000@quickscores.com
DTSTAMP:20260423T004200Z
DTSTART;TZID=America/New_York:20260516T113000
DURATION:PT1H0M0S
SUMMARY:Dragons vs. Knights
DESCRIPTION:Pre-k T-ball - Town of Clover
LOCATION:CCP Field 2
CATEGORIES:QuickScores, T-Ball Game
TRANSP:OPAQUE
BEGIN:VALARM
TRIGGER:-PT2H
ACTION:DISPLAY
DESCRIPTION:Dragons vs. Knights
END:VALARM
END:VEVENT
END:VCALENDAR
