BEGIN:VCALENDAR
VERSION:2.0
PRODID:-//QuickScores.com//BQ Dynamic iCal Creator//EN
METHOD:PUBLISH
X-WR-CALNAME:Tigers - 4u Coed - Spring 2026
X-WR-CALDESC:QuickScores game calendar
X-PUBLISHED-TTL:PT24H
REFRESH-INTERVAL;VALUE=DURATION:PT24H
CALSCALE:GREGORIAN
BEGIN:VTIMEZONE
TZID:America/New_York
X-LIC-LOCATION:America/New_York
BEGIN:DAYLIGHT
TZNAME:EDT
TZOFFSETFROM:-0500
TZOFFSETTO:-0400
DTSTART:19700308T020000
RRULE:FREQ=YEARLY;BYMONTH=3;BYDAY=2SU
END:DAYLIGHT
BEGIN:STANDARD
TZNAME:EST
TZOFFSETFROM:-0400
TZOFFSETTO:-0500
DTSTART:19701101T020000
RRULE:FREQ=YEARLY;BYMONTH=11;BYDAY=1SU
END:STANDARD
END:VTIMEZONE
BEGIN:VEVENT
UID:cloversc-73334543-20260328T100000@quickscores.com
DTSTAMP:20260424T105500Z
DTSTART;TZID=America/New_York:20260328T100000
DURATION:PT1H0M0S
SUMMARY:Chaos vs. Tigers
DESCRIPTION:4u Coed - Town of Clover
LOCATION:NCP Field 4A
CATEGORIES:QuickScores, Soccer - Youth Game
TRANSP:OPAQUE
BEGIN:VALARM
TRIGGER:-PT2H
ACTION:DISPLAY
DESCRIPTION:Chaos vs. Tigers
END:VALARM
END:VEVENT
BEGIN:VEVENT
UID:cloversc-73334546-20260418T110000@quickscores.com
DTSTAMP:20260424T105500Z
DTSTART;TZID=America/New_York:20260418T110000
DURATION:PT1H0M0S
SUMMARY:ThunderCats vs. Tigers
DESCRIPTION:4u Coed - Town of Clover
LOCATION:NCP Field 4A
CATEGORIES:QuickScores, Soccer - Youth Game
TRANSP:OPAQUE
BEGIN:VALARM
TRIGGER:-PT2H
ACTION:DISPLAY
DESCRIPTION:ThunderCats vs. Tigers
END:VALARM
END:VEVENT
BEGIN:VEVENT
UID:cloversc-73334551-20260425T090000@quickscores.com
DTSTAMP:20260424T105500Z
DTSTART;TZID=America/New_York:20260425T090000
DURATION:PT1H0M0S
SUMMARY:Tigers vs. Speedy Turtles
DESCRIPTION:4u Coed - Town of Clover
LOCATION:NCP Field 4C
CATEGORIES:QuickScores, Soccer - Youth Game
TRANSP:OPAQUE
BEGIN:VALARM
TRIGGER:-PT2H
ACTION:DISPLAY
DESCRIPTION:Tigers vs. Speedy Turtles
END:VALARM
END:VEVENT
BEGIN:VEVENT
UID:cloversc-73334557-20260502T100000@quickscores.com
DTSTAMP:20260424T105500Z
DTSTART;TZID=America/New_York:20260502T100000
DURATION:PT1H0M0S
SUMMARY:Panthers vs. Tigers
DESCRIPTION:4u Coed - Town of Clover
LOCATION:NCP Field 4A
CATEGORIES:QuickScores, Soccer - Youth Game
TRANSP:OPAQUE
BEGIN:VALARM
TRIGGER:-PT2H
ACTION:DISPLAY
DESCRIPTION:Panthers vs. Tigers
END:VALARM
END:VEVENT
BEGIN:VEVENT
UID:cloversc-73334565-20260509T090000@quickscores.com
DTSTAMP:20260424T105500Z
DTSTART;TZID=America/New_York:20260509T090000
DURATION:PT1H0M0S
SUMMARY:Tigers vs. Little Rascals
DESCRIPTION:4u Coed - Town of Clover
LOCATION:NCP Field 4C
CATEGORIES:QuickScores, Soccer - Youth Game
TRANSP:OPAQUE
BEGIN:VALARM
TRIGGER:-PT2H
ACTION:DISPLAY
DESCRIPTION:Tigers vs. Little Rascals
END:VALARM
END:VEVENT
BEGIN:VEVENT
UID:cloversc-73334574-20260516T100000@quickscores.com
DTSTAMP:20260424T105500Z
DTSTART;TZID=America/New_York:20260516T100000
DURATION:PT1H0M0S
SUMMARY:Tigers vs. Sour Patch Kids
DESCRIPTION:4u Coed - Town of Clover
LOCATION:NCP Field 4A
CATEGORIES:QuickScores, Soccer - Youth Game
TRANSP:OPAQUE
BEGIN:VALARM
TRIGGER:-PT2H
ACTION:DISPLAY
DESCRIPTION:Tigers vs. Sour Patch Kids
END:VALARM
END:VEVENT
END:VCALENDAR
