BEGIN:VCALENDAR
VERSION:2.0
PRODID:-//QuickScores.com//BQ Dynamic iCal Creator//EN
METHOD:PUBLISH
X-WR-CALNAME:Sets on the Beach - Volleyball - Competitive - Summer 2025
X-WR-CALDESC:QuickScores game calendar
X-PUBLISHED-TTL:PT24H
REFRESH-INTERVAL;VALUE=DURATION:PT24H
CALSCALE:GREGORIAN
BEGIN:VTIMEZONE
TZID:America/Chicago
X-LIC-LOCATION:America/Chicago
BEGIN:DAYLIGHT
TZNAME:CDT
TZOFFSETFROM:-0600
TZOFFSETTO:-0500
DTSTART:19700308T020000
RRULE:FREQ=YEARLY;BYMONTH=3;BYDAY=2SU
END:DAYLIGHT
BEGIN:STANDARD
TZNAME:CST
TZOFFSETFROM:-0500
TZOFFSETTO:-0600
DTSTART:19701101T020000
RRULE:FREQ=YEARLY;BYMONTH=11;BYDAY=1SU
END:STANDARD
END:VTIMEZONE
BEGIN:VEVENT
UID:cityofpriorlake-68640600-20250507T191500@quickscores.com
DTSTAMP:20260420T014000Z
DTSTART;TZID=America/Chicago:20250507T191500
DURATION:PT1H0M0S
SUMMARY:Jake Gyllenhaal Haters vs. Sets on the Beach
DESCRIPTION:Volleyball - Competitive - Prior Lake Parks and Recreation
LOCATION:Sand Point Beach - Volleyball Court 1
CATEGORIES:QuickScores, Volleyball - Adult Game
TRANSP:OPAQUE
BEGIN:VALARM
TRIGGER:-PT2H
ACTION:DISPLAY
DESCRIPTION:Jake Gyllenhaal Haters vs. Sets on the Beach
END:VALARM
END:VEVENT
BEGIN:VEVENT
UID:cityofpriorlake-68640605-20250514T191500@quickscores.com
DTSTAMP:20260420T014000Z
DTSTART;TZID=America/Chicago:20250514T191500
DURATION:PT1H0M0S
SUMMARY:Kiss My Ace vs. Sets on the Beach
DESCRIPTION:Volleyball - Competitive - Prior Lake Parks and Recreation
LOCATION:Sand Point Beach - Volleyball Court 2
CATEGORIES:QuickScores, Volleyball - Adult Game
TRANSP:OPAQUE
BEGIN:VALARM
TRIGGER:-PT2H
ACTION:DISPLAY
DESCRIPTION:Kiss My Ace vs. Sets on the Beach
END:VALARM
END:VEVENT
BEGIN:VEVENT
UID:cityofpriorlake-68640607-20250521T191500@quickscores.com
DTSTAMP:20260420T014000Z
DTSTART;TZID=America/Chicago:20250521T191500
DURATION:PT1H0M0S
SUMMARY:Sandy V's vs. Sets on the Beach
DESCRIPTION:Volleyball - Competitive - Prior Lake Parks and Recreation
LOCATION:Sand Point Beach - Volleyball Court 1
CATEGORIES:QuickScores, Volleyball - Adult Game
TRANSP:OPAQUE
BEGIN:VALARM
TRIGGER:-PT2H
ACTION:DISPLAY
DESCRIPTION:Sandy V's vs. Sets on the Beach
END:VALARM
END:VEVENT
BEGIN:VEVENT
UID:cityofpriorlake-68640613-20250528T181500@quickscores.com
DTSTAMP:20260420T014000Z
DTSTART;TZID=America/Chicago:20250528T181500
DURATION:PT1H0M0S
SUMMARY:Sets on the Beach vs. How I Set Your Mother
DESCRIPTION:Volleyball - Competitive - Prior Lake Parks and Recreation
LOCATION:Sand Point Beach - Volleyball Court 2
CATEGORIES:QuickScores, Volleyball - Adult Game
TRANSP:OPAQUE
BEGIN:VALARM
TRIGGER:-PT2H
ACTION:DISPLAY
DESCRIPTION:Sets on the Beach vs. How I Set Your Mother
END:VALARM
END:VEVENT
BEGIN:VEVENT
UID:cityofpriorlake-68640614-20250604T181500@quickscores.com
DTSTAMP:20260420T014000Z
DTSTART;TZID=America/Chicago:20250604T181500
DURATION:PT1H0M0S
SUMMARY:Diggin' This vs. Sets on the Beach
DESCRIPTION:Volleyball - Competitive - Prior Lake Parks and Recreation
LOCATION:Sand Point Beach - Volleyball Court 2
CATEGORIES:QuickScores, Volleyball - Adult Game
TRANSP:OPAQUE
BEGIN:VALARM
TRIGGER:-PT2H
ACTION:DISPLAY
DESCRIPTION:Diggin' This vs. Sets on the Beach
END:VALARM
END:VEVENT
BEGIN:VEVENT
UID:cityofpriorlake-68640620-20250611T191500@quickscores.com
DTSTAMP:20260420T014000Z
DTSTART;TZID=America/Chicago:20250611T191500
DURATION:PT1H0M0S
SUMMARY:I'd Hit That vs. Sets on the Beach
DESCRIPTION:Volleyball - Competitive - Prior Lake Parks and Recreation
LOCATION:Sand Point Beach - Volleyball Court 1
CATEGORIES:QuickScores, Volleyball - Adult Game
TRANSP:OPAQUE
BEGIN:VALARM
TRIGGER:-PT2H
ACTION:DISPLAY
DESCRIPTION:I'd Hit That vs. Sets on the Beach
END:VALARM
END:VEVENT
BEGIN:VEVENT
UID:cityofpriorlake-68640623-20250618T181500@quickscores.com
DTSTAMP:20260420T014000Z
DTSTART;TZID=America/Chicago:20250618T181500
DURATION:PT1H0M0S
SUMMARY:Sets on the Beach vs. Bump Set Drink
DESCRIPTION:Volleyball - Competitive - Prior Lake Parks and Recreation
LOCATION:Sand Point Beach - Volleyball Court 1
CATEGORIES:QuickScores, Volleyball - Adult Game
TRANSP:OPAQUE
BEGIN:VALARM
TRIGGER:-PT2H
ACTION:DISPLAY
DESCRIPTION:Sets on the Beach vs. Bump Set Drink
END:VALARM
END:VEVENT
BEGIN:VEVENT
UID:cityofpriorlake-68640628-20250625T181500@quickscores.com
DTSTAMP:20260420T014000Z
DTSTART;TZID=America/Chicago:20250625T181500
DURATION:PT1H0M0S
SUMMARY:Sets on the Beach vs. Jake Gyllenhaal Haters
DESCRIPTION:Volleyball - Competitive - Prior Lake Parks and Recreation
LOCATION:Sand Point Beach - Volleyball Court 1
CATEGORIES:QuickScores, Volleyball - Adult Game
TRANSP:OPAQUE
BEGIN:VALARM
TRIGGER:-PT2H
ACTION:DISPLAY
DESCRIPTION:Sets on the Beach vs. Jake Gyllenhaal Haters
END:VALARM
END:VEVENT
BEGIN:VEVENT
UID:cityofpriorlake-68640635-20250709T181500@quickscores.com
DTSTAMP:20260420T014000Z
DTSTART;TZID=America/Chicago:20250709T181500
DURATION:PT1H0M0S
SUMMARY:Sets on the Beach vs. Sandy V's
DESCRIPTION:Volleyball - Competitive - Prior Lake Parks and Recreation
LOCATION:Sand Point Beach - Volleyball Court 2
CATEGORIES:QuickScores, Volleyball - Adult Game
TRANSP:OPAQUE
BEGIN:VALARM
TRIGGER:-PT2H
ACTION:DISPLAY
DESCRIPTION:Sets on the Beach vs. Sandy V's
END:VALARM
END:VEVENT
BEGIN:VEVENT
UID:cityofpriorlake-68640641-20250716T191500@quickscores.com
DTSTAMP:20260420T014000Z
DTSTART;TZID=America/Chicago:20250716T191500
DURATION:PT1H0M0S
SUMMARY:How I Set Your Mother vs. Sets on the Beach
DESCRIPTION:Volleyball - Competitive - Prior Lake Parks and Recreation
LOCATION:Sand Point Beach - Volleyball Court 2
CATEGORIES:QuickScores, Volleyball - Adult Game
TRANSP:OPAQUE
BEGIN:VALARM
TRIGGER:-PT2H
ACTION:DISPLAY
DESCRIPTION:How I Set Your Mother vs. Sets on the Beach
END:VALARM
END:VEVENT
BEGIN:VEVENT
UID:cityofpriorlake-68640642-20250723T181500@quickscores.com
DTSTAMP:20260420T014000Z
DTSTART;TZID=America/Chicago:20250723T181500
DURATION:PT1H0M0S
SUMMARY:Sets on the Beach vs. Diggin' This
DESCRIPTION:Volleyball - Competitive - Prior Lake Parks and Recreation
LOCATION:Sand Point Beach - Volleyball Court 1
CATEGORIES:QuickScores, Volleyball - Adult Game
TRANSP:OPAQUE
BEGIN:VALARM
TRIGGER:-PT2H
ACTION:DISPLAY
DESCRIPTION:Sets on the Beach vs. Diggin' This
END:VALARM
END:VEVENT
BEGIN:VEVENT
UID:cityofpriorlake-68640633-20250730T191500@quickscores.com
DTSTAMP:20260420T014000Z
DTSTART;TZID=America/Chicago:20250730T191500
DURATION:PT1H0M0S
SUMMARY:Sets on the Beach vs. Kiss My Ace
DESCRIPTION:Volleyball - Competitive - Prior Lake Parks and Recreation
LOCATION:Sand Point Beach - Volleyball Court 2
CATEGORIES:QuickScores, Volleyball - Adult Game
TRANSP:OPAQUE
BEGIN:VALARM
TRIGGER:-PT2H
ACTION:DISPLAY
DESCRIPTION:Sets on the Beach vs. Kiss My Ace
END:VALARM
END:VEVENT
BEGIN:VEVENT
UID:cityofpriorlake-70018614-20250806T191500@quickscores.com
DTSTAMP:20260420T014000Z
DTSTART;TZID=America/Chicago:20250806T191500
DURATION:PT1H0M0S
SUMMARY:How I Set Your Mother vs. Sets on the Beach
DESCRIPTION:Volleyball - Competitive - Prior Lake Parks and Recreation
LOCATION:Sand Point Beach - Volleyball Court 2
CATEGORIES:QuickScores, Volleyball - Adult Game
TRANSP:OPAQUE
BEGIN:VALARM
TRIGGER:-PT2H
ACTION:DISPLAY
DESCRIPTION:How I Set Your Mother vs. Sets on the Beach
END:VALARM
END:VEVENT
END:VCALENDAR
