BEGIN:VCALENDAR
VERSION:2.0
PRODID:-//QuickScores.com//BQ Dynamic iCal Creator//EN
METHOD:PUBLISH
X-WR-CALNAME:Just 4 Fun - Friday D - Single - Spring 2026
X-WR-CALDESC:QuickScores game calendar
X-PUBLISHED-TTL:PT24H
REFRESH-INTERVAL;VALUE=DURATION:PT24H
CALSCALE:GREGORIAN
BEGIN:VTIMEZONE
TZID:America/Phoenix
X-LIC-LOCATION:America/Phoenix
BEGIN:STANDARD
TZNAME:MST
TZOFFSETFROM:-0700
TZOFFSETTO:-0700
DTSTART:19700101T000000
END:STANDARD
END:VTIMEZONE
BEGIN:VEVENT
UID:chandleraz-74049586-20260403T182000@quickscores.com
DTSTAMP:20260419T201100Z
DTSTART;TZID=America/Phoenix:20260403T182000
DURATION:PT1H0M0S
SUMMARY:Just 4 Fun vs. Diamond Dawgs
DESCRIPTION:Friday D - Single - Chandler AZ Parks and Recreation
LOCATION:Snedigar 5
CATEGORIES:QuickScores, Softball - Adult Game
TRANSP:OPAQUE
BEGIN:VALARM
TRIGGER:-PT2H
ACTION:DISPLAY
DESCRIPTION:Just 4 Fun vs. Diamond Dawgs
END:VALARM
END:VEVENT
BEGIN:VEVENT
UID:chandleraz-74049664-20260410T202000@quickscores.com
DTSTAMP:20260419T201100Z
DTSTART;TZID=America/Phoenix:20260410T202000
DURATION:PT1H0M0S
SUMMARY:Just 4 Fun vs. Fired Up
DESCRIPTION:Friday D - Single - Chandler AZ Parks and Recreation
LOCATION:Snedigar 6
CATEGORIES:QuickScores, Softball - Adult Game
TRANSP:OPAQUE
BEGIN:VALARM
TRIGGER:-PT2H
ACTION:DISPLAY
DESCRIPTION:Just 4 Fun vs. Fired Up
END:VALARM
END:VEVENT
BEGIN:VEVENT
UID:chandleraz-74049593-20260417T212000@quickscores.com
DTSTAMP:20260419T201100Z
DTSTART;TZID=America/Phoenix:20260417T212000
DURATION:PT1H0M0S
SUMMARY:Just 4 Fun vs. Parking Lot Pimps
DESCRIPTION:Just 4 Fun forfeit --- Friday D - Single - Chandler AZ Parks and Recreation
LOCATION:Snedigar 6
CATEGORIES:QuickScores, Softball - Adult Game
TRANSP:OPAQUE
BEGIN:VALARM
TRIGGER:-PT2H
ACTION:DISPLAY
DESCRIPTION:Just 4 Fun vs. Parking Lot Pimps
END:VALARM
END:VEVENT
BEGIN:VEVENT
UID:chandleraz-74049598-20260424T212000@quickscores.com
DTSTAMP:20260419T201100Z
DTSTART;TZID=America/Phoenix:20260424T212000
DURATION:PT1H0M0S
SUMMARY:Under Achievers vs. Just 4 Fun
DESCRIPTION:Friday D - Single - Chandler AZ Parks and Recreation
LOCATION:Snedigar 6
CATEGORIES:QuickScores, Softball - Adult Game
TRANSP:OPAQUE
BEGIN:VALARM
TRIGGER:-PT2H
ACTION:DISPLAY
DESCRIPTION:Under Achievers vs. Just 4 Fun
END:VALARM
END:VEVENT
BEGIN:VEVENT
UID:chandleraz-74049669-20260501T182000@quickscores.com
DTSTAMP:20260419T201100Z
DTSTART;TZID=America/Phoenix:20260501T182000
DURATION:PT1H0M0S
SUMMARY:Leave No Doubt vs. Just 4 Fun
DESCRIPTION:Friday D - Single - Chandler AZ Parks and Recreation
LOCATION:Snedigar 6
CATEGORIES:QuickScores, Softball - Adult Game
TRANSP:OPAQUE
BEGIN:VALARM
TRIGGER:-PT2H
ACTION:DISPLAY
DESCRIPTION:Leave No Doubt vs. Just 4 Fun
END:VALARM
END:VEVENT
BEGIN:VEVENT
UID:chandleraz-74049605-20260508T182000@quickscores.com
DTSTAMP:20260419T201100Z
DTSTART;TZID=America/Phoenix:20260508T182000
DURATION:PT1H0M0S
SUMMARY:Just 4 Fun vs. Chuggers
DESCRIPTION:Friday D - Single - Chandler AZ Parks and Recreation
LOCATION:Snedigar 5
CATEGORIES:QuickScores, Softball - Adult Game
TRANSP:OPAQUE
BEGIN:VALARM
TRIGGER:-PT2H
ACTION:DISPLAY
DESCRIPTION:Just 4 Fun vs. Chuggers
END:VALARM
END:VEVENT
BEGIN:VEVENT
UID:chandleraz-74049610-20260515T212000@quickscores.com
DTSTAMP:20260419T201100Z
DTSTART;TZID=America/Phoenix:20260515T212000
DURATION:PT1H0M0S
SUMMARY:The Swingers vs. Just 4 Fun
DESCRIPTION:Friday D - Single - Chandler AZ Parks and Recreation
LOCATION:Snedigar 6
CATEGORIES:QuickScores, Softball - Adult Game
TRANSP:OPAQUE
BEGIN:VALARM
TRIGGER:-PT2H
ACTION:DISPLAY
DESCRIPTION:The Swingers vs. Just 4 Fun
END:VALARM
END:VEVENT
END:VCALENDAR
