BEGIN:VCALENDAR
VERSION:2.0
PRODID:-//QuickScores.com//BQ Dynamic iCal Creator//EN
METHOD:PUBLISH
X-WR-CALNAME:MOVE - Sunday - B1 - Spring 2026
X-WR-CALDESC:QuickScores game calendar
X-PUBLISHED-TTL:PT24H
REFRESH-INTERVAL;VALUE=DURATION:PT24H
CALSCALE:GREGORIAN
BEGIN:VTIMEZONE
TZID:America/Phoenix
X-LIC-LOCATION:America/Phoenix
BEGIN:STANDARD
TZNAME:MST
TZOFFSETFROM:-0700
TZOFFSETTO:-0700
DTSTART:19700101T000000
END:STANDARD
END:VTIMEZONE
BEGIN:VEVENT
UID:chandleraz-73856053-20260329T150000@quickscores.com
DTSTAMP:20260422T114300Z
DTSTART;TZID=America/Phoenix:20260329T150000
DURATION:PT1H0M0S
SUMMARY:MOVE vs. Yellowjackets
DESCRIPTION:Sunday - B1 - Chandler AZ Parks and Recreation
LOCATION:Main Court
CATEGORIES:QuickScores, Basketball - Adult Game
TRANSP:OPAQUE
BEGIN:VALARM
TRIGGER:-PT2H
ACTION:DISPLAY
DESCRIPTION:MOVE vs. Yellowjackets
END:VALARM
END:VEVENT
BEGIN:VEVENT
UID:chandleraz-73856058-20260412T160000@quickscores.com
DTSTAMP:20260422T114300Z
DTSTART;TZID=America/Phoenix:20260412T160000
DURATION:PT1H0M0S
SUMMARY:MOVE vs. Temp Name
DESCRIPTION:Sunday - B1 - Chandler AZ Parks and Recreation
LOCATION:Main Court
CATEGORIES:QuickScores, Basketball - Adult Game
TRANSP:OPAQUE
BEGIN:VALARM
TRIGGER:-PT2H
ACTION:DISPLAY
DESCRIPTION:MOVE vs. Temp Name
END:VALARM
END:VEVENT
BEGIN:VEVENT
UID:chandleraz-73856060-20260419T130000@quickscores.com
DTSTAMP:20260422T114300Z
DTSTART;TZID=America/Phoenix:20260419T130000
DURATION:PT1H0M0S
SUMMARY:All Money In vs. MOVE
DESCRIPTION:Sunday - B1 - Chandler AZ Parks and Recreation
LOCATION:Main Court
CATEGORIES:QuickScores, Basketball - Adult Game
TRANSP:OPAQUE
BEGIN:VALARM
TRIGGER:-PT2H
ACTION:DISPLAY
DESCRIPTION:All Money In vs. MOVE
END:VALARM
END:VEVENT
BEGIN:VEVENT
UID:chandleraz-73856066-20260426T140000@quickscores.com
DTSTAMP:20260422T114300Z
DTSTART;TZID=America/Phoenix:20260426T140000
DURATION:PT1H0M0S
SUMMARY:MOVE vs. The Homebuyers
DESCRIPTION:Sunday - B1 - Chandler AZ Parks and Recreation
LOCATION:Main Court
CATEGORIES:QuickScores, Basketball - Adult Game
TRANSP:OPAQUE
BEGIN:VALARM
TRIGGER:-PT2H
ACTION:DISPLAY
DESCRIPTION:MOVE vs. The Homebuyers
END:VALARM
END:VEVENT
BEGIN:VEVENT
UID:chandleraz-73856067-20260503T140000@quickscores.com
DTSTAMP:20260422T114300Z
DTSTART;TZID=America/Phoenix:20260503T140000
DURATION:PT1H0M0S
SUMMARY:Take It Easy vs. MOVE
DESCRIPTION:Sunday - B1 - Chandler AZ Parks and Recreation
LOCATION:Main Court
CATEGORIES:QuickScores, Basketball - Adult Game
TRANSP:OPAQUE
BEGIN:VALARM
TRIGGER:-PT2H
ACTION:DISPLAY
DESCRIPTION:Take It Easy vs. MOVE
END:VALARM
END:VEVENT
BEGIN:VEVENT
UID:chandleraz-73856073-20260517T150000@quickscores.com
DTSTAMP:20260422T114300Z
DTSTART;TZID=America/Phoenix:20260517T150000
DURATION:PT1H0M0S
SUMMARY:Hoop Dreams vs. MOVE
DESCRIPTION:Sunday - B1 - Chandler AZ Parks and Recreation
LOCATION:Main Court
CATEGORIES:QuickScores, Basketball - Adult Game
TRANSP:OPAQUE
BEGIN:VALARM
TRIGGER:-PT2H
ACTION:DISPLAY
DESCRIPTION:Hoop Dreams vs. MOVE
END:VALARM
END:VEVENT
BEGIN:VEVENT
UID:chandleraz-73856076-20260531T160000@quickscores.com
DTSTAMP:20260422T114300Z
DTSTART;TZID=America/Phoenix:20260531T160000
DURATION:PT1H0M0S
SUMMARY:Flint Tropics vs. MOVE
DESCRIPTION:Sunday - B1 - Chandler AZ Parks and Recreation
LOCATION:Main Court
CATEGORIES:QuickScores, Basketball - Adult Game
TRANSP:OPAQUE
BEGIN:VALARM
TRIGGER:-PT2H
ACTION:DISPLAY
DESCRIPTION:Flint Tropics vs. MOVE
END:VALARM
END:VEVENT
END:VCALENDAR
