BEGIN:VCALENDAR
VERSION:2.0
PRODID:-//QuickScores.com//BQ Dynamic iCal Creator//EN
METHOD:PUBLISH
X-WR-CALNAME:Flint Tropics - Sunday - B1 - Spring 2026
X-WR-CALDESC:QuickScores game calendar
X-PUBLISHED-TTL:PT24H
REFRESH-INTERVAL;VALUE=DURATION:PT24H
CALSCALE:GREGORIAN
BEGIN:VTIMEZONE
TZID:America/Phoenix
X-LIC-LOCATION:America/Phoenix
BEGIN:STANDARD
TZNAME:MST
TZOFFSETFROM:-0700
TZOFFSETTO:-0700
DTSTART:19700101T000000
END:STANDARD
END:VTIMEZONE
BEGIN:VEVENT
UID:chandleraz-73856054-20260329T160000@quickscores.com
DTSTAMP:20260425T215600Z
DTSTART;TZID=America/Phoenix:20260329T160000
DURATION:PT1H0M0S
SUMMARY:Flint Tropics vs. Temp Name
DESCRIPTION:Sunday - B1 - Chandler AZ Parks and Recreation
LOCATION:Main Court
CATEGORIES:QuickScores, Basketball - Adult Game
TRANSP:OPAQUE
BEGIN:VALARM
TRIGGER:-PT2H
ACTION:DISPLAY
DESCRIPTION:Flint Tropics vs. Temp Name
END:VALARM
END:VEVENT
BEGIN:VEVENT
UID:chandleraz-73856057-20260412T140000@quickscores.com
DTSTAMP:20260425T215600Z
DTSTART;TZID=America/Phoenix:20260412T140000
DURATION:PT1H0M0S
SUMMARY:The Homebuyers vs. Flint Tropics
DESCRIPTION:Sunday - B1 - Chandler AZ Parks and Recreation
LOCATION:Main Court
CATEGORIES:QuickScores, Basketball - Adult Game
TRANSP:OPAQUE
BEGIN:VALARM
TRIGGER:-PT2H
ACTION:DISPLAY
DESCRIPTION:The Homebuyers vs. Flint Tropics
END:VALARM
END:VEVENT
BEGIN:VEVENT
UID:chandleraz-73856062-20260419T140000@quickscores.com
DTSTAMP:20260425T215600Z
DTSTART;TZID=America/Phoenix:20260419T140000
DURATION:PT1H0M0S
SUMMARY:Yellowjackets vs. Flint Tropics
DESCRIPTION:Sunday - B1 - Chandler AZ Parks and Recreation
LOCATION:Main Court
CATEGORIES:QuickScores, Basketball - Adult Game
TRANSP:OPAQUE
BEGIN:VALARM
TRIGGER:-PT2H
ACTION:DISPLAY
DESCRIPTION:Yellowjackets vs. Flint Tropics
END:VALARM
END:VEVENT
BEGIN:VEVENT
UID:chandleraz-73856064-20260426T130000@quickscores.com
DTSTAMP:20260425T215600Z
DTSTART;TZID=America/Phoenix:20260426T130000
DURATION:PT1H0M0S
SUMMARY:Hoop Dreams vs. Flint Tropics
DESCRIPTION:Sunday - B1 - Chandler AZ Parks and Recreation
LOCATION:Main Court
CATEGORIES:QuickScores, Basketball - Adult Game
TRANSP:OPAQUE
BEGIN:VALARM
TRIGGER:-PT2H
ACTION:DISPLAY
DESCRIPTION:Hoop Dreams vs. Flint Tropics
END:VALARM
END:VEVENT
BEGIN:VEVENT
UID:chandleraz-73856069-20260503T150000@quickscores.com
DTSTAMP:20260425T215600Z
DTSTART;TZID=America/Phoenix:20260503T150000
DURATION:PT1H0M0S
SUMMARY:Flint Tropics vs. All Money In
DESCRIPTION:Sunday - B1 - Chandler AZ Parks and Recreation
LOCATION:Main Court
CATEGORIES:QuickScores, Basketball - Adult Game
TRANSP:OPAQUE
BEGIN:VALARM
TRIGGER:-PT2H
ACTION:DISPLAY
DESCRIPTION:Flint Tropics vs. All Money In
END:VALARM
END:VEVENT
BEGIN:VEVENT
UID:chandleraz-73856071-20260517T130000@quickscores.com
DTSTAMP:20260425T215600Z
DTSTART;TZID=America/Phoenix:20260517T130000
DURATION:PT1H0M0S
SUMMARY:Flint Tropics vs. Take It Easy
DESCRIPTION:Sunday - B1 - Chandler AZ Parks and Recreation
LOCATION:Main Court
CATEGORIES:QuickScores, Basketball - Adult Game
TRANSP:OPAQUE
BEGIN:VALARM
TRIGGER:-PT2H
ACTION:DISPLAY
DESCRIPTION:Flint Tropics vs. Take It Easy
END:VALARM
END:VEVENT
BEGIN:VEVENT
UID:chandleraz-73856076-20260531T160000@quickscores.com
DTSTAMP:20260425T215600Z
DTSTART;TZID=America/Phoenix:20260531T160000
DURATION:PT1H0M0S
SUMMARY:Flint Tropics vs. MOVE
DESCRIPTION:Sunday - B1 - Chandler AZ Parks and Recreation
LOCATION:Main Court
CATEGORIES:QuickScores, Basketball - Adult Game
TRANSP:OPAQUE
BEGIN:VALARM
TRIGGER:-PT2H
ACTION:DISPLAY
DESCRIPTION:Flint Tropics vs. MOVE
END:VALARM
END:VEVENT
END:VCALENDAR
