BEGIN:VCALENDAR
VERSION:2.0
PRODID:-//QuickScores.com//BQ Dynamic iCal Creator//EN
METHOD:PUBLISH
X-WR-CALNAME:Now You Know - Beginner Mixed Doubles - Spring 2026
X-WR-CALDESC:QuickScores game calendar
X-PUBLISHED-TTL:PT24H
REFRESH-INTERVAL;VALUE=DURATION:PT24H
CALSCALE:GREGORIAN
BEGIN:VTIMEZONE
TZID:America/Phoenix
X-LIC-LOCATION:America/Phoenix
BEGIN:STANDARD
TZNAME:MST
TZOFFSETFROM:-0700
TZOFFSETTO:-0700
DTSTART:19700101T000000
END:STANDARD
END:VTIMEZONE
BEGIN:VEVENT
UID:chandleraz-74023668-20260403T180000@quickscores.com
DTSTAMP:20260423T192200Z
DTSTART;TZID=America/Phoenix:20260403T180000
DURATION:PT1H0M0S
SUMMARY:Now You Know vs. Pat and Mary
DESCRIPTION:Beginner Mixed Doubles - Chandler AZ Parks and Recreation
LOCATION:Pickleball Court 6
CATEGORIES:QuickScores, Pickleball Game
TRANSP:OPAQUE
BEGIN:VALARM
TRIGGER:-PT2H
ACTION:DISPLAY
DESCRIPTION:Now You Know vs. Pat and Mary
END:VALARM
END:VEVENT
BEGIN:VEVENT
UID:chandleraz-74023669-20260403T190000@quickscores.com
DTSTAMP:20260423T192200Z
DTSTART;TZID=America/Phoenix:20260403T190000
DURATION:PT1H0M0S
SUMMARY:Howard and Joy vs. Now You Know
DESCRIPTION:Beginner Mixed Doubles - Chandler AZ Parks and Recreation
LOCATION:Pickleball Court 6
CATEGORIES:QuickScores, Pickleball Game
TRANSP:OPAQUE
BEGIN:VALARM
TRIGGER:-PT2H
ACTION:DISPLAY
DESCRIPTION:Howard and Joy vs. Now You Know
END:VALARM
END:VEVENT
BEGIN:VEVENT
UID:chandleraz-74023674-20260410T180000@quickscores.com
DTSTAMP:20260423T192200Z
DTSTART;TZID=America/Phoenix:20260410T180000
DURATION:PT1H0M0S
SUMMARY:Now You Know vs. Parks & Rec
DESCRIPTION:Beginner Mixed Doubles - Chandler AZ Parks and Recreation
LOCATION:Pickleball Court 9
CATEGORIES:QuickScores, Pickleball Game
TRANSP:OPAQUE
BEGIN:VALARM
TRIGGER:-PT2H
ACTION:DISPLAY
DESCRIPTION:Now You Know vs. Parks & Rec
END:VALARM
END:VEVENT
BEGIN:VEVENT
UID:chandleraz-74023675-20260410T190000@quickscores.com
DTSTAMP:20260423T192200Z
DTSTART;TZID=America/Phoenix:20260410T190000
DURATION:PT1H0M0S
SUMMARY:Paddlemates vs. Now You Know
DESCRIPTION:Beginner Mixed Doubles - Chandler AZ Parks and Recreation
LOCATION:Pickleball Court 9
CATEGORIES:QuickScores, Pickleball Game
TRANSP:OPAQUE
BEGIN:VALARM
TRIGGER:-PT2H
ACTION:DISPLAY
DESCRIPTION:Paddlemates vs. Now You Know
END:VALARM
END:VEVENT
BEGIN:VEVENT
UID:chandleraz-74023680-20260417T180000@quickscores.com
DTSTAMP:20260423T192200Z
DTSTART;TZID=America/Phoenix:20260417T180000
DURATION:PT1H0M0S
SUMMARY:Now You Know vs. Volley Llamas
DESCRIPTION:Beginner Mixed Doubles - Chandler AZ Parks and Recreation
LOCATION:Pickleball Court 9
CATEGORIES:QuickScores, Pickleball Game
TRANSP:OPAQUE
BEGIN:VALARM
TRIGGER:-PT2H
ACTION:DISPLAY
DESCRIPTION:Now You Know vs. Volley Llamas
END:VALARM
END:VEVENT
BEGIN:VEVENT
UID:chandleraz-74023679-20260417T190000@quickscores.com
DTSTAMP:20260423T192200Z
DTSTART;TZID=America/Phoenix:20260417T190000
DURATION:PT1H0M0S
SUMMARY:The Spicy Spears vs. Now You Know
DESCRIPTION:Beginner Mixed Doubles - Chandler AZ Parks and Recreation
LOCATION:Pickleball Court 6
CATEGORIES:QuickScores, Pickleball Game
TRANSP:OPAQUE
BEGIN:VALARM
TRIGGER:-PT2H
ACTION:DISPLAY
DESCRIPTION:The Spicy Spears vs. Now You Know
END:VALARM
END:VEVENT
BEGIN:VEVENT
UID:chandleraz-74023689-20260424T180000@quickscores.com
DTSTAMP:20260423T192200Z
DTSTART;TZID=America/Phoenix:20260424T180000
DURATION:PT1H0M0S
SUMMARY:Pat and Mary vs. Now You Know
DESCRIPTION:Beginner Mixed Doubles - Chandler AZ Parks and Recreation
LOCATION:Pickleball Court 10
CATEGORIES:QuickScores, Pickleball Game
TRANSP:OPAQUE
BEGIN:VALARM
TRIGGER:-PT2H
ACTION:DISPLAY
DESCRIPTION:Pat and Mary vs. Now You Know
END:VALARM
END:VEVENT
BEGIN:VEVENT
UID:chandleraz-74023693-20260424T190000@quickscores.com
DTSTAMP:20260423T192200Z
DTSTART;TZID=America/Phoenix:20260424T190000
DURATION:PT1H0M0S
SUMMARY:Foote vs. Now You Know
DESCRIPTION:Beginner Mixed Doubles - Chandler AZ Parks and Recreation
LOCATION:Pickleball Court 10
CATEGORIES:QuickScores, Pickleball Game
TRANSP:OPAQUE
BEGIN:VALARM
TRIGGER:-PT2H
ACTION:DISPLAY
DESCRIPTION:Foote vs. Now You Know
END:VALARM
END:VEVENT
BEGIN:VEVENT
UID:chandleraz-74023700-20260501T180000@quickscores.com
DTSTAMP:20260423T192200Z
DTSTART;TZID=America/Phoenix:20260501T180000
DURATION:PT1H0M0S
SUMMARY:Parks & Rec vs. Now You Know
DESCRIPTION:Beginner Mixed Doubles - Chandler AZ Parks and Recreation
LOCATION:Pickleball Court 10
CATEGORIES:QuickScores, Pickleball Game
TRANSP:OPAQUE
BEGIN:VALARM
TRIGGER:-PT2H
ACTION:DISPLAY
DESCRIPTION:Parks & Rec vs. Now You Know
END:VALARM
END:VEVENT
BEGIN:VEVENT
UID:chandleraz-74023697-20260501T190000@quickscores.com
DTSTAMP:20260423T192200Z
DTSTART;TZID=America/Phoenix:20260501T190000
DURATION:PT1H0M0S
SUMMARY:Now You Know vs. Howard and Joy
DESCRIPTION:Beginner Mixed Doubles - Chandler AZ Parks and Recreation
LOCATION:Pickleball Court 9
CATEGORIES:QuickScores, Pickleball Game
TRANSP:OPAQUE
BEGIN:VALARM
TRIGGER:-PT2H
ACTION:DISPLAY
DESCRIPTION:Now You Know vs. Howard and Joy
END:VALARM
END:VEVENT
BEGIN:VEVENT
UID:chandleraz-74023707-20260508T180000@quickscores.com
DTSTAMP:20260423T192200Z
DTSTART;TZID=America/Phoenix:20260508T180000
DURATION:PT1H0M0S
SUMMARY:Volley Llamas vs. Now You Know
DESCRIPTION:Beginner Mixed Doubles - Chandler AZ Parks and Recreation
LOCATION:Pickleball Court 5
CATEGORIES:QuickScores, Pickleball Game
TRANSP:OPAQUE
BEGIN:VALARM
TRIGGER:-PT2H
ACTION:DISPLAY
DESCRIPTION:Volley Llamas vs. Now You Know
END:VALARM
END:VEVENT
BEGIN:VEVENT
UID:chandleraz-74023704-20260508T190000@quickscores.com
DTSTAMP:20260423T192200Z
DTSTART;TZID=America/Phoenix:20260508T190000
DURATION:PT1H0M0S
SUMMARY:Now You Know vs. Paddlemates
DESCRIPTION:Beginner Mixed Doubles - Chandler AZ Parks and Recreation
LOCATION:Pickleball Court 5
CATEGORIES:QuickScores, Pickleball Game
TRANSP:OPAQUE
BEGIN:VALARM
TRIGGER:-PT2H
ACTION:DISPLAY
DESCRIPTION:Now You Know vs. Paddlemates
END:VALARM
END:VEVENT
BEGIN:VEVENT
UID:chandleraz-74023710-20260515T180000@quickscores.com
DTSTAMP:20260423T192200Z
DTSTART;TZID=America/Phoenix:20260515T180000
DURATION:PT1H0M0S
SUMMARY:Now You Know vs. The Spicy Spears
DESCRIPTION:Beginner Mixed Doubles - Chandler AZ Parks and Recreation
LOCATION:Pickleball Court 5
CATEGORIES:QuickScores, Pickleball Game
TRANSP:OPAQUE
BEGIN:VALARM
TRIGGER:-PT2H
ACTION:DISPLAY
DESCRIPTION:Now You Know vs. The Spicy Spears
END:VALARM
END:VEVENT
BEGIN:VEVENT
UID:chandleraz-74023717-20260515T190000@quickscores.com
DTSTAMP:20260423T192200Z
DTSTART;TZID=America/Phoenix:20260515T190000
DURATION:PT1H0M0S
SUMMARY:Now You Know vs. Foote
DESCRIPTION:Beginner Mixed Doubles - Chandler AZ Parks and Recreation
LOCATION:Pickleball Court 5
CATEGORIES:QuickScores, Pickleball Game
TRANSP:OPAQUE
BEGIN:VALARM
TRIGGER:-PT2H
ACTION:DISPLAY
DESCRIPTION:Now You Know vs. Foote
END:VALARM
END:VEVENT
END:VCALENDAR
