BEGIN:VCALENDAR
VERSION:2.0
PRODID:-//QuickScores.com//BQ Dynamic iCal Creator//EN
METHOD:PUBLISH
X-WR-CALNAME:RR 12U Warhawks - 12u Division I - CENTEX 2025
X-WR-CALDESC:QuickScores game calendar
X-PUBLISHED-TTL:PT24H
REFRESH-INTERVAL;VALUE=DURATION:PT24H
CALSCALE:GREGORIAN
BEGIN:VTIMEZONE
TZID:America/Chicago
X-LIC-LOCATION:America/Chicago
BEGIN:DAYLIGHT
TZNAME:CDT
TZOFFSETFROM:-0600
TZOFFSETTO:-0500
DTSTART:19700308T020000
RRULE:FREQ=YEARLY;BYMONTH=3;BYDAY=2SU
END:DAYLIGHT
BEGIN:STANDARD
TZNAME:CST
TZOFFSETFROM:-0500
TZOFFSETTO:-0600
DTSTART:19701101T020000
RRULE:FREQ=YEARLY;BYMONTH=11;BYDAY=1SU
END:STANDARD
END:VTIMEZONE
BEGIN:VEVENT
UID:centex-69333518-20250607T090000@quickscores.com
DTSTAMP:20260419T143500Z
DTSTART;TZID=America/Chicago:20250607T090000
DURATION:PT2H0M0S
SUMMARY:CP 12U Crew vs. RR 12U Warhawks
DESCRIPTION:CP #21-43,#24-34. RR #93-57,#7-26,#10-5 --- 12u Division I - Centex Tournament Series Schedules
LOCATION:GYBA Field 7
CATEGORIES:QuickScores, Baseball Game
TRANSP:OPAQUE
BEGIN:VALARM
TRIGGER:-PT2H
ACTION:DISPLAY
DESCRIPTION:CP 12U Crew vs. RR 12U Warhawks
END:VALARM
END:VEVENT
BEGIN:VEVENT
UID:centex-69333522-20250607T110000@quickscores.com
DTSTAMP:20260419T143500Z
DTSTART;TZID=America/Chicago:20250607T110000
DURATION:PT2H0M0S
SUMMARY:LT 12U All Stars vs. RR 12U Warhawks
DESCRIPTION:LT #18-43, #77-29,#40-10. RR #77-47,#5-8, #44-10. --- 12u Division I - Centex Tournament Series Schedules
LOCATION:GYBA Field 7
CATEGORIES:QuickScores, Baseball Game
TRANSP:OPAQUE
BEGIN:VALARM
TRIGGER:-PT2H
ACTION:DISPLAY
DESCRIPTION:LT 12U All Stars vs. RR 12U Warhawks
END:VALARM
END:VEVENT
BEGIN:VEVENT
UID:centex-69333528-20250608T090000@quickscores.com
DTSTAMP:20260419T143500Z
DTSTART;TZID=America/Chicago:20250608T090000
DURATION:PT2H0M0S
SUMMARY:RR 12U Warhawks vs. LE 12U Titans
DESCRIPTION:12u Division I - Centex Tournament Series Schedules
LOCATION:GYBA Field 7
CATEGORIES:QuickScores, Baseball Game
TRANSP:OPAQUE
BEGIN:VALARM
TRIGGER:-PT2H
ACTION:DISPLAY
DESCRIPTION:RR 12U Warhawks vs. LE 12U Titans
END:VALARM
END:VEVENT
BEGIN:VEVENT
UID:centex-69333538-20250614T170000@quickscores.com
DTSTAMP:20260419T143500Z
DTSTART;TZID=America/Chicago:20250614T170000
DURATION:PT2H0M0S
SUMMARY:RR 12U Warhawks vs. OH 12U Gold
DESCRIPTION:OH: #11 37, #7 25. RR: #93, #77 23, #5 52 --- 12u Division I - Centex Tournament Series Schedules
LOCATION:OHYSA Bronco Field
CATEGORIES:QuickScores, Baseball Game
TRANSP:OPAQUE
BEGIN:VALARM
TRIGGER:-PT2H
ACTION:DISPLAY
DESCRIPTION:RR 12U Warhawks vs. OH 12U Gold
END:VALARM
END:VEVENT
BEGIN:VEVENT
UID:centex-69333548-20250621T090000@quickscores.com
DTSTAMP:20260419T143500Z
DTSTART;TZID=America/Chicago:20250621T090000
DURATION:PT2H0M0S
SUMMARY:LH 12U Aces vs. RR 12U Warhawks
DESCRIPTION:LH #61-18#12-34#99-34. RR #93-47#21-40 --- 12u Division I - Centex Tournament Series Schedules
LOCATION:RRBL Field 15
CATEGORIES:QuickScores, Baseball Game
TRANSP:OPAQUE
BEGIN:VALARM
TRIGGER:-PT2H
ACTION:DISPLAY
DESCRIPTION:LH 12U Aces vs. RR 12U Warhawks
END:VALARM
END:VEVENT
BEGIN:VEVENT
UID:centex-69333549-20250621T110000@quickscores.com
DTSTAMP:20260419T143500Z
DTSTART;TZID=America/Chicago:20250621T110000
DURATION:PT2H0M0S
SUMMARY:RR 12U Warhawks vs. MO 12U BombSquad Blue
DESCRIPTION:RR #5-44#38-36#77-28. MO #8-17#11-28 --- 12u Division I - Centex Tournament Series Schedules
LOCATION:RRBL Field 15
CATEGORIES:QuickScores, Baseball Game
TRANSP:OPAQUE
BEGIN:VALARM
TRIGGER:-PT2H
ACTION:DISPLAY
DESCRIPTION:RR 12U Warhawks vs. MO 12U BombSquad Blue
END:VALARM
END:VEVENT
BEGIN:VEVENT
UID:centex-69333558-20250622T090000@quickscores.com
DTSTAMP:20260419T143500Z
DTSTART;TZID=America/Chicago:20250622T090000
DURATION:PT2H0M0S
SUMMARY:RR 12U Warhawks vs. TC 12U Storm
DESCRIPTION:RR #34-44#7-29#93-24. Tc #37-61#11-6 --- 12u Division I - Centex Tournament Series Schedules
LOCATION:RRBL Field 15
CATEGORIES:QuickScores, Baseball Game
TRANSP:OPAQUE
BEGIN:VALARM
TRIGGER:-PT2H
ACTION:DISPLAY
DESCRIPTION:RR 12U Warhawks vs. TC 12U Storm
END:VALARM
END:VEVENT
BEGIN:VEVENT
UID:centex-69333560-20250622T110000@quickscores.com
DTSTAMP:20260419T143500Z
DTSTART;TZID=America/Chicago:20250622T110000
DURATION:PT2H0M0S
SUMMARY:MO 12U Boltz (Red) vs. RR 12U Warhawks
DESCRIPTION:MO. #27-47#30-19#21#23. RR #10-51#5-25#14-3#93-12 --- 12u Division I - Centex Tournament Series Schedules
LOCATION:RRBL Field 15
CATEGORIES:QuickScores, Baseball Game
TRANSP:OPAQUE
BEGIN:VALARM
TRIGGER:-PT2H
ACTION:DISPLAY
DESCRIPTION:MO 12U Boltz (Red) vs. RR 12U Warhawks
END:VALARM
END:VEVENT
BEGIN:VEVENT
UID:centex-69565984-20250627T200000@quickscores.com
DTSTAMP:20260419T143500Z
DTSTART;TZID=America/Chicago:20250627T200000
DURATION:PT2H0M0S
SUMMARY:[6] RR 12U Warhawks vs. [11] TC 12U Storm
DESCRIPTION:TC. #33-34#37-45. RR. #14–44#77-39#21-28 --- 12u Division I - Centex Tournament Series Schedules
LOCATION:RRBL Field 12
CATEGORIES:QuickScores, Baseball Game
TRANSP:OPAQUE
BEGIN:VALARM
TRIGGER:-PT2H
ACTION:DISPLAY
DESCRIPTION:[6] RR 12U Warhawks vs. [11] TC 12U Storm
END:VALARM
END:VEVENT
BEGIN:VEVENT
UID:centex-69565996-20250628T120000@quickscores.com
DTSTAMP:20260419T143500Z
DTSTART;TZID=America/Chicago:20250628T120000
DURATION:PT2H0M0S
SUMMARY:[8] LT 12U All Stars vs. [6] RR 12U Warhawks
DESCRIPTION:RR: #44-28; LT: #7-50, #4-11, #18-15, #43-12. --- 12u Division I - Centex Tournament Series Schedules
LOCATION:RRBL Field 15
CATEGORIES:QuickScores, Baseball Game
TRANSP:OPAQUE
BEGIN:VALARM
TRIGGER:-PT2H
ACTION:DISPLAY
DESCRIPTION:[8] LT 12U All Stars vs. [6] RR 12U Warhawks
END:VALARM
END:VEVENT
BEGIN:VEVENT
UID:centex-69566000-20250628T160000@quickscores.com
DTSTAMP:20260419T143500Z
DTSTART;TZID=America/Chicago:20250628T160000
DURATION:PT2H0M0S
SUMMARY:[5] CP 12U Crew vs. [6] RR 12U Warhawks
DESCRIPTION:RR: #5-25, #44-27, #21-15; CP: #11-39, #48-19, #18-20. --- 12u Division I - Centex Tournament Series Schedules
LOCATION:RRBL Field 15
CATEGORIES:QuickScores, Baseball Game
TRANSP:OPAQUE
BEGIN:VALARM
TRIGGER:-PT2H
ACTION:DISPLAY
DESCRIPTION:[5] CP 12U Crew vs. [6] RR 12U Warhawks
END:VALARM
END:VEVENT
BEGIN:VEVENT
UID:centex-69566002-20250628T180000@quickscores.com
DTSTAMP:20260419T143500Z
DTSTART;TZID=America/Chicago:20250628T180000
DURATION:PT2H0M0S
SUMMARY:[3] MO 12U BombSquad Blue vs. [6] RR 12U Warhawks
DESCRIPTION:RR #44-27 #93-23 --- 12u Division I - Centex Tournament Series Schedules
LOCATION:RRBL Field 15
CATEGORIES:QuickScores, Baseball Game
TRANSP:OPAQUE
BEGIN:VALARM
TRIGGER:-PT2H
ACTION:DISPLAY
DESCRIPTION:[3] MO 12U BombSquad Blue vs. [6] RR 12U Warhawks
END:VALARM
END:VEVENT
BEGIN:VEVENT
UID:centex-69566004-20250629T080000@quickscores.com
DTSTAMP:20260419T143500Z
DTSTART;TZID=America/Chicago:20250629T080000
DURATION:PT2H0M0S
SUMMARY:[4] LH 12U Aces vs. [6] RR 12U Warhawks
DESCRIPTION:RR #5-29 #93-49 --- 12u Division I - Centex Tournament Series Schedules
LOCATION:RRBL Field 12
CATEGORIES:QuickScores, Baseball Game
TRANSP:OPAQUE
BEGIN:VALARM
TRIGGER:-PT2H
ACTION:DISPLAY
DESCRIPTION:[4] LH 12U Aces vs. [6] RR 12U Warhawks
END:VALARM
END:VEVENT
BEGIN:VEVENT
UID:centex-69566005-20250629T120000@quickscores.com
DTSTAMP:20260419T143500Z
DTSTART;TZID=America/Chicago:20250629T120000
DURATION:PT2H0M0S
SUMMARY:[2] OH 12U Green vs. [6] RR 12U Warhawks
DESCRIPTION:OH #10-49 --- 12u Division I - Centex Tournament Series Schedules
LOCATION:RRBL Field 12
CATEGORIES:QuickScores, Baseball Game
TRANSP:OPAQUE
BEGIN:VALARM
TRIGGER:-PT2H
ACTION:DISPLAY
DESCRIPTION:[2] OH 12U Green vs. [6] RR 12U Warhawks
END:VALARM
END:VEVENT
END:VCALENDAR
