BEGIN:VCALENDAR
VERSION:2.0
PRODID:-//QuickScores.com//BQ Dynamic iCal Creator//EN
METHOD:PUBLISH
X-WR-CALNAME:OH 12U Gold - 12u Division I - CENTEX 2025
X-WR-CALDESC:QuickScores game calendar
X-PUBLISHED-TTL:PT24H
REFRESH-INTERVAL;VALUE=DURATION:PT24H
CALSCALE:GREGORIAN
BEGIN:VTIMEZONE
TZID:America/Chicago
X-LIC-LOCATION:America/Chicago
BEGIN:DAYLIGHT
TZNAME:CDT
TZOFFSETFROM:-0600
TZOFFSETTO:-0500
DTSTART:19700308T020000
RRULE:FREQ=YEARLY;BYMONTH=3;BYDAY=2SU
END:DAYLIGHT
BEGIN:STANDARD
TZNAME:CST
TZOFFSETFROM:-0500
TZOFFSETTO:-0600
DTSTART:19701101T020000
RRULE:FREQ=YEARLY;BYMONTH=11;BYDAY=1SU
END:STANDARD
END:VTIMEZONE
BEGIN:VEVENT
UID:centex-69333517-20250607T090000@quickscores.com
DTSTAMP:20260419T215600Z
DTSTART;TZID=America/Chicago:20250607T090000
DURATION:PT2H0M0S
SUMMARY:LH 12U Aces vs. OH 12U Gold
DESCRIPTION:LH #99-24,#7-32,#61-27,#10-39.  OH #6-72,#9-39,5-17 --- 12u Division I - Centex Tournament Series Schedules
LOCATION:GYBA Field 6
CATEGORIES:QuickScores, Baseball Game
TRANSP:OPAQUE
BEGIN:VALARM
TRIGGER:-PT2H
ACTION:DISPLAY
DESCRIPTION:LH 12U Aces vs. OH 12U Gold
END:VALARM
END:VEVENT
BEGIN:VEVENT
UID:centex-69333515-20250607T130000@quickscores.com
DTSTAMP:20260419T215600Z
DTSTART;TZID=America/Chicago:20250607T130000
DURATION:PT2H0M0S
SUMMARY:GT 12U Havok vs. OH 12U Gold
DESCRIPTION:GT #7-31,#12-23,#8-15.  OH #1-33 --- 12u Division I - Centex Tournament Series Schedules
LOCATION:GYBA Field 7
CATEGORIES:QuickScores, Baseball Game
TRANSP:OPAQUE
BEGIN:VALARM
TRIGGER:-PT2H
ACTION:DISPLAY
DESCRIPTION:GT 12U Havok vs. OH 12U Gold
END:VALARM
END:VEVENT
BEGIN:VEVENT
UID:centex-69333527-20250608T110000@quickscores.com
DTSTAMP:20260419T215600Z
DTSTART;TZID=America/Chicago:20250608T110000
DURATION:PT2H0M0S
SUMMARY:OH 12U Gold vs. CP 12U Crew
DESCRIPTION:12u Division I - Centex Tournament Series Schedules
LOCATION:GYBA Field 7
CATEGORIES:QuickScores, Baseball Game
TRANSP:OPAQUE
BEGIN:VALARM
TRIGGER:-PT2H
ACTION:DISPLAY
DESCRIPTION:OH 12U Gold vs. CP 12U Crew
END:VALARM
END:VEVENT
BEGIN:VEVENT
UID:centex-69333538-20250614T170000@quickscores.com
DTSTAMP:20260419T215600Z
DTSTART;TZID=America/Chicago:20250614T170000
DURATION:PT2H0M0S
SUMMARY:RR 12U Warhawks vs. OH 12U Gold
DESCRIPTION:OH: #11 37, #7 25. RR: #93, #77 23, #5 52 --- 12u Division I - Centex Tournament Series Schedules
LOCATION:OHYSA Bronco Field
CATEGORIES:QuickScores, Baseball Game
TRANSP:OPAQUE
BEGIN:VALARM
TRIGGER:-PT2H
ACTION:DISPLAY
DESCRIPTION:RR 12U Warhawks vs. OH 12U Gold
END:VALARM
END:VEVENT
BEGIN:VEVENT
UID:centex-69333542-20250615T090000@quickscores.com
DTSTAMP:20260419T215600Z
DTSTART;TZID=America/Chicago:20250615T090000
DURATION:PT2H0M0S
SUMMARY:OH 12U Gold vs. OH 12U Green
DESCRIPTION:OH Gold: #10 27, #6 33, #9 41, #11 28. OH Green: #12 68, #11 45 --- 12u Division I - Centex Tournament Series Schedules
LOCATION:OHYSA Bronco Field
CATEGORIES:QuickScores, Baseball Game
TRANSP:OPAQUE
BEGIN:VALARM
TRIGGER:-PT2H
ACTION:DISPLAY
DESCRIPTION:OH 12U Gold vs. OH 12U Green
END:VALARM
END:VEVENT
BEGIN:VEVENT
UID:centex-69333552-20250621T110000@quickscores.com
DTSTAMP:20260419T215600Z
DTSTART;TZID=America/Chicago:20250621T110000
DURATION:PT2H0M0S
SUMMARY:OH 12U Gold vs. TC 12U Storm
DESCRIPTION:OH #6-57,#9-38. TC #33-74#6-65 --- 12u Division I - Centex Tournament Series Schedules
LOCATION:RRBL Field 12
CATEGORIES:QuickScores, Baseball Game
TRANSP:OPAQUE
BEGIN:VALARM
TRIGGER:-PT2H
ACTION:DISPLAY
DESCRIPTION:OH 12U Gold vs. TC 12U Storm
END:VALARM
END:VEVENT
BEGIN:VEVENT
UID:centex-69333554-20250621T130000@quickscores.com
DTSTAMP:20260419T215600Z
DTSTART;TZID=America/Chicago:20250621T130000
DURATION:PT2H0M0S
SUMMARY:LT 12U All Stars vs. OH 12U Gold
DESCRIPTION:LT #18-64.  OH #11-53, #7-18 --- 12u Division I - Centex Tournament Series Schedules
LOCATION:RRBL Field 12
CATEGORIES:QuickScores, Baseball Game
TRANSP:OPAQUE
BEGIN:VALARM
TRIGGER:-PT2H
ACTION:DISPLAY
DESCRIPTION:LT 12U All Stars vs. OH 12U Gold
END:VALARM
END:VEVENT
BEGIN:VEVENT
UID:centex-69333562-20250622T150000@quickscores.com
DTSTAMP:20260419T215600Z
DTSTART;TZID=America/Chicago:20250622T150000
DURATION:PT2H0M0S
SUMMARY:OH 12U Gold vs. MO 12U BombSquad Blue
DESCRIPTION:12u Division I - Centex Tournament Series Schedules
LOCATION:RRBL Field 15
CATEGORIES:QuickScores, Baseball Game
TRANSP:OPAQUE
BEGIN:VALARM
TRIGGER:-PT2H
ACTION:DISPLAY
DESCRIPTION:OH 12U Gold vs. MO 12U BombSquad Blue
END:VALARM
END:VEVENT
BEGIN:VEVENT
UID:centex-69565982-20250627T180000@quickscores.com
DTSTAMP:20260419T215600Z
DTSTART;TZID=America/Chicago:20250627T180000
DURATION:PT2H0M0S
SUMMARY:[7] OH 12U Gold vs. [10] GT 12U Havok
DESCRIPTION:OH #1-24#10-20. GT. #15-37#7-45 --- 12u Division I - Centex Tournament Series Schedules
LOCATION:RRBL Field 15
CATEGORIES:QuickScores, Baseball Game
TRANSP:OPAQUE
BEGIN:VALARM
TRIGGER:-PT2H
ACTION:DISPLAY
DESCRIPTION:[7] OH 12U Gold vs. [10] GT 12U Havok
END:VALARM
END:VEVENT
BEGIN:VEVENT
UID:centex-69565987-20250628T080000@quickscores.com
DTSTAMP:20260419T215600Z
DTSTART;TZID=America/Chicago:20250628T080000
DURATION:PT2H0M0S
SUMMARY:[2] OH 12U Green vs. [7] OH 12U Gold
DESCRIPTION:OHGreen #10-28, #7-46.  OHGold #11-34, #7-32, #13-27, #3-18. --- 12u Division I - Centex Tournament Series Schedules
LOCATION:RRBL Field 15
CATEGORIES:QuickScores, Baseball Game
TRANSP:OPAQUE
BEGIN:VALARM
TRIGGER:-PT2H
ACTION:DISPLAY
DESCRIPTION:[2] OH 12U Green vs. [7] OH 12U Gold
END:VALARM
END:VEVENT
BEGIN:VEVENT
UID:centex-69565999-20250628T160000@quickscores.com
DTSTAMP:20260419T215600Z
DTSTART;TZID=America/Chicago:20250628T160000
DURATION:PT2H0M0S
SUMMARY:[11] TC 12U Storm vs. [7] OH 12U Gold
DESCRIPTION:OH: #3-45, #10-22; TC: #6-29, #37-24, #33-19, #11-16. --- 12u Division I - Centex Tournament Series Schedules
LOCATION:RRBL Field 12
CATEGORIES:QuickScores, Baseball Game
TRANSP:OPAQUE
BEGIN:VALARM
TRIGGER:-PT2H
ACTION:DISPLAY
DESCRIPTION:[11] TC 12U Storm vs. [7] OH 12U Gold
END:VALARM
END:VEVENT
BEGIN:VEVENT
UID:centex-69566001-20250628T180000@quickscores.com
DTSTAMP:20260419T215600Z
DTSTART;TZID=America/Chicago:20250628T180000
DURATION:PT2H0M0S
SUMMARY:[4] LH 12U Aces vs. [7] OH 12U Gold
DESCRIPTION:LH. #10-83 #1-8 --- 12u Division I - Centex Tournament Series Schedules
LOCATION:RRBL Field 12
CATEGORIES:QuickScores, Baseball Game
TRANSP:OPAQUE
BEGIN:VALARM
TRIGGER:-PT2H
ACTION:DISPLAY
DESCRIPTION:[4] LH 12U Aces vs. [7] OH 12U Gold
END:VALARM
END:VEVENT
END:VCALENDAR
