BEGIN:VCALENDAR
VERSION:2.0
PRODID:-//QuickScores.com//BQ Dynamic iCal Creator//EN
METHOD:PUBLISH
X-WR-CALNAME:LT 12U All Stars - 12u Division I - CENTEX 2025
X-WR-CALDESC:QuickScores game calendar
X-PUBLISHED-TTL:PT24H
REFRESH-INTERVAL;VALUE=DURATION:PT24H
CALSCALE:GREGORIAN
BEGIN:VTIMEZONE
TZID:America/Chicago
X-LIC-LOCATION:America/Chicago
BEGIN:DAYLIGHT
TZNAME:CDT
TZOFFSETFROM:-0600
TZOFFSETTO:-0500
DTSTART:19700308T020000
RRULE:FREQ=YEARLY;BYMONTH=3;BYDAY=2SU
END:DAYLIGHT
BEGIN:STANDARD
TZNAME:CST
TZOFFSETFROM:-0500
TZOFFSETTO:-0600
DTSTART:19701101T020000
RRULE:FREQ=YEARLY;BYMONTH=11;BYDAY=1SU
END:STANDARD
END:VTIMEZONE
BEGIN:VEVENT
UID:centex-69333522-20250607T110000@quickscores.com
DTSTAMP:20260419T161200Z
DTSTART;TZID=America/Chicago:20250607T110000
DURATION:PT2H0M0S
SUMMARY:LT 12U All Stars vs. RR 12U Warhawks
DESCRIPTION:LT #18-43, #77-29,#40-10. RR #77-47,#5-8, #44-10. --- 12u Division I - Centex Tournament Series Schedules
LOCATION:GYBA Field 7
CATEGORIES:QuickScores, Baseball Game
TRANSP:OPAQUE
BEGIN:VALARM
TRIGGER:-PT2H
ACTION:DISPLAY
DESCRIPTION:LT 12U All Stars vs. RR 12U Warhawks
END:VALARM
END:VEVENT
BEGIN:VEVENT
UID:centex-69333520-20250607T150000@quickscores.com
DTSTAMP:20260419T161200Z
DTSTART;TZID=America/Chicago:20250607T150000
DURATION:PT2H0M0S
SUMMARY:GT 12U Havok vs. LT 12U All Stars
DESCRIPTION:GT. #15-46,#24-38,#12-2. LT. #7-42 --- 12u Division I - Centex Tournament Series Schedules
LOCATION:GYBA Field 7
CATEGORIES:QuickScores, Baseball Game
TRANSP:OPAQUE
BEGIN:VALARM
TRIGGER:-PT2H
ACTION:DISPLAY
DESCRIPTION:GT 12U Havok vs. LT 12U All Stars
END:VALARM
END:VEVENT
BEGIN:VEVENT
UID:centex-69333529-20250608T130000@quickscores.com
DTSTAMP:20260419T161200Z
DTSTART;TZID=America/Chicago:20250608T130000
DURATION:PT2H0M0S
SUMMARY:TC 12U Storm vs. LT 12U All Stars
DESCRIPTION:12u Division I - Centex Tournament Series Schedules
LOCATION:GYBA Field 7
CATEGORIES:QuickScores, Baseball Game
TRANSP:OPAQUE
BEGIN:VALARM
TRIGGER:-PT2H
ACTION:DISPLAY
DESCRIPTION:TC 12U Storm vs. LT 12U All Stars
END:VALARM
END:VEVENT
BEGIN:VEVENT
UID:centex-69333533-20250614T090000@quickscores.com
DTSTAMP:20260419T161200Z
DTSTART;TZID=America/Chicago:20250614T090000
DURATION:PT2H0M0S
SUMMARY:OH 12U Green vs. LT 12U All Stars
DESCRIPTION:LT: # 18 44, #732, #77 1. OH: #2 60, #4 37, #9 7 --- 12u Division I - Centex Tournament Series Schedules
LOCATION:OHYSA Bronco Field
CATEGORIES:QuickScores, Baseball Game
TRANSP:OPAQUE
BEGIN:VALARM
TRIGGER:-PT2H
ACTION:DISPLAY
DESCRIPTION:OH 12U Green vs. LT 12U All Stars
END:VALARM
END:VEVENT
BEGIN:VEVENT
UID:centex-69333536-20250614T110000@quickscores.com
DTSTAMP:20260419T161200Z
DTSTART;TZID=America/Chicago:20250614T110000
DURATION:PT2H0M0S
SUMMARY:LT 12U All Stars vs. LH 12U Aces
DESCRIPTION:LT: #40 29, #18 20, #77 20. LH: #16 41, #1 26 --- 12u Division I - Centex Tournament Series Schedules
LOCATION:OHYSA Bronco Field
CATEGORIES:QuickScores, Baseball Game
TRANSP:OPAQUE
BEGIN:VALARM
TRIGGER:-PT2H
ACTION:DISPLAY
DESCRIPTION:LT 12U All Stars vs. LH 12U Aces
END:VALARM
END:VEVENT
BEGIN:VEVENT
UID:centex-69333543-20250615T090000@quickscores.com
DTSTAMP:20260419T161200Z
DTSTART;TZID=America/Chicago:20250615T090000
DURATION:PT2H0M0S
SUMMARY:MO 12U Boltz (Red) vs. LT 12U All Stars
DESCRIPTION:LT: #7 36, #4 23. MO: #22 52 #12 29. --- 12u Division I - Centex Tournament Series Schedules
LOCATION:OHYSA Big Softball Field
CATEGORIES:QuickScores, Baseball Game
TRANSP:OPAQUE
BEGIN:VALARM
TRIGGER:-PT2H
ACTION:DISPLAY
DESCRIPTION:MO 12U Boltz (Red) vs. LT 12U All Stars
END:VALARM
END:VEVENT
BEGIN:VEVENT
UID:centex-69333554-20250621T130000@quickscores.com
DTSTAMP:20260419T161200Z
DTSTART;TZID=America/Chicago:20250621T130000
DURATION:PT2H0M0S
SUMMARY:LT 12U All Stars vs. OH 12U Gold
DESCRIPTION:LT #18-64.  OH #11-53, #7-18 --- 12u Division I - Centex Tournament Series Schedules
LOCATION:RRBL Field 12
CATEGORIES:QuickScores, Baseball Game
TRANSP:OPAQUE
BEGIN:VALARM
TRIGGER:-PT2H
ACTION:DISPLAY
DESCRIPTION:LT 12U All Stars vs. OH 12U Gold
END:VALARM
END:VEVENT
BEGIN:VEVENT
UID:centex-69333551-20250621T150000@quickscores.com
DTSTAMP:20260419T161200Z
DTSTART;TZID=America/Chicago:20250621T150000
DURATION:PT2H0M0S
SUMMARY:LT 12U All Stars vs. LE 12U Titans
DESCRIPTION:LT #77-56, #40-38.  LE #9-76 --- 12u Division I - Centex Tournament Series Schedules
LOCATION:RRBL Field 12
CATEGORIES:QuickScores, Baseball Game
TRANSP:OPAQUE
BEGIN:VALARM
TRIGGER:-PT2H
ACTION:DISPLAY
DESCRIPTION:LT 12U All Stars vs. LE 12U Titans
END:VALARM
END:VEVENT
BEGIN:VEVENT
UID:centex-69333526-20250622T150000@quickscores.com
DTSTAMP:20260419T161200Z
DTSTART;TZID=America/Chicago:20250622T150000
DURATION:PT2H0M0S
SUMMARY:LT 12U All Stars vs. CP 12U Crew
DESCRIPTION:12u Division I - Centex Tournament Series Schedules
LOCATION:RRBL Field 12
CATEGORIES:QuickScores, Baseball Game
TRANSP:OPAQUE
BEGIN:VALARM
TRIGGER:-PT2H
ACTION:DISPLAY
DESCRIPTION:LT 12U All Stars vs. CP 12U Crew
END:VALARM
END:VEVENT
BEGIN:VEVENT
UID:centex-69565978-20250627T180000@quickscores.com
DTSTAMP:20260419T161200Z
DTSTART;TZID=America/Chicago:20250627T180000
DURATION:PT2H0M0S
SUMMARY:[8] LT 12U All Stars vs. [9] MO 12U Boltz (Red)
DESCRIPTION:LT #18-70. MO #27-46#23-27 --- 12u Division I - Centex Tournament Series Schedules
LOCATION:RRBL Field 12
CATEGORIES:QuickScores, Baseball Game
TRANSP:OPAQUE
BEGIN:VALARM
TRIGGER:-PT2H
ACTION:DISPLAY
DESCRIPTION:[8] LT 12U All Stars vs. [9] MO 12U Boltz (Red)
END:VALARM
END:VEVENT
BEGIN:VEVENT
UID:centex-69565985-20250628T080000@quickscores.com
DTSTAMP:20260419T161200Z
DTSTART;TZID=America/Chicago:20250628T080000
DURATION:PT2H0M0S
SUMMARY:[1] LE 12U Titans vs. [8] LT 12U All Stars
DESCRIPTION:LE #4-70.  LT #40-81. --- 12u Division I - Centex Tournament Series Schedules
LOCATION:RRBL Field 12
CATEGORIES:QuickScores, Baseball Game
TRANSP:OPAQUE
BEGIN:VALARM
TRIGGER:-PT2H
ACTION:DISPLAY
DESCRIPTION:[1] LE 12U Titans vs. [8] LT 12U All Stars
END:VALARM
END:VEVENT
BEGIN:VEVENT
UID:centex-69565996-20250628T120000@quickscores.com
DTSTAMP:20260419T161200Z
DTSTART;TZID=America/Chicago:20250628T120000
DURATION:PT2H0M0S
SUMMARY:[8] LT 12U All Stars vs. [6] RR 12U Warhawks
DESCRIPTION:RR: #44-28; LT: #7-50, #4-11, #18-15, #43-12. --- 12u Division I - Centex Tournament Series Schedules
LOCATION:RRBL Field 15
CATEGORIES:QuickScores, Baseball Game
TRANSP:OPAQUE
BEGIN:VALARM
TRIGGER:-PT2H
ACTION:DISPLAY
DESCRIPTION:[8] LT 12U All Stars vs. [6] RR 12U Warhawks
END:VALARM
END:VEVENT
END:VCALENDAR
