BEGIN:VCALENDAR
VERSION:2.0
PRODID:-//QuickScores.com//BQ Dynamic iCal Creator//EN
METHOD:PUBLISH
X-WR-CALNAME:TC 14U Eagles - 14u Division - CENTEX 2025
X-WR-CALDESC:QuickScores game calendar
X-PUBLISHED-TTL:PT24H
REFRESH-INTERVAL;VALUE=DURATION:PT24H
CALSCALE:GREGORIAN
BEGIN:VTIMEZONE
TZID:America/Chicago
X-LIC-LOCATION:America/Chicago
BEGIN:DAYLIGHT
TZNAME:CDT
TZOFFSETFROM:-0600
TZOFFSETTO:-0500
DTSTART:19700308T020000
RRULE:FREQ=YEARLY;BYMONTH=3;BYDAY=2SU
END:DAYLIGHT
BEGIN:STANDARD
TZNAME:CST
TZOFFSETFROM:-0500
TZOFFSETTO:-0600
DTSTART:19701101T020000
RRULE:FREQ=YEARLY;BYMONTH=11;BYDAY=1SU
END:STANDARD
END:VTIMEZONE
BEGIN:VEVENT
UID:centex-69338883-20250606T180000@quickscores.com
DTSTAMP:20260425T231700Z
DTSTART;TZID=America/Chicago:20250606T180000
DURATION:PT2H0M0S
SUMMARY:LE 14U Warriors vs. TC 14U Eagles
DESCRIPTION:PC: TC #18 (84); LE #5 (72), #7 (55) --- 14u Division - Centex Tournament Series Schedules
LOCATION:TC Field 14
CATEGORIES:QuickScores, Baseball Game
TRANSP:OPAQUE
BEGIN:VALARM
TRIGGER:-PT2H
ACTION:DISPLAY
DESCRIPTION:LE 14U Warriors vs. TC 14U Eagles
END:VALARM
END:VEVENT
BEGIN:VEVENT
UID:centex-69338884-20250606T200000@quickscores.com
DTSTAMP:20260425T231700Z
DTSTART;TZID=America/Chicago:20250606T200000
DURATION:PT2H0M0S
SUMMARY:TC 14U Eagles vs. RR 14U Rattlers
DESCRIPTION:PC: TC #3 (33), #9 (26), #27 (36), #18 (11), #11 (6); RR #25 (38), #43 (35), #44 (34) --- 14u Division - Centex Tournament Series Schedules
LOCATION:TC Field 14
CATEGORIES:QuickScores, Baseball Game
TRANSP:OPAQUE
BEGIN:VALARM
TRIGGER:-PT2H
ACTION:DISPLAY
DESCRIPTION:TC 14U Eagles vs. RR 14U Rattlers
END:VALARM
END:VEVENT
BEGIN:VEVENT
UID:centex-69338880-20250608T120000@quickscores.com
DTSTAMP:20260425T231700Z
DTSTART;TZID=America/Chicago:20250608T120000
DURATION:PT2H0M0S
SUMMARY:TC 14U Eagles vs. MO 14U Matadors
DESCRIPTION:TC #9-46,#11-24,#27-45,#3-3. MO #29-50,#2-34 --- 14u Division - Centex Tournament Series Schedules
LOCATION:TC Field 14
CATEGORIES:QuickScores, Baseball Game
TRANSP:OPAQUE
BEGIN:VALARM
TRIGGER:-PT2H
ACTION:DISPLAY
DESCRIPTION:TC 14U Eagles vs. MO 14U Matadors
END:VALARM
END:VEVENT
BEGIN:VEVENT
UID:centex-69338888-20250614T100000@quickscores.com
DTSTAMP:20260425T231700Z
DTSTART;TZID=America/Chicago:20250614T100000
DURATION:PT2H0M0S
SUMMARY:LV 14U Vikings vs. TC 14U Eagles
DESCRIPTION:TC #18-50, #9-20 / LV #34-54, #8-32, #99-45 --- 14u Division - Centex Tournament Series Schedules
LOCATION:MOYSC Field 5
CATEGORIES:QuickScores, Baseball Game
TRANSP:OPAQUE
BEGIN:VALARM
TRIGGER:-PT2H
ACTION:DISPLAY
DESCRIPTION:LV 14U Vikings vs. TC 14U Eagles
END:VALARM
END:VEVENT
BEGIN:VEVENT
UID:centex-69338886-20250614T120000@quickscores.com
DTSTAMP:20260425T231700Z
DTSTART;TZID=America/Chicago:20250614T120000
DURATION:PT2H0M0S
SUMMARY:TC 14U Eagles vs. MF 14U Mustangs
DESCRIPTION:TC #18-43, #3-36, #11-22 / MF #7-94 --- 14u Division - Centex Tournament Series Schedules
LOCATION:MOYSC Field 5
CATEGORIES:QuickScores, Baseball Game
TRANSP:OPAQUE
BEGIN:VALARM
TRIGGER:-PT2H
ACTION:DISPLAY
DESCRIPTION:TC 14U Eagles vs. MF 14U Mustangs
END:VALARM
END:VEVENT
BEGIN:VEVENT
UID:centex-69338891-20250615T080000@quickscores.com
DTSTAMP:20260425T231700Z
DTSTART;TZID=America/Chicago:20250615T080000
DURATION:PT2H0M0S
SUMMARY:MO 14U Dirtbags vs. TC 14U Eagles
DESCRIPTION:TC #11-28, #27-45, #9-27 / MO #8-66, #44-21 --- 14u Division - Centex Tournament Series Schedules
LOCATION:MOYSC Field 5
CATEGORIES:QuickScores, Baseball Game
TRANSP:OPAQUE
BEGIN:VALARM
TRIGGER:-PT2H
ACTION:DISPLAY
DESCRIPTION:MO 14U Dirtbags vs. TC 14U Eagles
END:VALARM
END:VEVENT
BEGIN:VEVENT
UID:centex-69338912-20250621T080000@quickscores.com
DTSTAMP:20260425T231700Z
DTSTART;TZID=America/Chicago:20250621T080000
DURATION:PT2H0M0S
SUMMARY:GT 14U GTX Bulldogs vs. TC 14U Eagles
DESCRIPTION:GT #34-57, #7-57, #9-9. TC #18-45,#3-23#9-18 --- 14u Division - Centex Tournament Series Schedules
LOCATION:RRBL Field 13
CATEGORIES:QuickScores, Baseball Game
TRANSP:OPAQUE
BEGIN:VALARM
TRIGGER:-PT2H
ACTION:DISPLAY
DESCRIPTION:GT 14U GTX Bulldogs vs. TC 14U Eagles
END:VALARM
END:VEVENT
BEGIN:VEVENT
UID:centex-69338902-20250622T100000@quickscores.com
DTSTAMP:20260425T231700Z
DTSTART;TZID=America/Chicago:20250622T100000
DURATION:PT2H0M0S
SUMMARY:TC 14U Eagles vs. LH 14U Stallions
DESCRIPTION:TC #18-50#9-21. LH. #10-38#24-35#29-37 --- 14u Division - Centex Tournament Series Schedules
LOCATION:RRBL Field 14
CATEGORIES:QuickScores, Baseball Game
TRANSP:OPAQUE
BEGIN:VALARM
TRIGGER:-PT2H
ACTION:DISPLAY
DESCRIPTION:TC 14U Eagles vs. LH 14U Stallions
END:VALARM
END:VEVENT
BEGIN:VEVENT
UID:centex-69338908-20250622T140000@quickscores.com
DTSTAMP:20260425T231700Z
DTSTART;TZID=America/Chicago:20250622T140000
DURATION:PT2H0M0S
SUMMARY:SM 14U Rattlers vs. TC 14U Eagles
DESCRIPTION:14u Division - Centex Tournament Series Schedules
LOCATION:RRBL Field 13
CATEGORIES:QuickScores, Baseball Game
TRANSP:OPAQUE
BEGIN:VALARM
TRIGGER:-PT2H
ACTION:DISPLAY
DESCRIPTION:SM 14U Rattlers vs. TC 14U Eagles
END:VALARM
END:VEVENT
BEGIN:VEVENT
UID:centex-69566612-20250627T200000@quickscores.com
DTSTAMP:20260425T231700Z
DTSTART;TZID=America/Chicago:20250627T200000
DURATION:PT2H0M0S
SUMMARY:[3] MO 14U Dirtbags vs. [6] TC 14U Eagles
DESCRIPTION:MO #5-61#44-22#8-50. TC. #18-61#3-14 --- 14u Division - Centex Tournament Series Schedules
LOCATION:RRBL Field 14
CATEGORIES:QuickScores, Baseball Game
TRANSP:OPAQUE
BEGIN:VALARM
TRIGGER:-PT2H
ACTION:DISPLAY
DESCRIPTION:[3] MO 14U Dirtbags vs. [6] TC 14U Eagles
END:VALARM
END:VEVENT
BEGIN:VEVENT
UID:centex-69566622-20250628T120000@quickscores.com
DTSTAMP:20260425T231700Z
DTSTART;TZID=America/Chicago:20250628T120000
DURATION:PT2H0M0S
SUMMARY:[2] RR 14U Rattlers vs. [6] TC 14U Eagles
DESCRIPTION:TC: #03-81, #09-26; RR: #43-68, #25-13. --- 14u Division - Centex Tournament Series Schedules
LOCATION:RRBL Field 14
CATEGORIES:QuickScores, Baseball Game
TRANSP:OPAQUE
BEGIN:VALARM
TRIGGER:-PT2H
ACTION:DISPLAY
DESCRIPTION:[2] RR 14U Rattlers vs. [6] TC 14U Eagles
END:VALARM
END:VEVENT
BEGIN:VEVENT
UID:centex-69566626-20250628T160000@quickscores.com
DTSTAMP:20260425T231700Z
DTSTART;TZID=America/Chicago:20250628T160000
DURATION:PT2H0M0S
SUMMARY:[6] TC 14U Eagles vs. [4] GT 14U GTX Bulldogs
DESCRIPTION:GT: #18-44, #15-26; TC: #09-32, #18-32, #27-19. --- 14u Division - Centex Tournament Series Schedules
LOCATION:RRBL Field 14
CATEGORIES:QuickScores, Baseball Game
TRANSP:OPAQUE
BEGIN:VALARM
TRIGGER:-PT2H
ACTION:DISPLAY
DESCRIPTION:[6] TC 14U Eagles vs. [4] GT 14U GTX Bulldogs
END:VALARM
END:VEVENT
END:VCALENDAR
