BEGIN:VCALENDAR
VERSION:2.0
PRODID:-//QuickScores.com//BQ Dynamic iCal Creator//EN
METHOD:PUBLISH
X-WR-CALNAME:RR 14U Rattlers - 14u Division - CENTEX 2025
X-WR-CALDESC:QuickScores game calendar
X-PUBLISHED-TTL:PT24H
REFRESH-INTERVAL;VALUE=DURATION:PT24H
CALSCALE:GREGORIAN
BEGIN:VTIMEZONE
TZID:America/Chicago
X-LIC-LOCATION:America/Chicago
BEGIN:DAYLIGHT
TZNAME:CDT
TZOFFSETFROM:-0600
TZOFFSETTO:-0500
DTSTART:19700308T020000
RRULE:FREQ=YEARLY;BYMONTH=3;BYDAY=2SU
END:DAYLIGHT
BEGIN:STANDARD
TZNAME:CST
TZOFFSETFROM:-0500
TZOFFSETTO:-0600
DTSTART:19701101T020000
RRULE:FREQ=YEARLY;BYMONTH=11;BYDAY=1SU
END:STANDARD
END:VTIMEZONE
BEGIN:VEVENT
UID:centex-69338884-20250606T200000@quickscores.com
DTSTAMP:20260425T085100Z
DTSTART;TZID=America/Chicago:20250606T200000
DURATION:PT2H0M0S
SUMMARY:TC 14U Eagles vs. RR 14U Rattlers
DESCRIPTION:PC: TC #3 (33), #9 (26), #27 (36), #18 (11), #11 (6); RR #25 (38), #43 (35), #44 (34) --- 14u Division - Centex Tournament Series Schedules
LOCATION:TC Field 14
CATEGORIES:QuickScores, Baseball Game
TRANSP:OPAQUE
BEGIN:VALARM
TRIGGER:-PT2H
ACTION:DISPLAY
DESCRIPTION:TC 14U Eagles vs. RR 14U Rattlers
END:VALARM
END:VEVENT
BEGIN:VEVENT
UID:centex-69338873-20250607T140000@quickscores.com
DTSTAMP:20260425T085100Z
DTSTART;TZID=America/Chicago:20250607T140000
DURATION:PT2H0M0S
SUMMARY:RR 14U Rattlers vs. SM 14U Rattlers
DESCRIPTION:RR: #10 (46); SM: #13 (15), #9 (40), #24 (40) --- 14u Division - Centex Tournament Series Schedules
LOCATION:TC Field 14
CATEGORIES:QuickScores, Baseball Game
TRANSP:OPAQUE
BEGIN:VALARM
TRIGGER:-PT2H
ACTION:DISPLAY
DESCRIPTION:RR 14U Rattlers vs. SM 14U Rattlers
END:VALARM
END:VEVENT
BEGIN:VEVENT
UID:centex-69338877-20250607T160000@quickscores.com
DTSTAMP:20260425T085100Z
DTSTART;TZID=America/Chicago:20250607T160000
DURATION:PT2H0M0S
SUMMARY:RR 14U Rattlers vs. MO 14U Dirtbags
DESCRIPTION:RR: #34 (56), #21 (41); MO: #30 (77), #44 (38) --- 14u Division - Centex Tournament Series Schedules
LOCATION:TC Field 14
CATEGORIES:QuickScores, Baseball Game
TRANSP:OPAQUE
BEGIN:VALARM
TRIGGER:-PT2H
ACTION:DISPLAY
DESCRIPTION:RR 14U Rattlers vs. MO 14U Dirtbags
END:VALARM
END:VEVENT
BEGIN:VEVENT
UID:centex-69338887-20250614T080000@quickscores.com
DTSTAMP:20260425T085100Z
DTSTART;TZID=America/Chicago:20250614T080000
DURATION:PT2H0M0S
SUMMARY:MO 14U Matadors vs. RR 14U Rattlers
DESCRIPTION:RR #44-50, #34-44 / MO #23-66, #2-17 --- 14u Division - Centex Tournament Series Schedules
LOCATION:MOYSC Field 5
CATEGORIES:QuickScores, Baseball Game
TRANSP:OPAQUE
BEGIN:VALARM
TRIGGER:-PT2H
ACTION:DISPLAY
DESCRIPTION:MO 14U Matadors vs. RR 14U Rattlers
END:VALARM
END:VEVENT
BEGIN:VEVENT
UID:centex-69338892-20250615T100000@quickscores.com
DTSTAMP:20260425T085100Z
DTSTART;TZID=America/Chicago:20250615T100000
DURATION:PT2H0M0S
SUMMARY:RR 14U Rattlers vs. LH 14U Stallions
DESCRIPTION:LH #27-37, #29-66 / RR #77-27, #10-32 --- 14u Division - Centex Tournament Series Schedules
LOCATION:MOYSC Field 5
CATEGORIES:QuickScores, Baseball Game
TRANSP:OPAQUE
BEGIN:VALARM
TRIGGER:-PT2H
ACTION:DISPLAY
DESCRIPTION:RR 14U Rattlers vs. LH 14U Stallions
END:VALARM
END:VEVENT
BEGIN:VEVENT
UID:centex-69338910-20250621T080000@quickscores.com
DTSTAMP:20260425T085100Z
DTSTART;TZID=America/Chicago:20250621T080000
DURATION:PT2H0M0S
SUMMARY:LV 14U Vikings vs. RR 14U Rattlers
DESCRIPTION:LV #34-33,#87-70.  RR #33-57,#25-15#10-40 --- 14u Division - Centex Tournament Series Schedules
LOCATION:RRBL Field 14
CATEGORIES:QuickScores, Baseball Game
TRANSP:OPAQUE
BEGIN:VALARM
TRIGGER:-PT2H
ACTION:DISPLAY
DESCRIPTION:LV 14U Vikings vs. RR 14U Rattlers
END:VALARM
END:VEVENT
BEGIN:VEVENT
UID:centex-69338911-20250621T100000@quickscores.com
DTSTAMP:20260425T085100Z
DTSTART;TZID=America/Chicago:20250621T100000
DURATION:PT2H0M0S
SUMMARY:LE 14U Warriors vs. RR 14U Rattlers
DESCRIPTION:LE #16-23#19-66#44-32. RR #43-57 --- 14u Division - Centex Tournament Series Schedules
LOCATION:RRBL Field 14
CATEGORIES:QuickScores, Baseball Game
TRANSP:OPAQUE
BEGIN:VALARM
TRIGGER:-PT2H
ACTION:DISPLAY
DESCRIPTION:LE 14U Warriors vs. RR 14U Rattlers
END:VALARM
END:VEVENT
BEGIN:VEVENT
UID:centex-69338915-20250622T080000@quickscores.com
DTSTAMP:20260425T085100Z
DTSTART;TZID=America/Chicago:20250622T080000
DURATION:PT2H0M0S
SUMMARY:RR 14U Rattlers vs. GT 14U GTX Bulldogs
DESCRIPTION:RR #21-67#34-15. GT #7-38#15-63#34-4 --- 14u Division - Centex Tournament Series Schedules
LOCATION:RRBL Field 14
CATEGORIES:QuickScores, Baseball Game
TRANSP:OPAQUE
BEGIN:VALARM
TRIGGER:-PT2H
ACTION:DISPLAY
DESCRIPTION:RR 14U Rattlers vs. GT 14U GTX Bulldogs
END:VALARM
END:VEVENT
BEGIN:VEVENT
UID:centex-69338904-20250622T120000@quickscores.com
DTSTAMP:20260425T085100Z
DTSTART;TZID=America/Chicago:20250622T120000
DURATION:PT2H0M0S
SUMMARY:MF 14U Mustangs vs. RR 14U Rattlers
DESCRIPTION:MF. #4-75#1-13. RR. #44-59 --- 14u Division - Centex Tournament Series Schedules
LOCATION:RRBL Field 13
CATEGORIES:QuickScores, Baseball Game
TRANSP:OPAQUE
BEGIN:VALARM
TRIGGER:-PT2H
ACTION:DISPLAY
DESCRIPTION:MF 14U Mustangs vs. RR 14U Rattlers
END:VALARM
END:VEVENT
BEGIN:VEVENT
UID:centex-69566611-20250628T080000@quickscores.com
DTSTAMP:20260425T085100Z
DTSTART;TZID=America/Chicago:20250628T080000
DURATION:PT2H0M0S
SUMMARY:[2] RR 14U Rattlers vs. [7] LV 14U Vikings
DESCRIPTION:RR #77-93, #43-11.  LV #87-23, #3-87. --- 14u Division - Centex Tournament Series Schedules
LOCATION:RRBL Field 14
CATEGORIES:QuickScores, Baseball Game
TRANSP:OPAQUE
BEGIN:VALARM
TRIGGER:-PT2H
ACTION:DISPLAY
DESCRIPTION:[2] RR 14U Rattlers vs. [7] LV 14U Vikings
END:VALARM
END:VEVENT
BEGIN:VEVENT
UID:centex-69566622-20250628T120000@quickscores.com
DTSTAMP:20260425T085100Z
DTSTART;TZID=America/Chicago:20250628T120000
DURATION:PT2H0M0S
SUMMARY:[2] RR 14U Rattlers vs. [6] TC 14U Eagles
DESCRIPTION:TC: #03-81, #09-26; RR: #43-68, #25-13. --- 14u Division - Centex Tournament Series Schedules
LOCATION:RRBL Field 14
CATEGORIES:QuickScores, Baseball Game
TRANSP:OPAQUE
BEGIN:VALARM
TRIGGER:-PT2H
ACTION:DISPLAY
DESCRIPTION:[2] RR 14U Rattlers vs. [6] TC 14U Eagles
END:VALARM
END:VEVENT
BEGIN:VEVENT
UID:centex-69566627-20250629T100000@quickscores.com
DTSTAMP:20260425T085100Z
DTSTART;TZID=America/Chicago:20250629T100000
DURATION:PT2H0M0S
SUMMARY:[5] SM 14U Rattlers vs. [2] RR 14U Rattlers
DESCRIPTION:SM: #1-32, #23-58 RR:#44-33, #34-81 --- 14u Division - Centex Tournament Series Schedules
LOCATION:RRBL Field 13
CATEGORIES:QuickScores, Baseball Game
TRANSP:OPAQUE
BEGIN:VALARM
TRIGGER:-PT2H
ACTION:DISPLAY
DESCRIPTION:[5] SM 14U Rattlers vs. [2] RR 14U Rattlers
END:VALARM
END:VEVENT
BEGIN:VEVENT
UID:centex-69566629-20250629T120000@quickscores.com
DTSTAMP:20260425T085100Z
DTSTART;TZID=America/Chicago:20250629T120000
DURATION:PT2H0M0S
SUMMARY:[2] RR 14U Rattlers vs. [4] GT 14U GTX Bulldogs
DESCRIPTION:RR: #33-69, #25-18, #21-15 --- 14u Division - Centex Tournament Series Schedules
LOCATION:RRBL Field 13
CATEGORIES:QuickScores, Baseball Game
TRANSP:OPAQUE
BEGIN:VALARM
TRIGGER:-PT2H
ACTION:DISPLAY
DESCRIPTION:[2] RR 14U Rattlers vs. [4] GT 14U GTX Bulldogs
END:VALARM
END:VEVENT
BEGIN:VEVENT
UID:centex-69566630-20250629T140000@quickscores.com
DTSTAMP:20260425T085100Z
DTSTART;TZID=America/Chicago:20250629T140000
DURATION:PT2H0M0S
SUMMARY:[5] SM 14U Rattlers vs. [2] RR 14U Rattlers
DESCRIPTION:14u Division - Centex Tournament Series Schedules
LOCATION:RRBL Field 13
CATEGORIES:QuickScores, Baseball Game
TRANSP:OPAQUE
BEGIN:VALARM
TRIGGER:-PT2H
ACTION:DISPLAY
DESCRIPTION:[5] SM 14U Rattlers vs. [2] RR 14U Rattlers
END:VALARM
END:VEVENT
END:VCALENDAR
