BEGIN:VCALENDAR
VERSION:2.0
PRODID:-//QuickScores.com//BQ Dynamic iCal Creator//EN
METHOD:PUBLISH
X-WR-CALNAME:MO 14U Dirtbags - 14u Division - CENTEX 2025
X-WR-CALDESC:QuickScores game calendar
X-PUBLISHED-TTL:PT24H
REFRESH-INTERVAL;VALUE=DURATION:PT24H
CALSCALE:GREGORIAN
BEGIN:VTIMEZONE
TZID:America/Chicago
X-LIC-LOCATION:America/Chicago
BEGIN:DAYLIGHT
TZNAME:CDT
TZOFFSETFROM:-0600
TZOFFSETTO:-0500
DTSTART:19700308T020000
RRULE:FREQ=YEARLY;BYMONTH=3;BYDAY=2SU
END:DAYLIGHT
BEGIN:STANDARD
TZNAME:CST
TZOFFSETFROM:-0500
TZOFFSETTO:-0600
DTSTART:19701101T020000
RRULE:FREQ=YEARLY;BYMONTH=11;BYDAY=1SU
END:STANDARD
END:VTIMEZONE
BEGIN:VEVENT
UID:centex-69338877-20250607T160000@quickscores.com
DTSTAMP:20260425T090000Z
DTSTART;TZID=America/Chicago:20250607T160000
DURATION:PT2H0M0S
SUMMARY:RR 14U Rattlers vs. MO 14U Dirtbags
DESCRIPTION:RR: #34 (56), #21 (41); MO: #30 (77), #44 (38) --- 14u Division - Centex Tournament Series Schedules
LOCATION:TC Field 14
CATEGORIES:QuickScores, Baseball Game
TRANSP:OPAQUE
BEGIN:VALARM
TRIGGER:-PT2H
ACTION:DISPLAY
DESCRIPTION:RR 14U Rattlers vs. MO 14U Dirtbags
END:VALARM
END:VEVENT
BEGIN:VEVENT
UID:centex-69338879-20250608T160000@quickscores.com
DTSTAMP:20260425T090000Z
DTSTART;TZID=America/Chicago:20250608T160000
DURATION:PT2H0M0S
SUMMARY:MO 14U Dirtbags vs. LE 14U Warriors
DESCRIPTION:LE: #19(63), #2(24); MO: #27(75), #8(28). --- 14u Division - Centex Tournament Series Schedules
LOCATION:TC Field 14
CATEGORIES:QuickScores, Baseball Game
TRANSP:OPAQUE
BEGIN:VALARM
TRIGGER:-PT2H
ACTION:DISPLAY
DESCRIPTION:MO 14U Dirtbags vs. LE 14U Warriors
END:VALARM
END:VEVENT
BEGIN:VEVENT
UID:centex-69338903-20250608T180000@quickscores.com
DTSTAMP:20260425T090000Z
DTSTART;TZID=America/Chicago:20250608T180000
DURATION:PT2H0M0S
SUMMARY:MO 14U Dirtbags vs. LV 14U Vikings
DESCRIPTION:LV: #00(34), #34(40); MO: #23(62), #44(25). --- 14u Division - Centex Tournament Series Schedules
LOCATION:TC Field 14
CATEGORIES:QuickScores, Baseball Game
TRANSP:OPAQUE
BEGIN:VALARM
TRIGGER:-PT2H
ACTION:DISPLAY
DESCRIPTION:MO 14U Dirtbags vs. LV 14U Vikings
END:VALARM
END:VEVENT
BEGIN:VEVENT
UID:centex-69338896-20250613T180000@quickscores.com
DTSTAMP:20260425T090000Z
DTSTART;TZID=America/Chicago:20250613T180000
DURATION:PT2H0M0S
SUMMARY:MO 14U Dirtbags vs. SM 14U Rattlers
DESCRIPTION:SM #7-18, #23-42, #24-12 / MO #27-77, #44-10 --- 14u Division - Centex Tournament Series Schedules
LOCATION:MOYSC Field 5
CATEGORIES:QuickScores, Baseball Game
TRANSP:OPAQUE
BEGIN:VALARM
TRIGGER:-PT2H
ACTION:DISPLAY
DESCRIPTION:MO 14U Dirtbags vs. SM 14U Rattlers
END:VALARM
END:VEVENT
BEGIN:VEVENT
UID:centex-69338890-20250614T140000@quickscores.com
DTSTAMP:20260425T090000Z
DTSTART;TZID=America/Chicago:20250614T140000
DURATION:PT2H0M0S
SUMMARY:GT 14U GTX Bulldogs vs. MO 14U Dirtbags
DESCRIPTION:GT #18-56, #9-19 / MO #5-79, #8-12 --- 14u Division - Centex Tournament Series Schedules
LOCATION:MOYSC Field 5
CATEGORIES:QuickScores, Baseball Game
TRANSP:OPAQUE
BEGIN:VALARM
TRIGGER:-PT2H
ACTION:DISPLAY
DESCRIPTION:GT 14U GTX Bulldogs vs. MO 14U Dirtbags
END:VALARM
END:VEVENT
BEGIN:VEVENT
UID:centex-69338891-20250615T080000@quickscores.com
DTSTAMP:20260425T090000Z
DTSTART;TZID=America/Chicago:20250615T080000
DURATION:PT2H0M0S
SUMMARY:MO 14U Dirtbags vs. TC 14U Eagles
DESCRIPTION:TC #11-28, #27-45, #9-27 / MO #8-66, #44-21 --- 14u Division - Centex Tournament Series Schedules
LOCATION:MOYSC Field 5
CATEGORIES:QuickScores, Baseball Game
TRANSP:OPAQUE
BEGIN:VALARM
TRIGGER:-PT2H
ACTION:DISPLAY
DESCRIPTION:MO 14U Dirtbags vs. TC 14U Eagles
END:VALARM
END:VEVENT
BEGIN:VEVENT
UID:centex-69338913-20250621T120000@quickscores.com
DTSTAMP:20260425T090000Z
DTSTART;TZID=America/Chicago:20250621T120000
DURATION:PT2H0M0S
SUMMARY:LH 14U Stallions vs. MO 14U Dirtbags
DESCRIPTION:LH #13-55, #24-30.  MO #27-55, #30-38 --- 14u Division - Centex Tournament Series Schedules
LOCATION:RRBL Field 14
CATEGORIES:QuickScores, Baseball Game
TRANSP:OPAQUE
BEGIN:VALARM
TRIGGER:-PT2H
ACTION:DISPLAY
DESCRIPTION:LH 14U Stallions vs. MO 14U Dirtbags
END:VALARM
END:VEVENT
BEGIN:VEVENT
UID:centex-69338901-20250621T160000@quickscores.com
DTSTAMP:20260425T090000Z
DTSTART;TZID=America/Chicago:20250621T160000
DURATION:PT2H0M0S
SUMMARY:MF 14U Mustangs vs. MO 14U Dirtbags
DESCRIPTION:MF #00-67, #2-51, #1-1.  MO #5-44. --- 14u Division - Centex Tournament Series Schedules
LOCATION:RRBL Field 13
CATEGORIES:QuickScores, Baseball Game
TRANSP:OPAQUE
BEGIN:VALARM
TRIGGER:-PT2H
ACTION:DISPLAY
DESCRIPTION:MF 14U Mustangs vs. MO 14U Dirtbags
END:VALARM
END:VEVENT
BEGIN:VEVENT
UID:centex-69338916-20250622T140000@quickscores.com
DTSTAMP:20260425T090000Z
DTSTART;TZID=America/Chicago:20250622T140000
DURATION:PT2H0M0S
SUMMARY:MO 14U Matadors vs. MO 14U Dirtbags
DESCRIPTION:14u Division - Centex Tournament Series Schedules
LOCATION:RRBL Field 14
CATEGORIES:QuickScores, Baseball Game
TRANSP:OPAQUE
BEGIN:VALARM
TRIGGER:-PT2H
ACTION:DISPLAY
DESCRIPTION:MO 14U Matadors vs. MO 14U Dirtbags
END:VALARM
END:VEVENT
BEGIN:VEVENT
UID:centex-69566612-20250627T200000@quickscores.com
DTSTAMP:20260425T090000Z
DTSTART;TZID=America/Chicago:20250627T200000
DURATION:PT2H0M0S
SUMMARY:[3] MO 14U Dirtbags vs. [6] TC 14U Eagles
DESCRIPTION:MO #5-61#44-22#8-50. TC. #18-61#3-14 --- 14u Division - Centex Tournament Series Schedules
LOCATION:RRBL Field 14
CATEGORIES:QuickScores, Baseball Game
TRANSP:OPAQUE
BEGIN:VALARM
TRIGGER:-PT2H
ACTION:DISPLAY
DESCRIPTION:[3] MO 14U Dirtbags vs. [6] TC 14U Eagles
END:VALARM
END:VEVENT
BEGIN:VEVENT
UID:centex-69566617-20250628T100000@quickscores.com
DTSTAMP:20260425T090000Z
DTSTART;TZID=America/Chicago:20250628T100000
DURATION:PT2H0M0S
SUMMARY:[3] MO 14U Dirtbags vs. [8] MF 14U Mustangs
DESCRIPTION:MO #27-48, #44-47.  MF #7-78, #13-12, #1-9, #4-22 --- 14u Division - Centex Tournament Series Schedules
LOCATION:RRBL Field 13
CATEGORIES:QuickScores, Baseball Game
TRANSP:OPAQUE
BEGIN:VALARM
TRIGGER:-PT2H
ACTION:DISPLAY
DESCRIPTION:[3] MO 14U Dirtbags vs. [8] MF 14U Mustangs
END:VALARM
END:VEVENT
BEGIN:VEVENT
UID:centex-69566623-20250628T140000@quickscores.com
DTSTAMP:20260425T090000Z
DTSTART;TZID=America/Chicago:20250628T140000
DURATION:PT2H0M0S
SUMMARY:[3] MO 14U Dirtbags vs. [7] LV 14U Vikings
DESCRIPTION:MO: #30-63; LV: #99-17, #00-42, #33-32, #34-20. --- 14u Division - Centex Tournament Series Schedules
LOCATION:RRBL Field 13
CATEGORIES:QuickScores, Baseball Game
TRANSP:OPAQUE
BEGIN:VALARM
TRIGGER:-PT2H
ACTION:DISPLAY
DESCRIPTION:[3] MO 14U Dirtbags vs. [7] LV 14U Vikings
END:VALARM
END:VEVENT
BEGIN:VEVENT
UID:centex-69566625-20250628T160000@quickscores.com
DTSTAMP:20260425T090000Z
DTSTART;TZID=America/Chicago:20250628T160000
DURATION:PT2H0M0S
SUMMARY:[1] MO 14U Matadors vs. [3] MO 14U Dirtbags
DESCRIPTION:MOM: #29-60, #18-2; MOD: #12-52, #23-16, #8-12. --- 14u Division - Centex Tournament Series Schedules
LOCATION:RRBL Field 13
CATEGORIES:QuickScores, Baseball Game
TRANSP:OPAQUE
BEGIN:VALARM
TRIGGER:-PT2H
ACTION:DISPLAY
DESCRIPTION:[1] MO 14U Matadors vs. [3] MO 14U Dirtbags
END:VALARM
END:VEVENT
END:VCALENDAR
