BEGIN:VCALENDAR
VERSION:2.0
PRODID:-//QuickScores.com//BQ Dynamic iCal Creator//EN
METHOD:PUBLISH
X-WR-CALNAME:MF 14U Mustangs - 14u Division - CENTEX 2025
X-WR-CALDESC:QuickScores game calendar
X-PUBLISHED-TTL:PT24H
REFRESH-INTERVAL;VALUE=DURATION:PT24H
CALSCALE:GREGORIAN
BEGIN:VTIMEZONE
TZID:America/Chicago
X-LIC-LOCATION:America/Chicago
BEGIN:DAYLIGHT
TZNAME:CDT
TZOFFSETFROM:-0600
TZOFFSETTO:-0500
DTSTART:19700308T020000
RRULE:FREQ=YEARLY;BYMONTH=3;BYDAY=2SU
END:DAYLIGHT
BEGIN:STANDARD
TZNAME:CST
TZOFFSETFROM:-0500
TZOFFSETTO:-0600
DTSTART:19701101T020000
RRULE:FREQ=YEARLY;BYMONTH=11;BYDAY=1SU
END:STANDARD
END:VTIMEZONE
BEGIN:VEVENT
UID:centex-69338872-20250607T080000@quickscores.com
DTSTAMP:20260425T113500Z
DTSTART;TZID=America/Chicago:20250607T080000
DURATION:PT2H0M0S
SUMMARY:LH 14U Stallions vs. MF 14U Mustangs
DESCRIPTION:LH: #27 55, #10 25, #24 9. MF: #7 95, #13 22 --- 14u Division - Centex Tournament Series Schedules
LOCATION:TC Field 14
CATEGORIES:QuickScores, Baseball Game
TRANSP:OPAQUE
BEGIN:VALARM
TRIGGER:-PT2H
ACTION:DISPLAY
DESCRIPTION:LH 14U Stallions vs. MF 14U Mustangs
END:VALARM
END:VEVENT
BEGIN:VEVENT
UID:centex-69338875-20250607T100000@quickscores.com
DTSTAMP:20260425T113500Z
DTSTART;TZID=America/Chicago:20250607T100000
DURATION:PT2H0M0S
SUMMARY:MF 14U Mustangs vs. LV 14U Vikings
DESCRIPTION:MF: #30 69, #4 10. LV: #00 26, #33 78 --- 14u Division - Centex Tournament Series Schedules
LOCATION:TC Field 14
CATEGORIES:QuickScores, Baseball Game
TRANSP:OPAQUE
BEGIN:VALARM
TRIGGER:-PT2H
ACTION:DISPLAY
DESCRIPTION:MF 14U Mustangs vs. LV 14U Vikings
END:VALARM
END:VEVENT
BEGIN:VEVENT
UID:centex-69338878-20250608T140000@quickscores.com
DTSTAMP:20260425T113500Z
DTSTART;TZID=America/Chicago:20250608T140000
DURATION:PT2H0M0S
SUMMARY:LE 14U Warriors vs. MF 14U Mustangs
DESCRIPTION:LE #2-63,#44-23. MF. #29-76,#4-44 --- 14u Division - Centex Tournament Series Schedules
LOCATION:TC Field 14
CATEGORIES:QuickScores, Baseball Game
TRANSP:OPAQUE
BEGIN:VALARM
TRIGGER:-PT2H
ACTION:DISPLAY
DESCRIPTION:LE 14U Warriors vs. MF 14U Mustangs
END:VALARM
END:VEVENT
BEGIN:VEVENT
UID:centex-69338886-20250614T120000@quickscores.com
DTSTAMP:20260425T113500Z
DTSTART;TZID=America/Chicago:20250614T120000
DURATION:PT2H0M0S
SUMMARY:TC 14U Eagles vs. MF 14U Mustangs
DESCRIPTION:TC #18-43, #3-36, #11-22 / MF #7-94 --- 14u Division - Centex Tournament Series Schedules
LOCATION:MOYSC Field 5
CATEGORIES:QuickScores, Baseball Game
TRANSP:OPAQUE
BEGIN:VALARM
TRIGGER:-PT2H
ACTION:DISPLAY
DESCRIPTION:TC 14U Eagles vs. MF 14U Mustangs
END:VALARM
END:VEVENT
BEGIN:VEVENT
UID:centex-69338889-20250614T160000@quickscores.com
DTSTAMP:20260425T113500Z
DTSTART;TZID=America/Chicago:20250614T160000
DURATION:PT2H0M0S
SUMMARY:GT 14U GTX Bulldogs vs. MF 14U Mustangs
DESCRIPTION:GT #9-22, #34-20, #7-59 / MF #13-57, #30-47, #4-55 --- 14u Division - Centex Tournament Series Schedules
LOCATION:MOYSC Field 5
CATEGORIES:QuickScores, Baseball Game
TRANSP:OPAQUE
BEGIN:VALARM
TRIGGER:-PT2H
ACTION:DISPLAY
DESCRIPTION:GT 14U GTX Bulldogs vs. MF 14U Mustangs
END:VALARM
END:VEVENT
BEGIN:VEVENT
UID:centex-69338898-20250621T140000@quickscores.com
DTSTAMP:20260425T113500Z
DTSTART;TZID=America/Chicago:20250621T140000
DURATION:PT2H0M0S
SUMMARY:MF 14U Mustangs vs. MO 14U Matadors
DESCRIPTION:MF #7-96 (finished batter), #4-18.  MO #23-41, #2-49 --- 14u Division - Centex Tournament Series Schedules
LOCATION:RRBL Field 13
CATEGORIES:QuickScores, Baseball Game
TRANSP:OPAQUE
BEGIN:VALARM
TRIGGER:-PT2H
ACTION:DISPLAY
DESCRIPTION:MF 14U Mustangs vs. MO 14U Matadors
END:VALARM
END:VEVENT
BEGIN:VEVENT
UID:centex-69338901-20250621T160000@quickscores.com
DTSTAMP:20260425T113500Z
DTSTART;TZID=America/Chicago:20250621T160000
DURATION:PT2H0M0S
SUMMARY:MF 14U Mustangs vs. MO 14U Dirtbags
DESCRIPTION:MF #00-67, #2-51, #1-1.  MO #5-44. --- 14u Division - Centex Tournament Series Schedules
LOCATION:RRBL Field 13
CATEGORIES:QuickScores, Baseball Game
TRANSP:OPAQUE
BEGIN:VALARM
TRIGGER:-PT2H
ACTION:DISPLAY
DESCRIPTION:MF 14U Mustangs vs. MO 14U Dirtbags
END:VALARM
END:VEVENT
BEGIN:VEVENT
UID:centex-69338904-20250622T120000@quickscores.com
DTSTAMP:20260425T113500Z
DTSTART;TZID=America/Chicago:20250622T120000
DURATION:PT2H0M0S
SUMMARY:MF 14U Mustangs vs. RR 14U Rattlers
DESCRIPTION:MF. #4-75#1-13. RR. #44-59 --- 14u Division - Centex Tournament Series Schedules
LOCATION:RRBL Field 13
CATEGORIES:QuickScores, Baseball Game
TRANSP:OPAQUE
BEGIN:VALARM
TRIGGER:-PT2H
ACTION:DISPLAY
DESCRIPTION:MF 14U Mustangs vs. RR 14U Rattlers
END:VALARM
END:VEVENT
BEGIN:VEVENT
UID:centex-69566602-20250627T180000@quickscores.com
DTSTAMP:20260425T113500Z
DTSTART;TZID=America/Chicago:20250627T180000
DURATION:PT2H0M0S
SUMMARY:[8] MF 14U Mustangs vs. [9] LH 14U Stallions
DESCRIPTION:MF. #30-37#1-82. LH #13-16#8-23#29-37#24-32 --- 14u Division - Centex Tournament Series Schedules
LOCATION:RRBL Field 13
CATEGORIES:QuickScores, Baseball Game
TRANSP:OPAQUE
BEGIN:VALARM
TRIGGER:-PT2H
ACTION:DISPLAY
DESCRIPTION:[8] MF 14U Mustangs vs. [9] LH 14U Stallions
END:VALARM
END:VEVENT
BEGIN:VEVENT
UID:centex-69566617-20250628T100000@quickscores.com
DTSTAMP:20260425T113500Z
DTSTART;TZID=America/Chicago:20250628T100000
DURATION:PT2H0M0S
SUMMARY:[3] MO 14U Dirtbags vs. [8] MF 14U Mustangs
DESCRIPTION:MO #27-48, #44-47.  MF #7-78, #13-12, #1-9, #4-22 --- 14u Division - Centex Tournament Series Schedules
LOCATION:RRBL Field 13
CATEGORIES:QuickScores, Baseball Game
TRANSP:OPAQUE
BEGIN:VALARM
TRIGGER:-PT2H
ACTION:DISPLAY
DESCRIPTION:[3] MO 14U Dirtbags vs. [8] MF 14U Mustangs
END:VALARM
END:VEVENT
END:VCALENDAR
