BEGIN:VCALENDAR
VERSION:2.0
PRODID:-//QuickScores.com//BQ Dynamic iCal Creator//EN
METHOD:PUBLISH
X-WR-CALNAME:LH 14U Stallions - 14u Division - CENTEX 2025
X-WR-CALDESC:QuickScores game calendar
X-PUBLISHED-TTL:PT24H
REFRESH-INTERVAL;VALUE=DURATION:PT24H
CALSCALE:GREGORIAN
BEGIN:VTIMEZONE
TZID:America/Chicago
X-LIC-LOCATION:America/Chicago
BEGIN:DAYLIGHT
TZNAME:CDT
TZOFFSETFROM:-0600
TZOFFSETTO:-0500
DTSTART:19700308T020000
RRULE:FREQ=YEARLY;BYMONTH=3;BYDAY=2SU
END:DAYLIGHT
BEGIN:STANDARD
TZNAME:CST
TZOFFSETFROM:-0500
TZOFFSETTO:-0600
DTSTART:19701101T020000
RRULE:FREQ=YEARLY;BYMONTH=11;BYDAY=1SU
END:STANDARD
END:VTIMEZONE
BEGIN:VEVENT
UID:centex-69338872-20250607T080000@quickscores.com
DTSTAMP:20260425T085200Z
DTSTART;TZID=America/Chicago:20250607T080000
DURATION:PT2H0M0S
SUMMARY:LH 14U Stallions vs. MF 14U Mustangs
DESCRIPTION:LH: #27 55, #10 25, #24 9. MF: #7 95, #13 22 --- 14u Division - Centex Tournament Series Schedules
LOCATION:TC Field 14
CATEGORIES:QuickScores, Baseball Game
TRANSP:OPAQUE
BEGIN:VALARM
TRIGGER:-PT2H
ACTION:DISPLAY
DESCRIPTION:LH 14U Stallions vs. MF 14U Mustangs
END:VALARM
END:VEVENT
BEGIN:VEVENT
UID:centex-69338881-20250608T080000@quickscores.com
DTSTAMP:20260425T085200Z
DTSTART;TZID=America/Chicago:20250608T080000
DURATION:PT2H0M0S
SUMMARY:LH 14U Stallions vs. GT 14U GTX Bulldogs
DESCRIPTION:LH: #13 (50), #29 (42), #8 (21); GT: #34 (40), #15 (39), #9 (14) --- 14u Division - Centex Tournament Series Schedules
LOCATION:TC Field 14
CATEGORIES:QuickScores, Baseball Game
TRANSP:OPAQUE
BEGIN:VALARM
TRIGGER:-PT2H
ACTION:DISPLAY
DESCRIPTION:LH 14U Stallions vs. GT 14U GTX Bulldogs
END:VALARM
END:VEVENT
BEGIN:VEVENT
UID:centex-69338882-20250608T100000@quickscores.com
DTSTAMP:20260425T085200Z
DTSTART;TZID=America/Chicago:20250608T100000
DURATION:PT2H0M0S
SUMMARY:LH 14U Stallions vs. MO 14U Matadors
DESCRIPTION:LH. #14-41,#3-45,#24-23. MO #8-37,#11-48 --- 14u Division - Centex Tournament Series Schedules
LOCATION:TC Field 14
CATEGORIES:QuickScores, Baseball Game
TRANSP:OPAQUE
BEGIN:VALARM
TRIGGER:-PT2H
ACTION:DISPLAY
DESCRIPTION:LH 14U Stallions vs. MO 14U Matadors
END:VALARM
END:VEVENT
BEGIN:VEVENT
UID:centex-69338885-20250614T180000@quickscores.com
DTSTAMP:20260425T085200Z
DTSTART;TZID=America/Chicago:20250614T180000
DURATION:PT2H0M0S
SUMMARY:LH 14U Stallions vs. LE 14U Warriors
DESCRIPTION:LH #13-27, #3-22, #24-40 / LE #7-65, #5-42 --- 14u Division - Centex Tournament Series Schedules
LOCATION:MOYSC Field 5
CATEGORIES:QuickScores, Baseball Game
TRANSP:OPAQUE
BEGIN:VALARM
TRIGGER:-PT2H
ACTION:DISPLAY
DESCRIPTION:LH 14U Stallions vs. LE 14U Warriors
END:VALARM
END:VEVENT
BEGIN:VEVENT
UID:centex-69338892-20250615T100000@quickscores.com
DTSTAMP:20260425T085200Z
DTSTART;TZID=America/Chicago:20250615T100000
DURATION:PT2H0M0S
SUMMARY:RR 14U Rattlers vs. LH 14U Stallions
DESCRIPTION:LH #27-37, #29-66 / RR #77-27, #10-32 --- 14u Division - Centex Tournament Series Schedules
LOCATION:MOYSC Field 5
CATEGORIES:QuickScores, Baseball Game
TRANSP:OPAQUE
BEGIN:VALARM
TRIGGER:-PT2H
ACTION:DISPLAY
DESCRIPTION:RR 14U Rattlers vs. LH 14U Stallions
END:VALARM
END:VEVENT
BEGIN:VEVENT
UID:centex-69338909-20250621T100000@quickscores.com
DTSTAMP:20260425T085200Z
DTSTART;TZID=America/Chicago:20250621T100000
DURATION:PT2H0M0S
SUMMARY:SM 14U Rattlers vs. LH 14U Stallions
DESCRIPTION:Sm#23-58#10-49. LH. #27-63,#29-13 --- 14u Division - Centex Tournament Series Schedules
LOCATION:RRBL Field 13
CATEGORIES:QuickScores, Baseball Game
TRANSP:OPAQUE
BEGIN:VALARM
TRIGGER:-PT2H
ACTION:DISPLAY
DESCRIPTION:SM 14U Rattlers vs. LH 14U Stallions
END:VALARM
END:VEVENT
BEGIN:VEVENT
UID:centex-69338913-20250621T120000@quickscores.com
DTSTAMP:20260425T085200Z
DTSTART;TZID=America/Chicago:20250621T120000
DURATION:PT2H0M0S
SUMMARY:LH 14U Stallions vs. MO 14U Dirtbags
DESCRIPTION:LH #13-55, #24-30.  MO #27-55, #30-38 --- 14u Division - Centex Tournament Series Schedules
LOCATION:RRBL Field 14
CATEGORIES:QuickScores, Baseball Game
TRANSP:OPAQUE
BEGIN:VALARM
TRIGGER:-PT2H
ACTION:DISPLAY
DESCRIPTION:LH 14U Stallions vs. MO 14U Dirtbags
END:VALARM
END:VEVENT
BEGIN:VEVENT
UID:centex-69338906-20250622T080000@quickscores.com
DTSTAMP:20260425T085200Z
DTSTART;TZID=America/Chicago:20250622T080000
DURATION:PT2H0M0S
SUMMARY:LV 14U Vikings vs. LH 14U Stallions
DESCRIPTION:LV #21-24#33-92. LH#14-39#8-51 --- 14u Division - Centex Tournament Series Schedules
LOCATION:RRBL Field 13
CATEGORIES:QuickScores, Baseball Game
TRANSP:OPAQUE
BEGIN:VALARM
TRIGGER:-PT2H
ACTION:DISPLAY
DESCRIPTION:LV 14U Vikings vs. LH 14U Stallions
END:VALARM
END:VEVENT
BEGIN:VEVENT
UID:centex-69338902-20250622T100000@quickscores.com
DTSTAMP:20260425T085200Z
DTSTART;TZID=America/Chicago:20250622T100000
DURATION:PT2H0M0S
SUMMARY:TC 14U Eagles vs. LH 14U Stallions
DESCRIPTION:TC #18-50#9-21. LH. #10-38#24-35#29-37 --- 14u Division - Centex Tournament Series Schedules
LOCATION:RRBL Field 14
CATEGORIES:QuickScores, Baseball Game
TRANSP:OPAQUE
BEGIN:VALARM
TRIGGER:-PT2H
ACTION:DISPLAY
DESCRIPTION:TC 14U Eagles vs. LH 14U Stallions
END:VALARM
END:VEVENT
BEGIN:VEVENT
UID:centex-69566602-20250627T180000@quickscores.com
DTSTAMP:20260425T085200Z
DTSTART;TZID=America/Chicago:20250627T180000
DURATION:PT2H0M0S
SUMMARY:[8] MF 14U Mustangs vs. [9] LH 14U Stallions
DESCRIPTION:MF. #30-37#1-82. LH #13-16#8-23#29-37#24-32 --- 14u Division - Centex Tournament Series Schedules
LOCATION:RRBL Field 13
CATEGORIES:QuickScores, Baseball Game
TRANSP:OPAQUE
BEGIN:VALARM
TRIGGER:-PT2H
ACTION:DISPLAY
DESCRIPTION:[8] MF 14U Mustangs vs. [9] LH 14U Stallions
END:VALARM
END:VEVENT
BEGIN:VEVENT
UID:centex-69566609-20250628T080000@quickscores.com
DTSTAMP:20260425T085200Z
DTSTART;TZID=America/Chicago:20250628T080000
DURATION:PT2H0M0S
SUMMARY:[1] MO 14U Matadors vs. [9] LH 14U Stallions
DESCRIPTION:MO #8-69.  LH #27-29, #10-48, #14-36 --- 14u Division - Centex Tournament Series Schedules
LOCATION:RRBL Field 13
CATEGORIES:QuickScores, Baseball Game
TRANSP:OPAQUE
BEGIN:VALARM
TRIGGER:-PT2H
ACTION:DISPLAY
DESCRIPTION:[1] MO 14U Matadors vs. [9] LH 14U Stallions
END:VALARM
END:VEVENT
BEGIN:VEVENT
UID:centex-69566624-20250628T140000@quickscores.com
DTSTAMP:20260425T085200Z
DTSTART;TZID=America/Chicago:20250628T140000
DURATION:PT2H0M0S
SUMMARY:[4] GT 14U GTX Bulldogs vs. [9] LH 14U Stallions
DESCRIPTION:GT: #07-49, #11-41; LH: #13-43, #08-33, #24-44. --- 14u Division - Centex Tournament Series Schedules
LOCATION:RRBL Field 14
CATEGORIES:QuickScores, Baseball Game
TRANSP:OPAQUE
BEGIN:VALARM
TRIGGER:-PT2H
ACTION:DISPLAY
DESCRIPTION:[4] GT 14U GTX Bulldogs vs. [9] LH 14U Stallions
END:VALARM
END:VEVENT
END:VCALENDAR
