BEGIN:VCALENDAR
VERSION:2.0
PRODID:-//QuickScores.com//BQ Dynamic iCal Creator//EN
METHOD:PUBLISH
X-WR-CALNAME:MO 6U Silver Wolfpack - 6u Division Ii - CENTEX 2025
X-WR-CALDESC:QuickScores game calendar
X-PUBLISHED-TTL:PT24H
REFRESH-INTERVAL;VALUE=DURATION:PT24H
CALSCALE:GREGORIAN
BEGIN:VTIMEZONE
TZID:America/Chicago
X-LIC-LOCATION:America/Chicago
BEGIN:DAYLIGHT
TZNAME:CDT
TZOFFSETFROM:-0600
TZOFFSETTO:-0500
DTSTART:19700308T020000
RRULE:FREQ=YEARLY;BYMONTH=3;BYDAY=2SU
END:DAYLIGHT
BEGIN:STANDARD
TZNAME:CST
TZOFFSETFROM:-0500
TZOFFSETTO:-0600
DTSTART:19701101T020000
RRULE:FREQ=YEARLY;BYMONTH=11;BYDAY=1SU
END:STANDARD
END:VTIMEZONE
BEGIN:VEVENT
UID:centex-69332051-20250607T140000@quickscores.com
DTSTAMP:20260423T220800Z
DTSTART;TZID=America/Chicago:20250607T140000
DURATION:PT1H15M0S
SUMMARY:LT 6U Bombers vs. MO 6U Silver Wolfpack
DESCRIPTION:6u Division Ii - Centex Tournament Series Schedules
LOCATION:TC Field 10
CATEGORIES:QuickScores, Baseball Game
TRANSP:OPAQUE
BEGIN:VALARM
TRIGGER:-PT2H
ACTION:DISPLAY
DESCRIPTION:LT 6U Bombers vs. MO 6U Silver Wolfpack
END:VALARM
END:VEVENT
BEGIN:VEVENT
UID:centex-69332048-20250607T151500@quickscores.com
DTSTAMP:20260423T220800Z
DTSTART;TZID=America/Chicago:20250607T151500
DURATION:PT1H15M0S
SUMMARY:MO 6U Silver Wolfpack vs. OH 6U Gold
DESCRIPTION:6u Division Ii - Centex Tournament Series Schedules
LOCATION:TC Field 10
CATEGORIES:QuickScores, Baseball Game
TRANSP:OPAQUE
BEGIN:VALARM
TRIGGER:-PT2H
ACTION:DISPLAY
DESCRIPTION:MO 6U Silver Wolfpack vs. OH 6U Gold
END:VALARM
END:VEVENT
BEGIN:VEVENT
UID:centex-69332058-20250608T174500@quickscores.com
DTSTAMP:20260423T220800Z
DTSTART;TZID=America/Chicago:20250608T174500
DURATION:PT1H15M0S
SUMMARY:CP 6U Comets vs. MO 6U Silver Wolfpack
DESCRIPTION:6u Division Ii - Centex Tournament Series Schedules
LOCATION:TC Field 10
CATEGORIES:QuickScores, Baseball Game
TRANSP:OPAQUE
BEGIN:VALARM
TRIGGER:-PT2H
ACTION:DISPLAY
DESCRIPTION:CP 6U Comets vs. MO 6U Silver Wolfpack
END:VALARM
END:VEVENT
BEGIN:VEVENT
UID:centex-69332063-20250614T090000@quickscores.com
DTSTAMP:20260423T220800Z
DTSTART;TZID=America/Chicago:20250614T090000
DURATION:PT1H15M0S
SUMMARY:MO 6U Silver Wolfpack vs. DS 6U Maroon
DESCRIPTION:6u Division Ii - Centex Tournament Series Schedules
LOCATION:OHYSA Small Softball Field
CATEGORIES:QuickScores, Baseball Game
TRANSP:OPAQUE
BEGIN:VALARM
TRIGGER:-PT2H
ACTION:DISPLAY
DESCRIPTION:MO 6U Silver Wolfpack vs. DS 6U Maroon
END:VALARM
END:VEVENT
BEGIN:VEVENT
UID:centex-69332068-20250614T113000@quickscores.com
DTSTAMP:20260423T220800Z
DTSTART;TZID=America/Chicago:20250614T113000
DURATION:PT1H15M0S
SUMMARY:MO 6U Silver Wolfpack vs. GT 6U Swamp Dawgs
DESCRIPTION:6u Division Ii - Centex Tournament Series Schedules
LOCATION:OHYSA Small Softball Field
CATEGORIES:QuickScores, Baseball Game
TRANSP:OPAQUE
BEGIN:VALARM
TRIGGER:-PT2H
ACTION:DISPLAY
DESCRIPTION:MO 6U Silver Wolfpack vs. GT 6U Swamp Dawgs
END:VALARM
END:VEVENT
BEGIN:VEVENT
UID:centex-69332034-20250621T141500@quickscores.com
DTSTAMP:20260423T220800Z
DTSTART;TZID=America/Chicago:20250621T141500
DURATION:PT1H15M0S
SUMMARY:LH 6U Wranglers vs. MO 6U Silver Wolfpack
DESCRIPTION:6u Division Ii - Centex Tournament Series Schedules
LOCATION:CPYL Catalina
CATEGORIES:QuickScores, Baseball Game
TRANSP:OPAQUE
BEGIN:VALARM
TRIGGER:-PT2H
ACTION:DISPLAY
DESCRIPTION:LH 6U Wranglers vs. MO 6U Silver Wolfpack
END:VALARM
END:VEVENT
BEGIN:VEVENT
UID:centex-69332036-20250621T164500@quickscores.com
DTSTAMP:20260423T220800Z
DTSTART;TZID=America/Chicago:20250621T164500
DURATION:PT1H15M0S
SUMMARY:LV 6U Vikings vs. MO 6U Silver Wolfpack
DESCRIPTION:6u Division Ii - Centex Tournament Series Schedules
LOCATION:CPYL Catalina
CATEGORIES:QuickScores, Baseball Game
TRANSP:OPAQUE
BEGIN:VALARM
TRIGGER:-PT2H
ACTION:DISPLAY
DESCRIPTION:LV 6U Vikings vs. MO 6U Silver Wolfpack
END:VALARM
END:VEVENT
BEGIN:VEVENT
UID:centex-69332041-20250622T124500@quickscores.com
DTSTAMP:20260423T220800Z
DTSTART;TZID=America/Chicago:20250622T124500
DURATION:PT1H15M0S
SUMMARY:MO 6U Silver Wolfpack vs. RR 6U Diamond Dawgs
DESCRIPTION:6u Division Ii - Centex Tournament Series Schedules
LOCATION:CPYL Catalina
CATEGORIES:QuickScores, Baseball Game
TRANSP:OPAQUE
BEGIN:VALARM
TRIGGER:-PT2H
ACTION:DISPLAY
DESCRIPTION:MO 6U Silver Wolfpack vs. RR 6U Diamond Dawgs
END:VALARM
END:VEVENT
BEGIN:VEVENT
UID:centex-69332037-20250622T140000@quickscores.com
DTSTAMP:20260423T220800Z
DTSTART;TZID=America/Chicago:20250622T140000
DURATION:PT1H15M0S
SUMMARY:MO 6U Silver Wolfpack vs. SM 6U Purple
DESCRIPTION:6u Division Ii - Centex Tournament Series Schedules
LOCATION:CPYL Catalina
CATEGORIES:QuickScores, Baseball Game
TRANSP:OPAQUE
BEGIN:VALARM
TRIGGER:-PT2H
ACTION:DISPLAY
DESCRIPTION:MO 6U Silver Wolfpack vs. SM 6U Purple
END:VALARM
END:VEVENT
BEGIN:VEVENT
UID:centex-69564218-20250628T091500@quickscores.com
DTSTAMP:20260423T220800Z
DTSTART;TZID=America/Chicago:20250628T091500
DURATION:PT1H15M0S
SUMMARY:[6] MO 6U Silver Wolfpack vs. [11] SM 6U Purple
DESCRIPTION:6u Division Ii - Centex Tournament Series Schedules
LOCATION:RRBL Field 3
CATEGORIES:QuickScores, Baseball Game
TRANSP:OPAQUE
BEGIN:VALARM
TRIGGER:-PT2H
ACTION:DISPLAY
DESCRIPTION:[6] MO 6U Silver Wolfpack vs. [11] SM 6U Purple
END:VALARM
END:VEVENT
BEGIN:VEVENT
UID:centex-69564222-20250628T114500@quickscores.com
DTSTAMP:20260423T220800Z
DTSTART;TZID=America/Chicago:20250628T114500
DURATION:PT1H15M0S
SUMMARY:[3] LT 6U Bombers vs. [6] MO 6U Silver Wolfpack
DESCRIPTION:6u Division Ii - Centex Tournament Series Schedules
LOCATION:RRBL Field 3
CATEGORIES:QuickScores, Baseball Game
TRANSP:OPAQUE
BEGIN:VALARM
TRIGGER:-PT2H
ACTION:DISPLAY
DESCRIPTION:[3] LT 6U Bombers vs. [6] MO 6U Silver Wolfpack
END:VALARM
END:VEVENT
BEGIN:VEVENT
UID:centex-69564227-20250628T130000@quickscores.com
DTSTAMP:20260423T220800Z
DTSTART;TZID=America/Chicago:20250628T130000
DURATION:PT1H15M0S
SUMMARY:[6] MO 6U Silver Wolfpack vs. [9] OH 6U Gold
DESCRIPTION:6u Division Ii - Centex Tournament Series Schedules
LOCATION:RRBL Field 3
CATEGORIES:QuickScores, Baseball Game
TRANSP:OPAQUE
BEGIN:VALARM
TRIGGER:-PT2H
ACTION:DISPLAY
DESCRIPTION:[6] MO 6U Silver Wolfpack vs. [9] OH 6U Gold
END:VALARM
END:VEVENT
BEGIN:VEVENT
UID:centex-69564233-20250628T153000@quickscores.com
DTSTAMP:20260423T220800Z
DTSTART;TZID=America/Chicago:20250628T153000
DURATION:PT1H15M0S
SUMMARY:[6] MO 6U Silver Wolfpack vs. [7] LH 6U Wranglers
DESCRIPTION:6u Division Ii - Centex Tournament Series Schedules
LOCATION:RRBL Field 3
CATEGORIES:QuickScores, Baseball Game
TRANSP:OPAQUE
BEGIN:VALARM
TRIGGER:-PT2H
ACTION:DISPLAY
DESCRIPTION:[6] MO 6U Silver Wolfpack vs. [7] LH 6U Wranglers
END:VALARM
END:VEVENT
END:VCALENDAR
