BEGIN:VCALENDAR
VERSION:2.0
PRODID:-//QuickScores.com//BQ Dynamic iCal Creator//EN
METHOD:PUBLISH
X-WR-CALNAME:CP 6U Comets - 6u Division Ii - CENTEX 2025
X-WR-CALDESC:QuickScores game calendar
X-PUBLISHED-TTL:PT24H
REFRESH-INTERVAL;VALUE=DURATION:PT24H
CALSCALE:GREGORIAN
BEGIN:VTIMEZONE
TZID:America/Chicago
X-LIC-LOCATION:America/Chicago
BEGIN:DAYLIGHT
TZNAME:CDT
TZOFFSETFROM:-0600
TZOFFSETTO:-0500
DTSTART:19700308T020000
RRULE:FREQ=YEARLY;BYMONTH=3;BYDAY=2SU
END:DAYLIGHT
BEGIN:STANDARD
TZNAME:CST
TZOFFSETFROM:-0500
TZOFFSETTO:-0600
DTSTART:19701101T020000
RRULE:FREQ=YEARLY;BYMONTH=11;BYDAY=1SU
END:STANDARD
END:VTIMEZONE
BEGIN:VEVENT
UID:centex-69332062-20250606T180000@quickscores.com
DTSTAMP:20260423T233200Z
DTSTART;TZID=America/Chicago:20250606T180000
DURATION:PT1H15M0S
SUMMARY:TC 6U Rebels vs. CP 6U Comets
DESCRIPTION:6u Division Ii - Centex Tournament Series Schedules
LOCATION:TC Field 10
CATEGORIES:QuickScores, Baseball Game
TRANSP:OPAQUE
BEGIN:VALARM
TRIGGER:-PT2H
ACTION:DISPLAY
DESCRIPTION:TC 6U Rebels vs. CP 6U Comets
END:VALARM
END:VEVENT
BEGIN:VEVENT
UID:centex-69332049-20250607T113000@quickscores.com
DTSTAMP:20260423T233200Z
DTSTART;TZID=America/Chicago:20250607T113000
DURATION:PT1H15M0S
SUMMARY:DS 6U Maroon vs. CP 6U Comets
DESCRIPTION:6u Division Ii - Centex Tournament Series Schedules
LOCATION:TC Field 10
CATEGORIES:QuickScores, Baseball Game
TRANSP:OPAQUE
BEGIN:VALARM
TRIGGER:-PT2H
ACTION:DISPLAY
DESCRIPTION:DS 6U Maroon vs. CP 6U Comets
END:VALARM
END:VEVENT
BEGIN:VEVENT
UID:centex-69332056-20250608T151500@quickscores.com
DTSTAMP:20260423T233200Z
DTSTART;TZID=America/Chicago:20250608T151500
DURATION:PT1H15M0S
SUMMARY:CP 6U Comets vs. LH 6U Wranglers
DESCRIPTION:6u Division Ii - Centex Tournament Series Schedules
LOCATION:TC Field 10
CATEGORIES:QuickScores, Baseball Game
TRANSP:OPAQUE
BEGIN:VALARM
TRIGGER:-PT2H
ACTION:DISPLAY
DESCRIPTION:CP 6U Comets vs. LH 6U Wranglers
END:VALARM
END:VEVENT
BEGIN:VEVENT
UID:centex-69332058-20250608T174500@quickscores.com
DTSTAMP:20260423T233200Z
DTSTART;TZID=America/Chicago:20250608T174500
DURATION:PT1H15M0S
SUMMARY:CP 6U Comets vs. MO 6U Silver Wolfpack
DESCRIPTION:6u Division Ii - Centex Tournament Series Schedules
LOCATION:TC Field 10
CATEGORIES:QuickScores, Baseball Game
TRANSP:OPAQUE
BEGIN:VALARM
TRIGGER:-PT2H
ACTION:DISPLAY
DESCRIPTION:CP 6U Comets vs. MO 6U Silver Wolfpack
END:VALARM
END:VEVENT
BEGIN:VEVENT
UID:centex-69332067-20250614T124500@quickscores.com
DTSTAMP:20260423T233200Z
DTSTART;TZID=America/Chicago:20250614T124500
DURATION:PT1H15M0S
SUMMARY:SM 6U Purple vs. CP 6U Comets
DESCRIPTION:6u Division Ii - Centex Tournament Series Schedules
LOCATION:OHYSA Small Softball Field
CATEGORIES:QuickScores, Baseball Game
TRANSP:OPAQUE
BEGIN:VALARM
TRIGGER:-PT2H
ACTION:DISPLAY
DESCRIPTION:SM 6U Purple vs. CP 6U Comets
END:VALARM
END:VEVENT
BEGIN:VEVENT
UID:centex-69332069-20250614T140000@quickscores.com
DTSTAMP:20260423T233200Z
DTSTART;TZID=America/Chicago:20250614T140000
DURATION:PT1H15M0S
SUMMARY:CP 6U Comets vs. LT 6U Bombers
DESCRIPTION:6u Division Ii - Centex Tournament Series Schedules
LOCATION:OHYSA Small Softball Field
CATEGORIES:QuickScores, Baseball Game
TRANSP:OPAQUE
BEGIN:VALARM
TRIGGER:-PT2H
ACTION:DISPLAY
DESCRIPTION:CP 6U Comets vs. LT 6U Bombers
END:VALARM
END:VEVENT
BEGIN:VEVENT
UID:centex-69332075-20250615T124500@quickscores.com
DTSTAMP:20260423T233200Z
DTSTART;TZID=America/Chicago:20250615T124500
DURATION:PT1H15M0S
SUMMARY:GT 6U Swamp Dawgs vs. CP 6U Comets
DESCRIPTION:6u Division Ii - Centex Tournament Series Schedules
LOCATION:OHYSA Small Softball Field
CATEGORIES:QuickScores, Baseball Game
TRANSP:OPAQUE
BEGIN:VALARM
TRIGGER:-PT2H
ACTION:DISPLAY
DESCRIPTION:GT 6U Swamp Dawgs vs. CP 6U Comets
END:VALARM
END:VEVENT
BEGIN:VEVENT
UID:centex-69332077-20250621T080000@quickscores.com
DTSTAMP:20260423T233200Z
DTSTART;TZID=America/Chicago:20250621T080000
DURATION:PT1H15M0S
SUMMARY:CP 6U Comets vs. OH 6U Gold
DESCRIPTION:6u Division Ii - Centex Tournament Series Schedules
LOCATION:CPYL Catalina
CATEGORIES:QuickScores, Baseball Game
TRANSP:OPAQUE
BEGIN:VALARM
TRIGGER:-PT2H
ACTION:DISPLAY
DESCRIPTION:CP 6U Comets vs. OH 6U Gold
END:VALARM
END:VEVENT
BEGIN:VEVENT
UID:centex-69332033-20250621T103000@quickscores.com
DTSTAMP:20260423T233200Z
DTSTART;TZID=America/Chicago:20250621T103000
DURATION:PT1H15M0S
SUMMARY:RR 6U Diamond Dawgs vs. CP 6U Comets
DESCRIPTION:6u Division Ii - Centex Tournament Series Schedules
LOCATION:CPYL Catalina
CATEGORIES:QuickScores, Baseball Game
TRANSP:OPAQUE
BEGIN:VALARM
TRIGGER:-PT2H
ACTION:DISPLAY
DESCRIPTION:RR 6U Diamond Dawgs vs. CP 6U Comets
END:VALARM
END:VEVENT
BEGIN:VEVENT
UID:centex-69564212-20250628T080000@quickscores.com
DTSTAMP:20260423T233200Z
DTSTART;TZID=America/Chicago:20250628T080000
DURATION:PT1H15M0S
SUMMARY:[8] CP 6U Comets vs. [9] OH 6U Gold
DESCRIPTION:6u Division Ii - Centex Tournament Series Schedules
LOCATION:RRBL Field 3
CATEGORIES:QuickScores, Baseball Game
TRANSP:OPAQUE
BEGIN:VALARM
TRIGGER:-PT2H
ACTION:DISPLAY
DESCRIPTION:[8] CP 6U Comets vs. [9] OH 6U Gold
END:VALARM
END:VEVENT
BEGIN:VEVENT
UID:centex-69564219-20250628T103000@quickscores.com
DTSTAMP:20260423T233200Z
DTSTART;TZID=America/Chicago:20250628T103000
DURATION:PT1H15M0S
SUMMARY:[1] TC 6U Rebels vs. [8] CP 6U Comets
DESCRIPTION:6u Division Ii - Centex Tournament Series Schedules
LOCATION:RRBL Field 3
CATEGORIES:QuickScores, Baseball Game
TRANSP:OPAQUE
BEGIN:VALARM
TRIGGER:-PT2H
ACTION:DISPLAY
DESCRIPTION:[1] TC 6U Rebels vs. [8] CP 6U Comets
END:VALARM
END:VEVENT
BEGIN:VEVENT
UID:centex-69564230-20250628T130000@quickscores.com
DTSTAMP:20260423T233200Z
DTSTART;TZID=America/Chicago:20250628T130000
DURATION:PT1H15M0S
SUMMARY:[8] CP 6U Comets vs. [11] SM 6U Purple
DESCRIPTION:6u Division Ii - Centex Tournament Series Schedules
LOCATION:RRBL Field 4
CATEGORIES:QuickScores, Baseball Game
TRANSP:OPAQUE
BEGIN:VALARM
TRIGGER:-PT2H
ACTION:DISPLAY
DESCRIPTION:[8] CP 6U Comets vs. [11] SM 6U Purple
END:VALARM
END:VEVENT
BEGIN:VEVENT
UID:centex-69564234-20250628T153000@quickscores.com
DTSTAMP:20260423T233200Z
DTSTART;TZID=America/Chicago:20250628T153000
DURATION:PT1H15M0S
SUMMARY:[4] LV 6U Vikings vs. [8] CP 6U Comets
DESCRIPTION:6u Division Ii - Centex Tournament Series Schedules
LOCATION:RRBL Field 4
CATEGORIES:QuickScores, Baseball Game
TRANSP:OPAQUE
BEGIN:VALARM
TRIGGER:-PT2H
ACTION:DISPLAY
DESCRIPTION:[4] LV 6U Vikings vs. [8] CP 6U Comets
END:VALARM
END:VEVENT
END:VCALENDAR
