BEGIN:VCALENDAR
VERSION:2.0
PRODID:-//QuickScores.com//BQ Dynamic iCal Creator//EN
METHOD:PUBLISH
X-WR-CALNAME:LH 6U Wranglers - 6u Division Ii - CENTEX 2025
X-WR-CALDESC:QuickScores game calendar
X-PUBLISHED-TTL:PT24H
REFRESH-INTERVAL;VALUE=DURATION:PT24H
CALSCALE:GREGORIAN
BEGIN:VTIMEZONE
TZID:America/Chicago
X-LIC-LOCATION:America/Chicago
BEGIN:DAYLIGHT
TZNAME:CDT
TZOFFSETFROM:-0600
TZOFFSETTO:-0500
DTSTART:19700308T020000
RRULE:FREQ=YEARLY;BYMONTH=3;BYDAY=2SU
END:DAYLIGHT
BEGIN:STANDARD
TZNAME:CST
TZOFFSETFROM:-0500
TZOFFSETTO:-0600
DTSTART:19701101T020000
RRULE:FREQ=YEARLY;BYMONTH=11;BYDAY=1SU
END:STANDARD
END:VTIMEZONE
BEGIN:VEVENT
UID:centex-69332050-20250607T174500@quickscores.com
DTSTAMP:20260423T220800Z
DTSTART;TZID=America/Chicago:20250607T174500
DURATION:PT1H15M0S
SUMMARY:LH 6U Wranglers vs. SM 6U Purple
DESCRIPTION:6u Division Ii - Centex Tournament Series Schedules
LOCATION:TC Field 10
CATEGORIES:QuickScores, Baseball Game
TRANSP:OPAQUE
BEGIN:VALARM
TRIGGER:-PT2H
ACTION:DISPLAY
DESCRIPTION:LH 6U Wranglers vs. SM 6U Purple
END:VALARM
END:VEVENT
BEGIN:VEVENT
UID:centex-69332056-20250608T151500@quickscores.com
DTSTAMP:20260423T220800Z
DTSTART;TZID=America/Chicago:20250608T151500
DURATION:PT1H15M0S
SUMMARY:CP 6U Comets vs. LH 6U Wranglers
DESCRIPTION:6u Division Ii - Centex Tournament Series Schedules
LOCATION:TC Field 10
CATEGORIES:QuickScores, Baseball Game
TRANSP:OPAQUE
BEGIN:VALARM
TRIGGER:-PT2H
ACTION:DISPLAY
DESCRIPTION:CP 6U Comets vs. LH 6U Wranglers
END:VALARM
END:VEVENT
BEGIN:VEVENT
UID:centex-69332054-20250608T163000@quickscores.com
DTSTAMP:20260423T220800Z
DTSTART;TZID=America/Chicago:20250608T163000
DURATION:PT1H15M0S
SUMMARY:GT 6U Swamp Dawgs vs. LH 6U Wranglers
DESCRIPTION:6u Division Ii - Centex Tournament Series Schedules
LOCATION:TC Field 10
CATEGORIES:QuickScores, Baseball Game
TRANSP:OPAQUE
BEGIN:VALARM
TRIGGER:-PT2H
ACTION:DISPLAY
DESCRIPTION:GT 6U Swamp Dawgs vs. LH 6U Wranglers
END:VALARM
END:VEVENT
BEGIN:VEVENT
UID:centex-69332072-20250615T101500@quickscores.com
DTSTAMP:20260423T220800Z
DTSTART;TZID=America/Chicago:20250615T101500
DURATION:PT1H15M0S
SUMMARY:TC 6U Rebels vs. LH 6U Wranglers
DESCRIPTION:6u Division Ii - Centex Tournament Series Schedules
LOCATION:OHYSA Small Softball Field
CATEGORIES:QuickScores, Baseball Game
TRANSP:OPAQUE
BEGIN:VALARM
TRIGGER:-PT2H
ACTION:DISPLAY
DESCRIPTION:TC 6U Rebels vs. LH 6U Wranglers
END:VALARM
END:VEVENT
BEGIN:VEVENT
UID:centex-69332076-20250615T113000@quickscores.com
DTSTAMP:20260423T220800Z
DTSTART;TZID=America/Chicago:20250615T113000
DURATION:PT1H15M0S
SUMMARY:LH 6U Wranglers vs. DS 6U Maroon
DESCRIPTION:6u Division Ii - Centex Tournament Series Schedules
LOCATION:OHYSA Small Softball Field
CATEGORIES:QuickScores, Baseball Game
TRANSP:OPAQUE
BEGIN:VALARM
TRIGGER:-PT2H
ACTION:DISPLAY
DESCRIPTION:LH 6U Wranglers vs. DS 6U Maroon
END:VALARM
END:VEVENT
BEGIN:VEVENT
UID:centex-69332034-20250621T141500@quickscores.com
DTSTAMP:20260423T220800Z
DTSTART;TZID=America/Chicago:20250621T141500
DURATION:PT1H15M0S
SUMMARY:LH 6U Wranglers vs. MO 6U Silver Wolfpack
DESCRIPTION:6u Division Ii - Centex Tournament Series Schedules
LOCATION:CPYL Catalina
CATEGORIES:QuickScores, Baseball Game
TRANSP:OPAQUE
BEGIN:VALARM
TRIGGER:-PT2H
ACTION:DISPLAY
DESCRIPTION:LH 6U Wranglers vs. MO 6U Silver Wolfpack
END:VALARM
END:VEVENT
BEGIN:VEVENT
UID:centex-69332029-20250621T153000@quickscores.com
DTSTAMP:20260423T220800Z
DTSTART;TZID=America/Chicago:20250621T153000
DURATION:PT1H15M0S
SUMMARY:LH 6U Wranglers vs. LT 6U Bombers
DESCRIPTION:6u Division Ii - Centex Tournament Series Schedules
LOCATION:CPYL Catalina
CATEGORIES:QuickScores, Baseball Game
TRANSP:OPAQUE
BEGIN:VALARM
TRIGGER:-PT2H
ACTION:DISPLAY
DESCRIPTION:LH 6U Wranglers vs. LT 6U Bombers
END:VALARM
END:VEVENT
BEGIN:VEVENT
UID:centex-69332066-20250622T080000@quickscores.com
DTSTAMP:20260423T220800Z
DTSTART;TZID=America/Chicago:20250622T080000
DURATION:PT1H0M0S
SUMMARY:LV 6U Vikings vs. LH 6U Wranglers
DESCRIPTION:6u Division Ii - Centex Tournament Series Schedules
LOCATION:CPYL Catalina
CATEGORIES:QuickScores, Baseball Game
TRANSP:OPAQUE
BEGIN:VALARM
TRIGGER:-PT2H
ACTION:DISPLAY
DESCRIPTION:LV 6U Vikings vs. LH 6U Wranglers
END:VALARM
END:VEVENT
BEGIN:VEVENT
UID:centex-69332038-20250622T101500@quickscores.com
DTSTAMP:20260423T220800Z
DTSTART;TZID=America/Chicago:20250622T101500
DURATION:PT1H15M0S
SUMMARY:OH 6U Gold vs. LH 6U Wranglers
DESCRIPTION:6u Division Ii - Centex Tournament Series Schedules
LOCATION:CPYL Catalina
CATEGORIES:QuickScores, Baseball Game
TRANSP:OPAQUE
BEGIN:VALARM
TRIGGER:-PT2H
ACTION:DISPLAY
DESCRIPTION:OH 6U Gold vs. LH 6U Wranglers
END:VALARM
END:VEVENT
BEGIN:VEVENT
UID:centex-69564216-20250628T080000@quickscores.com
DTSTAMP:20260423T220800Z
DTSTART;TZID=America/Chicago:20250628T080000
DURATION:PT1H15M0S
SUMMARY:[7] LH 6U Wranglers vs. [10] RR 6U Diamond Dawgs
DESCRIPTION:6u Division Ii - Centex Tournament Series Schedules
LOCATION:RRBL Field 4
CATEGORIES:QuickScores, Baseball Game
TRANSP:OPAQUE
BEGIN:VALARM
TRIGGER:-PT2H
ACTION:DISPLAY
DESCRIPTION:[7] LH 6U Wranglers vs. [10] RR 6U Diamond Dawgs
END:VALARM
END:VEVENT
BEGIN:VEVENT
UID:centex-69564221-20250628T103000@quickscores.com
DTSTAMP:20260423T220800Z
DTSTART;TZID=America/Chicago:20250628T103000
DURATION:PT1H15M0S
SUMMARY:[2] GT 6U Swamp Dawgs vs. [7] LH 6U Wranglers
DESCRIPTION:6u Division Ii - Centex Tournament Series Schedules
LOCATION:RRBL Field 4
CATEGORIES:QuickScores, Baseball Game
TRANSP:OPAQUE
BEGIN:VALARM
TRIGGER:-PT2H
ACTION:DISPLAY
DESCRIPTION:[2] GT 6U Swamp Dawgs vs. [7] LH 6U Wranglers
END:VALARM
END:VEVENT
BEGIN:VEVENT
UID:centex-69564233-20250628T153000@quickscores.com
DTSTAMP:20260423T220800Z
DTSTART;TZID=America/Chicago:20250628T153000
DURATION:PT1H15M0S
SUMMARY:[6] MO 6U Silver Wolfpack vs. [7] LH 6U Wranglers
DESCRIPTION:6u Division Ii - Centex Tournament Series Schedules
LOCATION:RRBL Field 3
CATEGORIES:QuickScores, Baseball Game
TRANSP:OPAQUE
BEGIN:VALARM
TRIGGER:-PT2H
ACTION:DISPLAY
DESCRIPTION:[6] MO 6U Silver Wolfpack vs. [7] LH 6U Wranglers
END:VALARM
END:VEVENT
BEGIN:VEVENT
UID:centex-69564235-20250628T164500@quickscores.com
DTSTAMP:20260423T220800Z
DTSTART;TZID=America/Chicago:20250628T164500
DURATION:PT1H15M0S
SUMMARY:[5] DS 6U Maroon vs. [7] LH 6U Wranglers
DESCRIPTION:6u Division Ii - Centex Tournament Series Schedules
LOCATION:RRBL Field 3
CATEGORIES:QuickScores, Baseball Game
TRANSP:OPAQUE
BEGIN:VALARM
TRIGGER:-PT2H
ACTION:DISPLAY
DESCRIPTION:[5] DS 6U Maroon vs. [7] LH 6U Wranglers
END:VALARM
END:VEVENT
END:VCALENDAR
