BEGIN:VCALENDAR
VERSION:2.0
PRODID:-//QuickScores.com//BQ Dynamic iCal Creator//EN
METHOD:PUBLISH
X-WR-CALNAME:SM 6U Purple - 6u Division Ii - CENTEX 2025
X-WR-CALDESC:QuickScores game calendar
X-PUBLISHED-TTL:PT24H
REFRESH-INTERVAL;VALUE=DURATION:PT24H
CALSCALE:GREGORIAN
BEGIN:VTIMEZONE
TZID:America/Chicago
X-LIC-LOCATION:America/Chicago
BEGIN:DAYLIGHT
TZNAME:CDT
TZOFFSETFROM:-0600
TZOFFSETTO:-0500
DTSTART:19700308T020000
RRULE:FREQ=YEARLY;BYMONTH=3;BYDAY=2SU
END:DAYLIGHT
BEGIN:STANDARD
TZNAME:CST
TZOFFSETFROM:-0500
TZOFFSETTO:-0600
DTSTART:19701101T020000
RRULE:FREQ=YEARLY;BYMONTH=11;BYDAY=1SU
END:STANDARD
END:VTIMEZONE
BEGIN:VEVENT
UID:centex-69332047-20250607T163000@quickscores.com
DTSTAMP:20260423T220900Z
DTSTART;TZID=America/Chicago:20250607T163000
DURATION:PT1H15M0S
SUMMARY:OH 6U Gold vs. SM 6U Purple
DESCRIPTION:6u Division Ii - Centex Tournament Series Schedules
LOCATION:TC Field 10
CATEGORIES:QuickScores, Baseball Game
TRANSP:OPAQUE
BEGIN:VALARM
TRIGGER:-PT2H
ACTION:DISPLAY
DESCRIPTION:OH 6U Gold vs. SM 6U Purple
END:VALARM
END:VEVENT
BEGIN:VEVENT
UID:centex-69332050-20250607T174500@quickscores.com
DTSTAMP:20260423T220900Z
DTSTART;TZID=America/Chicago:20250607T174500
DURATION:PT1H15M0S
SUMMARY:LH 6U Wranglers vs. SM 6U Purple
DESCRIPTION:6u Division Ii - Centex Tournament Series Schedules
LOCATION:TC Field 10
CATEGORIES:QuickScores, Baseball Game
TRANSP:OPAQUE
BEGIN:VALARM
TRIGGER:-PT2H
ACTION:DISPLAY
DESCRIPTION:LH 6U Wranglers vs. SM 6U Purple
END:VALARM
END:VEVENT
BEGIN:VEVENT
UID:centex-69332057-20250608T113000@quickscores.com
DTSTAMP:20260423T220900Z
DTSTART;TZID=America/Chicago:20250608T113000
DURATION:PT1H15M0S
SUMMARY:TC 6U Rebels vs. SM 6U Purple
DESCRIPTION:6u Division Ii - Centex Tournament Series Schedules
LOCATION:TC Field 10
CATEGORIES:QuickScores, Baseball Game
TRANSP:OPAQUE
BEGIN:VALARM
TRIGGER:-PT2H
ACTION:DISPLAY
DESCRIPTION:TC 6U Rebels vs. SM 6U Purple
END:VALARM
END:VEVENT
BEGIN:VEVENT
UID:centex-69332064-20250614T101500@quickscores.com
DTSTAMP:20260423T220900Z
DTSTART;TZID=America/Chicago:20250614T101500
DURATION:PT1H15M0S
SUMMARY:DS 6U Maroon vs. SM 6U Purple
DESCRIPTION:6u Division Ii - Centex Tournament Series Schedules
LOCATION:OHYSA Small Softball Field
CATEGORIES:QuickScores, Baseball Game
TRANSP:OPAQUE
BEGIN:VALARM
TRIGGER:-PT2H
ACTION:DISPLAY
DESCRIPTION:DS 6U Maroon vs. SM 6U Purple
END:VALARM
END:VEVENT
BEGIN:VEVENT
UID:centex-69332067-20250614T124500@quickscores.com
DTSTAMP:20260423T220900Z
DTSTART;TZID=America/Chicago:20250614T124500
DURATION:PT1H15M0S
SUMMARY:SM 6U Purple vs. CP 6U Comets
DESCRIPTION:6u Division Ii - Centex Tournament Series Schedules
LOCATION:OHYSA Small Softball Field
CATEGORIES:QuickScores, Baseball Game
TRANSP:OPAQUE
BEGIN:VALARM
TRIGGER:-PT2H
ACTION:DISPLAY
DESCRIPTION:SM 6U Purple vs. CP 6U Comets
END:VALARM
END:VEVENT
BEGIN:VEVENT
UID:centex-69332078-20250615T090000@quickscores.com
DTSTAMP:20260423T220900Z
DTSTART;TZID=America/Chicago:20250615T090000
DURATION:PT1H15M0S
SUMMARY:SM 6U Purple vs. LT 6U Bombers
DESCRIPTION:6u Division Ii - Centex Tournament Series Schedules
LOCATION:OHYSA Small Softball Field
CATEGORIES:QuickScores, Baseball Game
TRANSP:OPAQUE
BEGIN:VALARM
TRIGGER:-PT2H
ACTION:DISPLAY
DESCRIPTION:SM 6U Purple vs. LT 6U Bombers
END:VALARM
END:VEVENT
BEGIN:VEVENT
UID:centex-69332031-20250621T180000@quickscores.com
DTSTAMP:20260423T220900Z
DTSTART;TZID=America/Chicago:20250621T180000
DURATION:PT1H15M0S
SUMMARY:SM 6U Purple vs. GT 6U Swamp Dawgs
DESCRIPTION:6u Division Ii - Centex Tournament Series Schedules
LOCATION:CPYL Catalina
CATEGORIES:QuickScores, Baseball Game
TRANSP:OPAQUE
BEGIN:VALARM
TRIGGER:-PT2H
ACTION:DISPLAY
DESCRIPTION:SM 6U Purple vs. GT 6U Swamp Dawgs
END:VALARM
END:VEVENT
BEGIN:VEVENT
UID:centex-69332044-20250622T113000@quickscores.com
DTSTAMP:20260423T220900Z
DTSTART;TZID=America/Chicago:20250622T113000
DURATION:PT1H15M0S
SUMMARY:SM 6U Purple vs. RR 6U Diamond Dawgs
DESCRIPTION:6u Division Ii - Centex Tournament Series Schedules
LOCATION:CPYL Catalina
CATEGORIES:QuickScores, Baseball Game
TRANSP:OPAQUE
BEGIN:VALARM
TRIGGER:-PT2H
ACTION:DISPLAY
DESCRIPTION:SM 6U Purple vs. RR 6U Diamond Dawgs
END:VALARM
END:VEVENT
BEGIN:VEVENT
UID:centex-69332037-20250622T140000@quickscores.com
DTSTAMP:20260423T220900Z
DTSTART;TZID=America/Chicago:20250622T140000
DURATION:PT1H15M0S
SUMMARY:MO 6U Silver Wolfpack vs. SM 6U Purple
DESCRIPTION:6u Division Ii - Centex Tournament Series Schedules
LOCATION:CPYL Catalina
CATEGORIES:QuickScores, Baseball Game
TRANSP:OPAQUE
BEGIN:VALARM
TRIGGER:-PT2H
ACTION:DISPLAY
DESCRIPTION:MO 6U Silver Wolfpack vs. SM 6U Purple
END:VALARM
END:VEVENT
BEGIN:VEVENT
UID:centex-69564218-20250628T091500@quickscores.com
DTSTAMP:20260423T220900Z
DTSTART;TZID=America/Chicago:20250628T091500
DURATION:PT1H15M0S
SUMMARY:[6] MO 6U Silver Wolfpack vs. [11] SM 6U Purple
DESCRIPTION:6u Division Ii - Centex Tournament Series Schedules
LOCATION:RRBL Field 3
CATEGORIES:QuickScores, Baseball Game
TRANSP:OPAQUE
BEGIN:VALARM
TRIGGER:-PT2H
ACTION:DISPLAY
DESCRIPTION:[6] MO 6U Silver Wolfpack vs. [11] SM 6U Purple
END:VALARM
END:VEVENT
BEGIN:VEVENT
UID:centex-69564230-20250628T130000@quickscores.com
DTSTAMP:20260423T220900Z
DTSTART;TZID=America/Chicago:20250628T130000
DURATION:PT1H15M0S
SUMMARY:[8] CP 6U Comets vs. [11] SM 6U Purple
DESCRIPTION:6u Division Ii - Centex Tournament Series Schedules
LOCATION:RRBL Field 4
CATEGORIES:QuickScores, Baseball Game
TRANSP:OPAQUE
BEGIN:VALARM
TRIGGER:-PT2H
ACTION:DISPLAY
DESCRIPTION:[8] CP 6U Comets vs. [11] SM 6U Purple
END:VALARM
END:VEVENT
END:VCALENDAR
