BEGIN:VCALENDAR
VERSION:2.0
PRODID:-//QuickScores.com//BQ Dynamic iCal Creator//EN
METHOD:PUBLISH
X-WR-CALNAME:Country Christian Cristofolo - #12 Junior National - Spring 2026
X-WR-CALDESC:QuickScores game calendar
X-PUBLISHED-TTL:PT24H
REFRESH-INTERVAL;VALUE=DURATION:PT24H
CALSCALE:GREGORIAN
BEGIN:VTIMEZONE
TZID:America/Los_Angeles
X-LIC-LOCATION:America/Los_Angeles
BEGIN:DAYLIGHT
TZNAME:PDT
TZOFFSETFROM:-0800
TZOFFSETTO:-0700
DTSTART:19700308T020000
RRULE:FREQ=YEARLY;BYMONTH=3;BYDAY=2SU
END:DAYLIGHT
BEGIN:STANDARD
TZNAME:PST
TZOFFSETFROM:-0700
TZOFFSETTO:-0800
DTSTART:19701101T020000
RRULE:FREQ=YEARLY;BYMONTH=11;BYDAY=1SU
END:STANDARD
END:VTIMEZONE
BEGIN:VEVENT
UID:ccjba-74367030-20260505T180000@quickscores.com
DTSTAMP:20260425T083700Z
DTSTART;TZID=America/Los_Angeles:20260505T180000
DURATION:PT1H0M0S
SUMMARY:McNary Lohrman vs. Country Christian Cristofolo
DESCRIPTION:#12 Junior National - Clackamas County Junior Baseball
LOCATION:TBD
CATEGORIES:QuickScores, Baseball Game
TRANSP:OPAQUE
BEGIN:VALARM
TRIGGER:-PT2H
ACTION:DISPLAY
DESCRIPTION:McNary Lohrman vs. Country Christian Cristofolo
END:VALARM
END:VEVENT
BEGIN:VEVENT
UID:ccjba-74367035-20260507T180000@quickscores.com
DTSTAMP:20260425T083700Z
DTSTART;TZID=America/Los_Angeles:20260507T180000
DURATION:PT1H0M0S
SUMMARY:Country Christian Cristofolo vs. St Paul Kirsch
DESCRIPTION:#12 Junior National - Clackamas County Junior Baseball
LOCATION:TBD
CATEGORIES:QuickScores, Baseball Game
TRANSP:OPAQUE
BEGIN:VALARM
TRIGGER:-PT2H
ACTION:DISPLAY
DESCRIPTION:Country Christian Cristofolo vs. St Paul Kirsch
END:VALARM
END:VEVENT
BEGIN:VEVENT
UID:ccjba-74367038-20260512T180000@quickscores.com
DTSTAMP:20260425T083700Z
DTSTART;TZID=America/Los_Angeles:20260512T180000
DURATION:PT1H0M0S
SUMMARY:Woodburn Williams vs. Country Christian Cristofolo
DESCRIPTION:#12 Junior National - Clackamas County Junior Baseball
LOCATION:TBD
CATEGORIES:QuickScores, Baseball Game
TRANSP:OPAQUE
BEGIN:VALARM
TRIGGER:-PT2H
ACTION:DISPLAY
DESCRIPTION:Woodburn Williams vs. Country Christian Cristofolo
END:VALARM
END:VEVENT
BEGIN:VEVENT
UID:ccjba-74367043-20260514T180000@quickscores.com
DTSTAMP:20260425T083700Z
DTSTART;TZID=America/Los_Angeles:20260514T180000
DURATION:PT1H0M0S
SUMMARY:Country Christian Cristofolo vs. Molalla Shultz
DESCRIPTION:#12 Junior National - Clackamas County Junior Baseball
LOCATION:TBD
CATEGORIES:QuickScores, Baseball Game
TRANSP:OPAQUE
BEGIN:VALARM
TRIGGER:-PT2H
ACTION:DISPLAY
DESCRIPTION:Country Christian Cristofolo vs. Molalla Shultz
END:VALARM
END:VEVENT
BEGIN:VEVENT
UID:ccjba-74367044-20260519T180000@quickscores.com
DTSTAMP:20260425T083700Z
DTSTART;TZID=America/Los_Angeles:20260519T180000
DURATION:PT1H0M0S
SUMMARY:Country Christian Cristofolo vs. Canby DeCoste
DESCRIPTION:#12 Junior National - Clackamas County Junior Baseball
LOCATION:TBD
CATEGORIES:QuickScores, Baseball Game
TRANSP:OPAQUE
BEGIN:VALARM
TRIGGER:-PT2H
ACTION:DISPLAY
DESCRIPTION:Country Christian Cristofolo vs. Canby DeCoste
END:VALARM
END:VEVENT
BEGIN:VEVENT
UID:ccjba-74367049-20260521T180000@quickscores.com
DTSTAMP:20260425T083700Z
DTSTART;TZID=America/Los_Angeles:20260521T180000
DURATION:PT1H0M0S
SUMMARY:Country Christian Cristofolo vs. West Linn Eller
DESCRIPTION:#12 Junior National - Clackamas County Junior Baseball
LOCATION:TBD
CATEGORIES:QuickScores, Baseball Game
TRANSP:OPAQUE
BEGIN:VALARM
TRIGGER:-PT2H
ACTION:DISPLAY
DESCRIPTION:Country Christian Cristofolo vs. West Linn Eller
END:VALARM
END:VEVENT
BEGIN:VEVENT
UID:ccjba-74367054-20260526T180000@quickscores.com
DTSTAMP:20260425T083700Z
DTSTART;TZID=America/Los_Angeles:20260526T180000
DURATION:PT1H0M0S
SUMMARY:Mt Angel Stover vs. Country Christian Cristofolo
DESCRIPTION:#12 Junior National - Clackamas County Junior Baseball
LOCATION:TBD
CATEGORIES:QuickScores, Baseball Game
TRANSP:OPAQUE
BEGIN:VALARM
TRIGGER:-PT2H
ACTION:DISPLAY
DESCRIPTION:Mt Angel Stover vs. Country Christian Cristofolo
END:VALARM
END:VEVENT
BEGIN:VEVENT
UID:ccjba-74367058-20260528T180000@quickscores.com
DTSTAMP:20260425T083700Z
DTSTART;TZID=America/Los_Angeles:20260528T180000
DURATION:PT1H0M0S
SUMMARY:Country Christian Cristofolo vs. McNary Lohrman
DESCRIPTION:#12 Junior National - Clackamas County Junior Baseball
LOCATION:TBD
CATEGORIES:QuickScores, Baseball Game
TRANSP:OPAQUE
BEGIN:VALARM
TRIGGER:-PT2H
ACTION:DISPLAY
DESCRIPTION:Country Christian Cristofolo vs. McNary Lohrman
END:VALARM
END:VEVENT
BEGIN:VEVENT
UID:ccjba-74367061-20260602T180000@quickscores.com
DTSTAMP:20260425T083700Z
DTSTART;TZID=America/Los_Angeles:20260602T180000
DURATION:PT1H0M0S
SUMMARY:West Linn Eller vs. Country Christian Cristofolo
DESCRIPTION:#12 Junior National - Clackamas County Junior Baseball
LOCATION:TBD
CATEGORIES:QuickScores, Baseball Game
TRANSP:OPAQUE
BEGIN:VALARM
TRIGGER:-PT2H
ACTION:DISPLAY
DESCRIPTION:West Linn Eller vs. Country Christian Cristofolo
END:VALARM
END:VEVENT
BEGIN:VEVENT
UID:ccjba-74367066-20260604T180000@quickscores.com
DTSTAMP:20260425T083700Z
DTSTART;TZID=America/Los_Angeles:20260604T180000
DURATION:PT1H0M0S
SUMMARY:Country Christian Cristofolo vs. Woodburn Williams
DESCRIPTION:#12 Junior National - Clackamas County Junior Baseball
LOCATION:TBD
CATEGORIES:QuickScores, Baseball Game
TRANSP:OPAQUE
BEGIN:VALARM
TRIGGER:-PT2H
ACTION:DISPLAY
DESCRIPTION:Country Christian Cristofolo vs. Woodburn Williams
END:VALARM
END:VEVENT
BEGIN:VEVENT
UID:ccjba-74367070-20260609T180000@quickscores.com
DTSTAMP:20260425T083700Z
DTSTART;TZID=America/Los_Angeles:20260609T180000
DURATION:PT1H0M0S
SUMMARY:Molalla Shultz vs. Country Christian Cristofolo
DESCRIPTION:#12 Junior National - Clackamas County Junior Baseball
LOCATION:TBD
CATEGORIES:QuickScores, Baseball Game
TRANSP:OPAQUE
BEGIN:VALARM
TRIGGER:-PT2H
ACTION:DISPLAY
DESCRIPTION:Molalla Shultz vs. Country Christian Cristofolo
END:VALARM
END:VEVENT
BEGIN:VEVENT
UID:ccjba-74367072-20260611T180000@quickscores.com
DTSTAMP:20260425T083700Z
DTSTART;TZID=America/Los_Angeles:20260611T180000
DURATION:PT1H0M0S
SUMMARY:Canby DeCoste vs. Country Christian Cristofolo
DESCRIPTION:#12 Junior National - Clackamas County Junior Baseball
LOCATION:TBD
CATEGORIES:QuickScores, Baseball Game
TRANSP:OPAQUE
BEGIN:VALARM
TRIGGER:-PT2H
ACTION:DISPLAY
DESCRIPTION:Canby DeCoste vs. Country Christian Cristofolo
END:VALARM
END:VEVENT
BEGIN:VEVENT
UID:ccjba-74367078-20260616T180000@quickscores.com
DTSTAMP:20260425T083700Z
DTSTART;TZID=America/Los_Angeles:20260616T180000
DURATION:PT1H0M0S
SUMMARY:St Paul Kirsch vs. Country Christian Cristofolo
DESCRIPTION:#12 Junior National - Clackamas County Junior Baseball
LOCATION:TBD
CATEGORIES:QuickScores, Baseball Game
TRANSP:OPAQUE
BEGIN:VALARM
TRIGGER:-PT2H
ACTION:DISPLAY
DESCRIPTION:St Paul Kirsch vs. Country Christian Cristofolo
END:VALARM
END:VEVENT
BEGIN:VEVENT
UID:ccjba-74367080-20260618T180000@quickscores.com
DTSTAMP:20260425T083700Z
DTSTART;TZID=America/Los_Angeles:20260618T180000
DURATION:PT1H0M0S
SUMMARY:Country Christian Cristofolo vs. Mt Angel Stover
DESCRIPTION:#12 Junior National - Clackamas County Junior Baseball
LOCATION:TBD
CATEGORIES:QuickScores, Baseball Game
TRANSP:OPAQUE
BEGIN:VALARM
TRIGGER:-PT2H
ACTION:DISPLAY
DESCRIPTION:Country Christian Cristofolo vs. Mt Angel Stover
END:VALARM
END:VEVENT
BEGIN:VEVENT
UID:ccjba-74367084-20260623T180000@quickscores.com
DTSTAMP:20260425T083700Z
DTSTART;TZID=America/Los_Angeles:20260623T180000
DURATION:PT1H0M0S
SUMMARY:Country Christian Cristofolo vs. Molalla Shultz
DESCRIPTION:#12 Junior National - Clackamas County Junior Baseball
LOCATION:TBD
CATEGORIES:QuickScores, Baseball Game
TRANSP:OPAQUE
BEGIN:VALARM
TRIGGER:-PT2H
ACTION:DISPLAY
DESCRIPTION:Country Christian Cristofolo vs. Molalla Shultz
END:VALARM
END:VEVENT
BEGIN:VEVENT
UID:ccjba-74367089-20260625T180000@quickscores.com
DTSTAMP:20260425T083700Z
DTSTART;TZID=America/Los_Angeles:20260625T180000
DURATION:PT1H0M0S
SUMMARY:Canby DeCoste vs. Country Christian Cristofolo
DESCRIPTION:#12 Junior National - Clackamas County Junior Baseball
LOCATION:TBD
CATEGORIES:QuickScores, Baseball Game
TRANSP:OPAQUE
BEGIN:VALARM
TRIGGER:-PT2H
ACTION:DISPLAY
DESCRIPTION:Canby DeCoste vs. Country Christian Cristofolo
END:VALARM
END:VEVENT
END:VCALENDAR
