BEGIN:VCALENDAR
VERSION:2.0
PRODID:-//QuickScores.com//BQ Dynamic iCal Creator//EN
METHOD:PUBLISH
X-WR-CALNAME:Molalla Vidourek - #5 Minor National - Spring 2026
X-WR-CALDESC:QuickScores game calendar
X-PUBLISHED-TTL:PT24H
REFRESH-INTERVAL;VALUE=DURATION:PT24H
CALSCALE:GREGORIAN
BEGIN:VTIMEZONE
TZID:America/Los_Angeles
X-LIC-LOCATION:America/Los_Angeles
BEGIN:DAYLIGHT
TZNAME:PDT
TZOFFSETFROM:-0800
TZOFFSETTO:-0700
DTSTART:19700308T020000
RRULE:FREQ=YEARLY;BYMONTH=3;BYDAY=2SU
END:DAYLIGHT
BEGIN:STANDARD
TZNAME:PST
TZOFFSETFROM:-0700
TZOFFSETTO:-0800
DTSTART:19701101T020000
RRULE:FREQ=YEARLY;BYMONTH=11;BYDAY=1SU
END:STANDARD
END:VTIMEZONE
BEGIN:VEVENT
UID:ccjba-74366913-20260505T180000@quickscores.com
DTSTAMP:20260420T215700Z
DTSTART;TZID=America/Los_Angeles:20260505T180000
DURATION:PT1H0M0S
SUMMARY:Molalla Vidourek vs. Canby Hill
DESCRIPTION:#5 Minor National - Clackamas County Junior Baseball
LOCATION:TBD
CATEGORIES:QuickScores, Baseball Game
TRANSP:OPAQUE
BEGIN:VALARM
TRIGGER:-PT2H
ACTION:DISPLAY
DESCRIPTION:Molalla Vidourek vs. Canby Hill
END:VALARM
END:VEVENT
BEGIN:VEVENT
UID:ccjba-74366916-20260507T180000@quickscores.com
DTSTAMP:20260420T215700Z
DTSTART;TZID=America/Los_Angeles:20260507T180000
DURATION:PT1H0M0S
SUMMARY:Molalla Vidourek vs. Woodburn Coon*
DESCRIPTION:#5 Minor National - Clackamas County Junior Baseball
LOCATION:TBD
CATEGORIES:QuickScores, Baseball Game
TRANSP:OPAQUE
BEGIN:VALARM
TRIGGER:-PT2H
ACTION:DISPLAY
DESCRIPTION:Molalla Vidourek vs. Woodburn Coon*
END:VALARM
END:VEVENT
BEGIN:VEVENT
UID:ccjba-74366919-20260512T180000@quickscores.com
DTSTAMP:20260420T215700Z
DTSTART;TZID=America/Los_Angeles:20260512T180000
DURATION:PT1H0M0S
SUMMARY:Molalla Vidourek vs. Canby Hill
DESCRIPTION:#5 Minor National - Clackamas County Junior Baseball
LOCATION:TBD
CATEGORIES:QuickScores, Baseball Game
TRANSP:OPAQUE
BEGIN:VALARM
TRIGGER:-PT2H
ACTION:DISPLAY
DESCRIPTION:Molalla Vidourek vs. Canby Hill
END:VALARM
END:VEVENT
BEGIN:VEVENT
UID:ccjba-74366920-20260514T180000@quickscores.com
DTSTAMP:20260420T215700Z
DTSTART;TZID=America/Los_Angeles:20260514T180000
DURATION:PT1H0M0S
SUMMARY:Oregon City Fjelstad vs. Molalla Vidourek
DESCRIPTION:#5 Minor National - Clackamas County Junior Baseball
LOCATION:TBD
CATEGORIES:QuickScores, Baseball Game
TRANSP:OPAQUE
BEGIN:VALARM
TRIGGER:-PT2H
ACTION:DISPLAY
DESCRIPTION:Oregon City Fjelstad vs. Molalla Vidourek
END:VALARM
END:VEVENT
BEGIN:VEVENT
UID:ccjba-74366925-20260519T180000@quickscores.com
DTSTAMP:20260420T215700Z
DTSTART;TZID=America/Los_Angeles:20260519T180000
DURATION:PT1H0M0S
SUMMARY:Molalla Vidourek vs. Woodburn Coon*
DESCRIPTION:#5 Minor National - Clackamas County Junior Baseball
LOCATION:TBD
CATEGORIES:QuickScores, Baseball Game
TRANSP:OPAQUE
BEGIN:VALARM
TRIGGER:-PT2H
ACTION:DISPLAY
DESCRIPTION:Molalla Vidourek vs. Woodburn Coon*
END:VALARM
END:VEVENT
BEGIN:VEVENT
UID:ccjba-74366926-20260521T180000@quickscores.com
DTSTAMP:20260420T215700Z
DTSTART;TZID=America/Los_Angeles:20260521T180000
DURATION:PT1H0M0S
SUMMARY:Oregon City Fjelstad vs. Molalla Vidourek
DESCRIPTION:#5 Minor National - Clackamas County Junior Baseball
LOCATION:TBD
CATEGORIES:QuickScores, Baseball Game
TRANSP:OPAQUE
BEGIN:VALARM
TRIGGER:-PT2H
ACTION:DISPLAY
DESCRIPTION:Oregon City Fjelstad vs. Molalla Vidourek
END:VALARM
END:VEVENT
BEGIN:VEVENT
UID:ccjba-74366930-20260526T180000@quickscores.com
DTSTAMP:20260420T215700Z
DTSTART;TZID=America/Los_Angeles:20260526T180000
DURATION:PT1H0M0S
SUMMARY:West Linn Day vs. Molalla Vidourek
DESCRIPTION:#5 Minor National - Clackamas County Junior Baseball
LOCATION:TBD
CATEGORIES:QuickScores, Baseball Game
TRANSP:OPAQUE
BEGIN:VALARM
TRIGGER:-PT2H
ACTION:DISPLAY
DESCRIPTION:West Linn Day vs. Molalla Vidourek
END:VALARM
END:VEVENT
BEGIN:VEVENT
UID:ccjba-74366934-20260528T180000@quickscores.com
DTSTAMP:20260420T215700Z
DTSTART;TZID=America/Los_Angeles:20260528T180000
DURATION:PT1H0M0S
SUMMARY:Molalla Vidourek vs. McNary Kottek
DESCRIPTION:#5 Minor National - Clackamas County Junior Baseball
LOCATION:TBD
CATEGORIES:QuickScores, Baseball Game
TRANSP:OPAQUE
BEGIN:VALARM
TRIGGER:-PT2H
ACTION:DISPLAY
DESCRIPTION:Molalla Vidourek vs. McNary Kottek
END:VALARM
END:VEVENT
BEGIN:VEVENT
UID:ccjba-74366935-20260602T180000@quickscores.com
DTSTAMP:20260420T215700Z
DTSTART;TZID=America/Los_Angeles:20260602T180000
DURATION:PT1H0M0S
SUMMARY:Molalla Vidourek vs. Oregon City Fjelstad
DESCRIPTION:#5 Minor National - Clackamas County Junior Baseball
LOCATION:TBD
CATEGORIES:QuickScores, Baseball Game
TRANSP:OPAQUE
BEGIN:VALARM
TRIGGER:-PT2H
ACTION:DISPLAY
DESCRIPTION:Molalla Vidourek vs. Oregon City Fjelstad
END:VALARM
END:VEVENT
BEGIN:VEVENT
UID:ccjba-74366940-20260604T180000@quickscores.com
DTSTAMP:20260420T215700Z
DTSTART;TZID=America/Los_Angeles:20260604T180000
DURATION:PT1H0M0S
SUMMARY:Canby Hill vs. Molalla Vidourek
DESCRIPTION:#5 Minor National - Clackamas County Junior Baseball
LOCATION:TBD
CATEGORIES:QuickScores, Baseball Game
TRANSP:OPAQUE
BEGIN:VALARM
TRIGGER:-PT2H
ACTION:DISPLAY
DESCRIPTION:Canby Hill vs. Molalla Vidourek
END:VALARM
END:VEVENT
BEGIN:VEVENT
UID:ccjba-74366941-20260609T180000@quickscores.com
DTSTAMP:20260420T215700Z
DTSTART;TZID=America/Los_Angeles:20260609T180000
DURATION:PT1H0M0S
SUMMARY:McNary Kottek vs. Molalla Vidourek
DESCRIPTION:#5 Minor National - Clackamas County Junior Baseball
LOCATION:TBD
CATEGORIES:QuickScores, Baseball Game
TRANSP:OPAQUE
BEGIN:VALARM
TRIGGER:-PT2H
ACTION:DISPLAY
DESCRIPTION:McNary Kottek vs. Molalla Vidourek
END:VALARM
END:VEVENT
BEGIN:VEVENT
UID:ccjba-74366945-20260611T180000@quickscores.com
DTSTAMP:20260420T215700Z
DTSTART;TZID=America/Los_Angeles:20260611T180000
DURATION:PT1H0M0S
SUMMARY:Woodburn Coon* vs. Molalla Vidourek
DESCRIPTION:#5 Minor National - Clackamas County Junior Baseball
LOCATION:TBD
CATEGORIES:QuickScores, Baseball Game
TRANSP:OPAQUE
BEGIN:VALARM
TRIGGER:-PT2H
ACTION:DISPLAY
DESCRIPTION:Woodburn Coon* vs. Molalla Vidourek
END:VALARM
END:VEVENT
BEGIN:VEVENT
UID:ccjba-74366947-20260616T180000@quickscores.com
DTSTAMP:20260420T215700Z
DTSTART;TZID=America/Los_Angeles:20260616T180000
DURATION:PT1H0M0S
SUMMARY:West Linn Day vs. Molalla Vidourek
DESCRIPTION:#5 Minor National - Clackamas County Junior Baseball
LOCATION:TBD
CATEGORIES:QuickScores, Baseball Game
TRANSP:OPAQUE
BEGIN:VALARM
TRIGGER:-PT2H
ACTION:DISPLAY
DESCRIPTION:West Linn Day vs. Molalla Vidourek
END:VALARM
END:VEVENT
BEGIN:VEVENT
UID:ccjba-74366950-20260618T180000@quickscores.com
DTSTAMP:20260420T215700Z
DTSTART;TZID=America/Los_Angeles:20260618T180000
DURATION:PT1H0M0S
SUMMARY:Molalla Vidourek vs. West Linn Day
DESCRIPTION:#5 Minor National - Clackamas County Junior Baseball
LOCATION:TBD
CATEGORIES:QuickScores, Baseball Game
TRANSP:OPAQUE
BEGIN:VALARM
TRIGGER:-PT2H
ACTION:DISPLAY
DESCRIPTION:Molalla Vidourek vs. West Linn Day
END:VALARM
END:VEVENT
BEGIN:VEVENT
UID:ccjba-74366955-20260623T180000@quickscores.com
DTSTAMP:20260420T215700Z
DTSTART;TZID=America/Los_Angeles:20260623T180000
DURATION:PT1H0M0S
SUMMARY:McNary Kottek vs. Molalla Vidourek
DESCRIPTION:#5 Minor National - Clackamas County Junior Baseball
LOCATION:TBD
CATEGORIES:QuickScores, Baseball Game
TRANSP:OPAQUE
BEGIN:VALARM
TRIGGER:-PT2H
ACTION:DISPLAY
DESCRIPTION:McNary Kottek vs. Molalla Vidourek
END:VALARM
END:VEVENT
BEGIN:VEVENT
UID:ccjba-74366958-20260625T180000@quickscores.com
DTSTAMP:20260420T215700Z
DTSTART;TZID=America/Los_Angeles:20260625T180000
DURATION:PT1H0M0S
SUMMARY:Molalla Vidourek vs. Canby Hill
DESCRIPTION:#5 Minor National - Clackamas County Junior Baseball
LOCATION:TBD
CATEGORIES:QuickScores, Baseball Game
TRANSP:OPAQUE
BEGIN:VALARM
TRIGGER:-PT2H
ACTION:DISPLAY
DESCRIPTION:Molalla Vidourek vs. Canby Hill
END:VALARM
END:VEVENT
END:VCALENDAR
