BEGIN:VCALENDAR
VERSION:2.0
PRODID:-//QuickScores.com//BQ Dynamic iCal Creator//EN
METHOD:PUBLISH
X-WR-CALNAME:Molalla Reynolds - #10 Junior National - Spring 2026
X-WR-CALDESC:QuickScores game calendar
X-PUBLISHED-TTL:PT24H
REFRESH-INTERVAL;VALUE=DURATION:PT24H
CALSCALE:GREGORIAN
BEGIN:VTIMEZONE
TZID:America/Los_Angeles
X-LIC-LOCATION:America/Los_Angeles
BEGIN:DAYLIGHT
TZNAME:PDT
TZOFFSETFROM:-0800
TZOFFSETTO:-0700
DTSTART:19700308T020000
RRULE:FREQ=YEARLY;BYMONTH=3;BYDAY=2SU
END:DAYLIGHT
BEGIN:STANDARD
TZNAME:PST
TZOFFSETFROM:-0700
TZOFFSETTO:-0800
DTSTART:19701101T020000
RRULE:FREQ=YEARLY;BYMONTH=11;BYDAY=1SU
END:STANDARD
END:VTIMEZONE
BEGIN:VEVENT
UID:ccjba-74365731-20260504T180000@quickscores.com
DTSTAMP:20260422T171700Z
DTSTART;TZID=America/Los_Angeles:20260504T180000
DURATION:PT1H0M0S
SUMMARY:Molalla Reynolds vs. Canby Roberts
DESCRIPTION:#10 Junior National - Clackamas County Junior Baseball
LOCATION:TBD
CATEGORIES:QuickScores, Baseball Game
TRANSP:OPAQUE
BEGIN:VALARM
TRIGGER:-PT2H
ACTION:DISPLAY
DESCRIPTION:Molalla Reynolds vs. Canby Roberts
END:VALARM
END:VEVENT
BEGIN:VEVENT
UID:ccjba-74365735-20260506T180000@quickscores.com
DTSTAMP:20260422T171700Z
DTSTART;TZID=America/Los_Angeles:20260506T180000
DURATION:PT1H0M0S
SUMMARY:Molalla Reynolds vs. Oregon City Richmond
DESCRIPTION:#10 Junior National - Clackamas County Junior Baseball
LOCATION:TBD
CATEGORIES:QuickScores, Baseball Game
TRANSP:OPAQUE
BEGIN:VALARM
TRIGGER:-PT2H
ACTION:DISPLAY
DESCRIPTION:Molalla Reynolds vs. Oregon City Richmond
END:VALARM
END:VEVENT
BEGIN:VEVENT
UID:ccjba-74365738-20260511T180000@quickscores.com
DTSTAMP:20260422T171700Z
DTSTART;TZID=America/Los_Angeles:20260511T180000
DURATION:PT1H0M0S
SUMMARY:Estacada Zimmerman vs. Molalla Reynolds
DESCRIPTION:#10 Junior National - Clackamas County Junior Baseball
LOCATION:TBD
CATEGORIES:QuickScores, Baseball Game
TRANSP:OPAQUE
BEGIN:VALARM
TRIGGER:-PT2H
ACTION:DISPLAY
DESCRIPTION:Estacada Zimmerman vs. Molalla Reynolds
END:VALARM
END:VEVENT
BEGIN:VEVENT
UID:ccjba-74365741-20260513T180000@quickscores.com
DTSTAMP:20260422T171700Z
DTSTART;TZID=America/Los_Angeles:20260513T180000
DURATION:PT1H0M0S
SUMMARY:Oregon City Kemper vs. Molalla Reynolds
DESCRIPTION:#10 Junior National - Clackamas County Junior Baseball
LOCATION:TBD
CATEGORIES:QuickScores, Baseball Game
TRANSP:OPAQUE
BEGIN:VALARM
TRIGGER:-PT2H
ACTION:DISPLAY
DESCRIPTION:Oregon City Kemper vs. Molalla Reynolds
END:VALARM
END:VEVENT
BEGIN:VEVENT
UID:ccjba-74365747-20260518T180000@quickscores.com
DTSTAMP:20260422T171700Z
DTSTART;TZID=America/Los_Angeles:20260518T180000
DURATION:PT1H0M0S
SUMMARY:Molalla Reynolds vs. Gladstone Martin
DESCRIPTION:#10 Junior National - Clackamas County Junior Baseball
LOCATION:TBD
CATEGORIES:QuickScores, Baseball Game
TRANSP:OPAQUE
BEGIN:VALARM
TRIGGER:-PT2H
ACTION:DISPLAY
DESCRIPTION:Molalla Reynolds vs. Gladstone Martin
END:VALARM
END:VEVENT
BEGIN:VEVENT
UID:ccjba-74365752-20260520T180000@quickscores.com
DTSTAMP:20260422T171700Z
DTSTART;TZID=America/Los_Angeles:20260520T180000
DURATION:PT1H0M0S
SUMMARY:Oregon City Brant vs. Molalla Reynolds
DESCRIPTION:#10 Junior National - Clackamas County Junior Baseball
LOCATION:TBD
CATEGORIES:QuickScores, Baseball Game
TRANSP:OPAQUE
BEGIN:VALARM
TRIGGER:-PT2H
ACTION:DISPLAY
DESCRIPTION:Oregon City Brant vs. Molalla Reynolds
END:VALARM
END:VEVENT
BEGIN:VEVENT
UID:ccjba-74365756-20260527T180000@quickscores.com
DTSTAMP:20260422T171700Z
DTSTART;TZID=America/Los_Angeles:20260527T180000
DURATION:PT1H0M0S
SUMMARY:Molalla Reynolds vs. Milwaukie Robinson
DESCRIPTION:#10 Junior National - Clackamas County Junior Baseball
LOCATION:TBD
CATEGORIES:QuickScores, Baseball Game
TRANSP:OPAQUE
BEGIN:VALARM
TRIGGER:-PT2H
ACTION:DISPLAY
DESCRIPTION:Molalla Reynolds vs. Milwaukie Robinson
END:VALARM
END:VEVENT
BEGIN:VEVENT
UID:ccjba-74365759-20260601T180000@quickscores.com
DTSTAMP:20260422T171700Z
DTSTART;TZID=America/Los_Angeles:20260601T180000
DURATION:PT1H0M0S
SUMMARY:Canby Roberts vs. Molalla Reynolds
DESCRIPTION:#10 Junior National - Clackamas County Junior Baseball
LOCATION:TBD
CATEGORIES:QuickScores, Baseball Game
TRANSP:OPAQUE
BEGIN:VALARM
TRIGGER:-PT2H
ACTION:DISPLAY
DESCRIPTION:Canby Roberts vs. Molalla Reynolds
END:VALARM
END:VEVENT
BEGIN:VEVENT
UID:ccjba-74365764-20260603T180000@quickscores.com
DTSTAMP:20260422T171700Z
DTSTART;TZID=America/Los_Angeles:20260603T180000
DURATION:PT1H0M0S
SUMMARY:Molalla Reynolds vs. Oregon City Brant
DESCRIPTION:#10 Junior National - Clackamas County Junior Baseball
LOCATION:TBD
CATEGORIES:QuickScores, Baseball Game
TRANSP:OPAQUE
BEGIN:VALARM
TRIGGER:-PT2H
ACTION:DISPLAY
DESCRIPTION:Molalla Reynolds vs. Oregon City Brant
END:VALARM
END:VEVENT
BEGIN:VEVENT
UID:ccjba-74365766-20260608T180000@quickscores.com
DTSTAMP:20260422T171700Z
DTSTART;TZID=America/Los_Angeles:20260608T180000
DURATION:PT1H0M0S
SUMMARY:Molalla Reynolds vs. Estacada Zimmerman
DESCRIPTION:#10 Junior National - Clackamas County Junior Baseball
LOCATION:TBD
CATEGORIES:QuickScores, Baseball Game
TRANSP:OPAQUE
BEGIN:VALARM
TRIGGER:-PT2H
ACTION:DISPLAY
DESCRIPTION:Molalla Reynolds vs. Estacada Zimmerman
END:VALARM
END:VEVENT
BEGIN:VEVENT
UID:ccjba-74365772-20260610T180000@quickscores.com
DTSTAMP:20260422T171700Z
DTSTART;TZID=America/Los_Angeles:20260610T180000
DURATION:PT1H0M0S
SUMMARY:Molalla Reynolds vs. Oregon City Kemper
DESCRIPTION:#10 Junior National - Clackamas County Junior Baseball
LOCATION:TBD
CATEGORIES:QuickScores, Baseball Game
TRANSP:OPAQUE
BEGIN:VALARM
TRIGGER:-PT2H
ACTION:DISPLAY
DESCRIPTION:Molalla Reynolds vs. Oregon City Kemper
END:VALARM
END:VEVENT
BEGIN:VEVENT
UID:ccjba-74365775-20260615T180000@quickscores.com
DTSTAMP:20260422T171700Z
DTSTART;TZID=America/Los_Angeles:20260615T180000
DURATION:PT1H0M0S
SUMMARY:Gladstone Martin vs. Molalla Reynolds
DESCRIPTION:#10 Junior National - Clackamas County Junior Baseball
LOCATION:TBD
CATEGORIES:QuickScores, Baseball Game
TRANSP:OPAQUE
BEGIN:VALARM
TRIGGER:-PT2H
ACTION:DISPLAY
DESCRIPTION:Gladstone Martin vs. Molalla Reynolds
END:VALARM
END:VEVENT
BEGIN:VEVENT
UID:ccjba-74365777-20260617T180000@quickscores.com
DTSTAMP:20260422T171700Z
DTSTART;TZID=America/Los_Angeles:20260617T180000
DURATION:PT1H0M0S
SUMMARY:Oregon City Richmond vs. Molalla Reynolds
DESCRIPTION:#10 Junior National - Clackamas County Junior Baseball
LOCATION:TBD
CATEGORIES:QuickScores, Baseball Game
TRANSP:OPAQUE
BEGIN:VALARM
TRIGGER:-PT2H
ACTION:DISPLAY
DESCRIPTION:Oregon City Richmond vs. Molalla Reynolds
END:VALARM
END:VEVENT
BEGIN:VEVENT
UID:ccjba-74365784-20260622T180000@quickscores.com
DTSTAMP:20260422T171700Z
DTSTART;TZID=America/Los_Angeles:20260622T180000
DURATION:PT1H0M0S
SUMMARY:Milwaukie Robinson vs. Molalla Reynolds
DESCRIPTION:#10 Junior National - Clackamas County Junior Baseball
LOCATION:TBD
CATEGORIES:QuickScores, Baseball Game
TRANSP:OPAQUE
BEGIN:VALARM
TRIGGER:-PT2H
ACTION:DISPLAY
DESCRIPTION:Milwaukie Robinson vs. Molalla Reynolds
END:VALARM
END:VEVENT
BEGIN:VEVENT
UID:ccjba-74365786-20260624T180000@quickscores.com
DTSTAMP:20260422T171700Z
DTSTART;TZID=America/Los_Angeles:20260624T180000
DURATION:PT1H0M0S
SUMMARY:Molalla Reynolds vs. Oregon City Kemper
DESCRIPTION:#10 Junior National - Clackamas County Junior Baseball
LOCATION:TBD
CATEGORIES:QuickScores, Baseball Game
TRANSP:OPAQUE
BEGIN:VALARM
TRIGGER:-PT2H
ACTION:DISPLAY
DESCRIPTION:Molalla Reynolds vs. Oregon City Kemper
END:VALARM
END:VEVENT
BEGIN:VEVENT
UID:ccjba-74463324-20260705T180000@quickscores.com
DTSTAMP:20260422T171700Z
DTSTART;TZID=America/Los_Angeles:20260705T180000
DURATION:PT1H0M0S
SUMMARY:Gladstone Martin vs. Molalla Reynolds
DESCRIPTION:TBD Game - Needs to be scheduled --- #10 Junior National - Clackamas County Junior Baseball
LOCATION:TBD
CATEGORIES:QuickScores, Baseball Game
TRANSP:OPAQUE
BEGIN:VALARM
TRIGGER:-PT2H
ACTION:DISPLAY
DESCRIPTION:Gladstone Martin vs. Molalla Reynolds
END:VALARM
END:VEVENT
END:VCALENDAR
